Workbook
Name _2013plan: '2013'!$A$102:$A$160
Name _2013plan: Dug!$A$101:$A$159
Name _2014plan: '2014'!$A$102:$A$160
Name _2015plan: '2015'!$A$102:$A$160

Sheet Breakdown
E2: =+Master!G6 -> Crna Gora
E3: =+Master!G7 -> Ministarstvo finansija
E4: =+Master!G8 -> Direktorat za ekonomsku politiku i razvoj
D11: =+Master!G261 -> Prihodi za mjesec Jul | H11: =+Master!G265 -> Prihodi za period Januar - Jul
D12: =+'Analitika - 2015'!N10 -> 1.2747496e+08 | E12: =+D12/'2014'!T7 -> 0.037220269 | H12: =+'Analitika - 2015'!G10 -> 7.1530995e+08 | I12: =+H12/'2014'!T7 -> 0.20885694
D13: mil. € | E13: =+Master!G242 -> % BDP | H13: =+D13 -> mil. € | I13: =+E13 -> % BDP
D15: =+Master!G262 -> Rashodi za mjesec Jul | H15: =+Master!G266 -> Rashodi za period Januar - Jul
D16: =+'Analitika - 2015'!N30 -> 1.2507057e+08 | E16: =+D16/'2014'!T7 -> 0.036518234 | H16: =+'Analitika - 2015'!G30 -> 8.308372e+08 | I16: =+H16/'2014'!T7 -> 0.2425887
D17: =+D13 -> mil. € | E17: =+E13 -> % BDP | H17: =+D13 -> mil. € | I17: =+E13 -> % BDP
D19: =+Master!G263 -> Deficit za mjesec Jul | H19: =+Master!G267 -> Deficit za period Januar - Jul
D20: =+'Analitika - 2015'!N56 -> 2404385.3 | E20: =+D20/'2014'!T7 -> 0.00070203489 | H20: =+'Analitika - 2015'!G56 -> -1.1552725e+08 | I20: =+H20/'2015'!T7 -> -0.03226928
D21: =+D17 -> mil. € | E21: =+E17 -> % BDP | H21: =+D13 -> mil. € | I21: =+E13 -> % BDP
D22: =+Master!G269 -> Stanje javnog duga (% BDP)

Sheet Analitika - 2015
E2: =+Master!G6 -> Crna Gora
E3: =+Master!G7 -> Ministarstvo finansija
E4: =+Master!G8 -> Direktorat za ekonomsku politiku i razvoj
N6: =+IF(Master!B3-10>=0,CONCATENATE(Master!B4,"-",Master!B3),CONCATENATE(Master!B4,"-0",Master!B3)) -> 2015-07 | O6: =+CONCATENATE(N6,"p") -> 2015-07p | R6: =+IF(Master!B3-10>=0,CONCATENATE(Master!B4-1,"-",Master!B3),CONCATENATE(Master!B4-1,"-0",Master!B3)) -> 2014-07
B7: =+Master!G246 -> Analitika za period Jan - Jul | G7: =+Master!G238 -> Jan - Jul | N7: =+Master!G237 -> Jul
G8: =+Master!G18 -> Ostvarenje | H8: =+Master!G17 -> Plan | I8: =+Master!G252 -> Odstupanje | K8: =+CONCATENATE(Master!G238," ",Master!B4-1) -> Jan - Jul 2014 | L8: =+I8 -> Odstupanje | N8: =+G8 -> Ostvarenje | O8: =+H8 -> Plan | P8: =+I8 -> Odstupanje | R8: =+CONCATENATE(Master!G237," ",Master!B4-1) -> Jul 2014 | S8: =+P8 -> Odstupanje
G9: mil. € | H9: mil. € | I9: mil. € | J9: % | K9: mil. € | L9: mil. € | M9: % | N9: mil. € | O9: mil. € | P9: mil. € | Q9: % | R9: mil. € | S9: mil. € | T9: %
A10: 7 | B10: =+VLOOKUP($A10,Master!$D$22:$G$218,4,FALSE) -> Prihodi budžeta | G10: =+SUMPRODUCT(('2015'!$G10:$R10)*('2015'!$G$5:$R$5<=Master!$B$3)*($A10='2015'!$A$10:$A$66)) -> 7.1530995e+08 | H10: =+SUMPRODUCT(('2015'!$G105:$R105)*('2015'!$G$5:$R$5<=Master!$B$3)) -> 7.0403999e+08 | I10: =+G10-H10 -> 11269954 | J10: =+IF(ISNUMBER(G10/H10-1),G10/H10-1,"…") -> 0.016007548 | K10: =+SUMPRODUCT(('2014'!$G10:$R10)*('2014'!$G$5:$R$5<=Master!$B$3)) -> 6.9543879e+08 | L10: =+G10-K10 -> 19871162 | M10: =+IF(ISNUMBER(G10/K10-1),G10/K10-1,"…") -> 0.028573561 | N10: =+INDEX('2015'!$1:$1048576,MATCH('Analitika - 2015'!$A10,'2015'!$A:$A,0),MATCH('Analitika - 2015'!$N$6,'2015'!$6:$6,0)) -> 1.2747496e+08 | O10: =+INDEX('2015'!$1:$1048576,MATCH(CONCATENATE('Analitika - 2015'!$A10,"p"),'2015'!$A:$A,0),MATCH('Analitika - 2015'!$O$6,'2015'!$101:$101,0)) -> 1.2471798e+08 | P10: =+N10-O10 -> 2756980.3 | Q10: =+IF(ISNUMBER(N10/O10-1),N10/O10-1,"…") -> 0.022105717 | R10: =+INDEX('2014'!$1:$1048576,MATCH('Analitika - 2015'!$A10,'2014'!$A:$A,0),MATCH('Analitika - 2015'!$R$6,'2014'!$6:$6,0)) -> 1.2072024e+08 | S10: =+N10-R10 -> 6754719.4 | T10: =+IF(ISNUMBER(N10/R10-1),N10/R10-1,"…") -> 0.055953497
A11: 711 | B11: =+VLOOKUP($A11,Master!$D$22:$G$218,4,FALSE) -> Porezi | G11: =+SUMPRODUCT(('2015'!$G11:$R11)*('2015'!$G$5:$R$5<=Master!$B$3)*($A11='2015'!$A$10:$A$66)) -> 4.4365408e+08 | H11: =+SUMPRODUCT(('2015'!$G106:$R106)*('2015'!$G$5:$R$5<=Master!$B$3)) -> 4.5462667e+08 | I11: =+G11-H11 -> -10972593 | J11: =+IF(ISNUMBER(G11/H11-1),G11/H11-1,"…") -> -0.024135393 | K11: =+SUMPRODUCT(('2014'!$G11:$R11)*('2014'!$G$5:$R$5<=Master!$B$3)) -> 4.4029794e+08 | L11: =+G11-K11 -> 3356142.5 | M11: =+IF(ISNUMBER(G11/K11-1),G11/K11-1,"…") -> 0.0076224353 | N11: =+INDEX('2015'!$1:$1048576,MATCH('Analitika - 2015'!$A11,'2015'!$A:$A,0),MATCH('Analitika - 2015'!$N$6,'2015'!$6:$6,0)) -> 77525685 | O11: =+INDEX('2015'!$1:$1048576,MATCH(CONCATENATE('Analitika - 2015'!$A11,"p"),'2015'!$A:$A,0),MATCH('Analitika - 2015'!$O$6,'2015'!$101:$101,0)) -> 83389342 | P11: =+N11-O11 -> -5863656.8 | Q11: =+IF(ISNUMBER(N11/O11-1),N11/O11-1,"…") -> -0.070316622 | R11: =+INDEX('2014'!$1:$1048576,MATCH('Analitika - 2015'!$A11,'2014'!$A:$A,0),MATCH('Analitika - 2015'!$R$6,'2014'!$6:$6,0)) -> 79435217 | S11: =+N11-R11 -> -1909531.6 | T11: =+IF(ISNUMBER(N11/R11-1),N11/R11-1,"…") -> -0.024038854
A12: 7111 | B12: =+VLOOKUP($A12,Master!$D$22:$G$218,4,FALSE) -> Porez na dohodak fizičkih lica | G12: =+SUMPRODUCT(('2015'!$G12:$R12)*('2015'!$G$5:$R$5<=Master!$B$3)*($A12='2015'!$A$10:$A$66)) -> 48717184 | H12: =+SUMPRODUCT(('2015'!$G107:$R107)*('2015'!$G$5:$R$5<=Master!$B$3)) -> 55033455 | I12: =+G12-H12 -> -6316271.4 | J12: =+IF(ISNUMBER(G12/H12-1),G12/H12-1,"…") -> -0.11477149 | K12: =+SUMPRODUCT(('2014'!$G12:$R12)*('2014'!$G$5:$R$5<=Master!$B$3)) -> 53142750 | L12: =+G12-K12 -> -4425566.2 | M12: =+IF(ISNUMBER(G12/K12-1),G12/K12-1,"…") -> -0.083276951 | N12: =+INDEX('2015'!$1:$1048576,MATCH('Analitika - 2015'!$A12,'2015'!$A:$A,0),MATCH('Analitika - 2015'!$N$6,'2015'!$6:$6,0)) -> 8602485.7 | O12: =+INDEX('2015'!$1:$1048576,MATCH(CONCATENATE('Analitika - 2015'!$A12,"p"),'2015'!$A:$A,0),MATCH('Analitika - 2015'!$O$6,'2015'!$101:$101,0)) -> 9046366.1 | P12: =+N12-O12 -> -443880.4 | Q12: =+IF(ISNUMBER(N12/O12-1),N12/O12-1,"…") -> -0.04906726 | R12: =+INDEX('2014'!$1:$1048576,MATCH('Analitika - 2015'!$A12,'2014'!$A:$A,0),MATCH('Analitika - 2015'!$R$6,'2014'!$6:$6,0)) -> 8846190.8 | S12: =+N12-R12 -> -243705.17 | T12: =+IF(ISNUMBER(N12/R12-1),N12/R12-1,"…") -> -0.027549165
A13: 7112 | B13: =+VLOOKUP($A13,Master!$D$22:$G$218,4,FALSE) -> Porez na dobit pravnih lica | G13: =+SUMPRODUCT(('2015'!$G13:$R13)*('2015'!$G$5:$R$5<=Master!$B$3)*($A13='2015'!$A$10:$A$66)) -> 35612718 | H13: =+SUMPRODUCT(('2015'!$G108:$R108)*('2015'!$G$5:$R$5<=Master!$B$3)) -> 37383491 | I13: =+G13-H13 -> -1770773.2 | J13: =+IF(ISNUMBER(G13/H13-1),G13/H13-1,"…") -> -0.047367786 | K13: =+SUMPRODUCT(('2014'!$G13:$R13)*('2014'!$G$5:$R$5<=Master!$B$3)) -> 36702433 | L13: =+G13-K13 -> -1089715.1 | M13: =+IF(ISNUMBER(G13/K13-1),G13/K13-1,"…") -> -0.029690542 | N13: =+INDEX('2015'!$1:$1048576,MATCH('Analitika - 2015'!$A13,'2015'!$A:$A,0),MATCH('Analitika - 2015'!$N$6,'2015'!$6:$6,0)) -> 2969829 | O13: =+INDEX('2015'!$1:$1048576,MATCH(CONCATENATE('Analitika - 2015'!$A13,"p"),'2015'!$A:$A,0),MATCH('Analitika - 2015'!$O$6,'2015'!$101:$101,0)) -> 5395660.8 | P13: =+N13-O13 -> -2425831.8 | Q13: =+IF(ISNUMBER(N13/O13-1),N13/O13-1,"…") -> -0.44958937 | R13: =+INDEX('2014'!$1:$1048576,MATCH('Analitika - 2015'!$A13,'2014'!$A:$A,0),MATCH('Analitika - 2015'!$R$6,'2014'!$6:$6,0)) -> 5915301.1 | S13: =+N13-R13 -> -2945472 | T13: =+IF(ISNUMBER(N13/R13-1),N13/R13-1,"…") -> -0.49794119
A14: 7113 | B14: =+VLOOKUP($A14,Master!$D$22:$G$218,4,FALSE) -> Porez na promet nepokretnosti | G14: =+SUMPRODUCT(('2015'!$G14:$R14)*('2015'!$G$5:$R$5<=Master!$B$3)*($A14='2015'!$A$10:$A$66)) -> 742642.81 | H14: =+SUMPRODUCT(('2015'!$G109:$R109)*('2015'!$G$5:$R$5<=Master!$B$3)) -> 871191.38 | I14: =+G14-H14 -> -128548.57 | J14: =+IF(ISNUMBER(G14/H14-1),G14/H14-1,"…") -> -0.14755491 | K14: =+SUMPRODUCT(('2014'!$G14:$R14)*('2014'!$G$5:$R$5<=Master!$B$3)) -> 857982.68 | L14: =+G14-K14 -> -115339.87 | M14: =+IF(ISNUMBER(G14/K14-1),G14/K14-1,"…") -> -0.13443147 | N14: =+INDEX('2015'!$1:$1048576,MATCH('Analitika - 2015'!$A14,'2015'!$A:$A,0),MATCH('Analitika - 2015'!$N$6,'2015'!$6:$6,0)) -> 107539.78 | O14: =+INDEX('2015'!$1:$1048576,MATCH(CONCATENATE('Analitika - 2015'!$A14,"p"),'2015'!$A:$A,0),MATCH('Analitika - 2015'!$O$6,'2015'!$101:$101,0)) -> 140720.55 | P14: =+N14-O14 -> -33180.77 | Q14: =+IF(ISNUMBER(N14/O14-1),N14/O14-1,"…") -> -0.23579193 | R14: =+INDEX('2014'!$1:$1048576,MATCH('Analitika - 2015'!$A14,'2014'!$A:$A,0),MATCH('Analitika - 2015'!$R$6,'2014'!$6:$6,0)) -> 137366.94 | S14: =+N14-R14 -> -29827.16 | T14: =+IF(ISNUMBER(N14/R14-1),N14/R14-1,"…") -> -0.21713492
A15: 7114 | B15: =+VLOOKUP($A15,Master!$D$22:$G$218,4,FALSE) -> Porez na dodatu vrijednost | G15: =+SUMPRODUCT(('2015'!$G15:$R15)*('2015'!$G$5:$R$5<=Master!$B$3)*($A15='2015'!$A$10:$A$66)) -> 2.556705e+08 | H15: =+SUMPRODUCT(('2015'!$G110:$R110)*('2015'!$G$5:$R$5<=Master!$B$3)) -> 2.591331e+08 | I15: =+G15-H15 -> -3462595.9 | J15: =+IF(ISNUMBER(G15/H15-1),G15/H15-1,"…") -> -0.013362229 | K15: =+SUMPRODUCT(('2014'!$G15:$R15)*('2014'!$G$5:$R$5<=Master!$B$3)) -> 2.5302167e+08 | L15: =+G15-K15 -> 2648831.5 | M15: =+IF(ISNUMBER(G15/K15-1),G15/K15-1,"…") -> 0.010468793 | N15: =+INDEX('2015'!$1:$1048576,MATCH('Analitika - 2015'!$A15,'2015'!$A:$A,0),MATCH('Analitika - 2015'!$N$6,'2015'!$6:$6,0)) -> 45939445 | O15: =+INDEX('2015'!$1:$1048576,MATCH(CONCATENATE('Analitika - 2015'!$A15,"p"),'2015'!$A:$A,0),MATCH('Analitika - 2015'!$O$6,'2015'!$101:$101,0)) -> 48690602 | P15: =+N15-O15 -> -2751156.9 | Q15: =+IF(ISNUMBER(N15/O15-1),N15/O15-1,"…") -> -0.056502833 | R15: =+INDEX('2014'!$1:$1048576,MATCH('Analitika - 2015'!$A15,'2014'!$A:$A,0),MATCH('Analitika - 2015'!$R$6,'2014'!$6:$6,0)) -> 45610499 | S15: =+N15-R15 -> 328945.68 | T15: =+IF(ISNUMBER(N15/R15-1),N15/R15-1,"…") -> 0.0072120605
A16: 7115 | B16: =+VLOOKUP($A16,Master!$D$22:$G$218,4,FALSE) -> Akcize | G16: =+SUMPRODUCT(('2015'!$G16:$R16)*('2015'!$G$5:$R$5<=Master!$B$3)*($A16='2015'!$A$10:$A$66)) -> 86710027 | H16: =+SUMPRODUCT(('2015'!$G111:$R111)*('2015'!$G$5:$R$5<=Master!$B$3)) -> 86306217 | I16: =+G16-H16 -> 403809.86 | J16: =+IF(ISNUMBER(G16/H16-1),G16/H16-1,"…") -> 0.0046788038 | K16: =+SUMPRODUCT(('2014'!$G16:$R16)*('2014'!$G$5:$R$5<=Master!$B$3)) -> 81021635 | L16: =+G16-K16 -> 5688392.2 | M16: =+IF(ISNUMBER(G16/K16-1),G16/K16-1,"…") -> 0.070208312 | N16: =+INDEX('2015'!$1:$1048576,MATCH('Analitika - 2015'!$A16,'2015'!$A:$A,0),MATCH('Analitika - 2015'!$N$6,'2015'!$6:$6,0)) -> 16782489 | O16: =+INDEX('2015'!$1:$1048576,MATCH(CONCATENATE('Analitika - 2015'!$A16,"p"),'2015'!$A:$A,0),MATCH('Analitika - 2015'!$O$6,'2015'!$101:$101,0)) -> 16918855 | P16: =+N16-O16 -> -136365.87 | Q16: =+IF(ISNUMBER(N16/O16-1),N16/O16-1,"…") -> -0.0080599939 | R16: =+INDEX('2014'!$1:$1048576,MATCH('Analitika - 2015'!$A16,'2014'!$A:$A,0),MATCH('Analitika - 2015'!$R$6,'2014'!$6:$6,0)) -> 15754067 | S16: =+N16-R16 -> 1028421.7 | T16: =+IF(ISNUMBER(N16/R16-1),N16/R16-1,"…") -> 0.065279755
A17: 7116 | B17: =+VLOOKUP($A17,Master!$D$22:$G$218,4,FALSE) -> Porez na međunarodnu trgovinu i transakcije | G17: =+SUMPRODUCT(('2015'!$G17:$R17)*('2015'!$G$5:$R$5<=Master!$B$3)*($A17='2015'!$A$10:$A$66)) -> 12569448 | H17: =+SUMPRODUCT(('2015'!$G112:$R112)*('2015'!$G$5:$R$5<=Master!$B$3)) -> 12769997 | I17: =+G17-H17 -> -200549.45 | J17: =+IF(ISNUMBER(G17/H17-1),G17/H17-1,"…") -> -0.015704737 | K17: =+SUMPRODUCT(('2014'!$G17:$R17)*('2014'!$G$5:$R$5<=Master!$B$3)) -> 12324125 | L17: =+G17-K17 -> 245322.98 | M17: =+IF(ISNUMBER(G17/K17-1),G17/K17-1,"…") -> 0.019905915 | N17: =+INDEX('2015'!$1:$1048576,MATCH('Analitika - 2015'!$A17,'2015'!$A:$A,0),MATCH('Analitika - 2015'!$N$6,'2015'!$6:$6,0)) -> 2390343.2 | O17: =+INDEX('2015'!$1:$1048576,MATCH(CONCATENATE('Analitika - 2015'!$A17,"p"),'2015'!$A:$A,0),MATCH('Analitika - 2015'!$O$6,'2015'!$101:$101,0)) -> 2614239.4 | P17: =+N17-O17 -> -223896.18 | Q17: =+IF(ISNUMBER(N17/O17-1),N17/O17-1,"…") -> -0.085644864 | R17: =+INDEX('2014'!$1:$1048576,MATCH('Analitika - 2015'!$A17,'2014'!$A:$A,0),MATCH('Analitika - 2015'!$R$6,'2014'!$6:$6,0)) -> 2584330.9 | S17: =+N17-R17 -> -193987.7 | T17: =+IF(ISNUMBER(N17/R17-1),N17/R17-1,"…") -> -0.075063027
A18: 7117 | B18: =+VLOOKUP($A18,Master!$D$22:$G$218,4,FALSE) -> Lokalni porezi | G18: =+SUMPRODUCT(('2015'!$G18:$R18)*('2015'!$G$5:$R$5<=Master!$B$3)*($A18='2015'!$A$10:$A$66)) -> 0 | H18: =+SUMPRODUCT(('2015'!$G113:$R113)*('2015'!$G$5:$R$5<=Master!$B$3)) -> 0 | I18: =+G18-H18 -> 0 | J18: =+IF(ISNUMBER(G18/H18-1),G18/H18-1,"…") -> … | K18: =+SUMPRODUCT(('2014'!$G18:$R18)*('2014'!$G$5:$R$5<=Master!$B$3)) -> 0 | L18: =+G18-K18 -> 0 | M18: =+IF(ISNUMBER(G18/K18-1),G18/K18-1,"…") -> … | N18: =+INDEX('2015'!$1:$1048576,MATCH('Analitika - 2015'!$A18,'2015'!$A:$A,0),MATCH('Analitika - 2015'!$N$6,'2015'!$6:$6,0)) -> 0 | O18: =+INDEX('2015'!$1:$1048576,MATCH(CONCATENATE('Analitika - 2015'!$A18,"p"),'2015'!$A:$A,0),MATCH('Analitika - 2015'!$O$6,'2015'!$101:$101,0)) -> 0 | P18: =+N18-O18 -> 0 | Q18: =+IF(ISNUMBER(N18/O18-1),N18/O18-1,"…") -> … | R18: =+INDEX('2014'!$1:$1048576,MATCH('Analitika - 2015'!$A18,'2014'!$A:$A,0),MATCH('Analitika - 2015'!$R$6,'2014'!$6:$6,0)) -> 0 | S18: =+N18-R18 -> 0 | T18: =+IF(ISNUMBER(N18/R18-1),N18/R18-1,"…") -> …
A19: 7118 | B19: =+VLOOKUP($A19,Master!$D$22:$G$218,4,FALSE) -> Ostali republički porezi | G19: =+SUMPRODUCT(('2015'!$G19:$R19)*('2015'!$G$5:$R$5<=Master!$B$3)*($A19='2015'!$A$10:$A$66)) -> 3631555.8 | H19: =+SUMPRODUCT(('2015'!$G114:$R114)*('2015'!$G$5:$R$5<=Master!$B$3)) -> 3129220.3 | I19: =+G19-H19 -> 502335.45 | J19: =+IF(ISNUMBER(G19/H19-1),G19/H19-1,"…") -> 0.16053055 | K19: =+SUMPRODUCT(('2014'!$G19:$R19)*('2014'!$G$5:$R$5<=Master!$B$3)) -> 3227338.7 | L19: =+G19-K19 -> 404217.03 | M19: =+IF(ISNUMBER(G19/K19-1),G19/K19-1,"…") -> 0.12524779 | N19: =+INDEX('2015'!$1:$1048576,MATCH('Analitika - 2015'!$A19,'2015'!$A:$A,0),MATCH('Analitika - 2015'!$N$6,'2015'!$6:$6,0)) -> 733553.89 | O19: =+INDEX('2015'!$1:$1048576,MATCH(CONCATENATE('Analitika - 2015'!$A19,"p"),'2015'!$A:$A,0),MATCH('Analitika - 2015'!$O$6,'2015'!$101:$101,0)) -> 582898.83 | P19: =+N19-O19 -> 150655.06 | Q19: =+IF(ISNUMBER(N19/O19-1),N19/O19-1,"…") -> 0.25845833 | R19: =+INDEX('2014'!$1:$1048576,MATCH('Analitika - 2015'!$A19,'2014'!$A:$A,0),MATCH('Analitika - 2015'!$R$6,'2014'!$6:$6,0)) -> 587460.77 | S19: =+N19-R19 -> 146093.12 | T19: =+IF(ISNUMBER(N19/R19-1),N19/R19-1,"…") -> 0.24868575
A20: 712 | B20: =+VLOOKUP($A20,Master!$D$22:$G$218,4,FALSE) -> Doprinosi | G20: =+SUMPRODUCT(('2015'!$G20:$R20)*('2015'!$G$5:$R$5<=Master!$B$3)*($A20='2015'!$A$10:$A$66)) -> 2.2976936e+08 | H20: =+SUMPRODUCT(('2015'!$G115:$R115)*('2015'!$G$5:$R$5<=Master!$B$3)) -> 2.0746841e+08 | I20: =+G20-H20 -> 22300950 | J20: =+IF(ISNUMBER(G20/H20-1),G20/H20-1,"…") -> 0.10749083 | K20: =+SUMPRODUCT(('2014'!$G20:$R20)*('2014'!$G$5:$R$5<=Master!$B$3)) -> 2.1652746e+08 | L20: =+G20-K20 -> 13241896 | M20: =+IF(ISNUMBER(G20/K20-1),G20/K20-1,"…") -> 0.061155734 | N20: =+INDEX('2015'!$1:$1048576,MATCH('Analitika - 2015'!$A20,'2015'!$A:$A,0),MATCH('Analitika - 2015'!$N$6,'2015'!$6:$6,0)) -> 41869300 | O20: =+INDEX('2015'!$1:$1048576,MATCH(CONCATENATE('Analitika - 2015'!$A20,"p"),'2015'!$A:$A,0),MATCH('Analitika - 2015'!$O$6,'2015'!$101:$101,0)) -> 34214609 | P20: =+N20-O20 -> 7654691.4 | Q20: =+IF(ISNUMBER(N20/O20-1),N20/O20-1,"…") -> 0.22372582 | R20: =+INDEX('2014'!$1:$1048576,MATCH('Analitika - 2015'!$A20,'2014'!$A:$A,0),MATCH('Analitika - 2015'!$R$6,'2014'!$6:$6,0)) -> 35671054 | S20: =+N20-R20 -> 6198246.4 | T20: =+IF(ISNUMBER(N20/R20-1),N20/R20-1,"…") -> 0.17376123
A21: 7121 | B21: =+VLOOKUP($A21,Master!$D$22:$G$218,4,FALSE) -> Doprinosi za penzijsko i invalidsko osiguranje | G21: =+SUMPRODUCT(('2015'!$G21:$R21)*('2015'!$G$5:$R$5<=Master!$B$3)*($A21='2015'!$A$10:$A$66)) -> 1.385756e+08 | H21: =+SUMPRODUCT(('2015'!$G116:$R116)*('2015'!$G$5:$R$5<=Master!$B$3)) -> 1.2340141e+08 | I21: =+G21-H21 -> 15174185 | J21: =+IF(ISNUMBER(G21/H21-1),G21/H21-1,"…") -> 0.12296606 | K21: =+SUMPRODUCT(('2014'!$G21:$R21)*('2014'!$G$5:$R$5<=Master!$B$3)) -> 1.3249907e+08 | L21: =+G21-K21 -> 6076529.9 | M21: =+IF(ISNUMBER(G21/K21-1),G21/K21-1,"…") -> 0.045860926 | N21: =+INDEX('2015'!$1:$1048576,MATCH('Analitika - 2015'!$A21,'2015'!$A:$A,0),MATCH('Analitika - 2015'!$N$6,'2015'!$6:$6,0)) -> 25263471 | O21: =+INDEX('2015'!$1:$1048576,MATCH(CONCATENATE('Analitika - 2015'!$A21,"p"),'2015'!$A:$A,0),MATCH('Analitika - 2015'!$O$6,'2015'!$101:$101,0)) -> 20397161 | P21: =+N21-O21 -> 4866310.1 | Q21: =+IF(ISNUMBER(N21/O21-1),N21/O21-1,"…") -> 0.23857781 | R21: =+INDEX('2014'!$1:$1048576,MATCH('Analitika - 2015'!$A21,'2014'!$A:$A,0),MATCH('Analitika - 2015'!$R$6,'2014'!$6:$6,0)) -> 21915813 | S21: =+N21-R21 -> 3347658.2 | T21: =+IF(ISNUMBER(N21/R21-1),N21/R21-1,"…") -> 0.15275081
... A53: 462 | B53: =+VLOOKUP($A53,Master!$D$22:$G$218,4,FALSE) -> Otplata garancija | G53: =+SUMPRODUCT(('2015'!$G53:$R53)*('2015'!$G$5:$R$5<=Master!$B$3)*($A53='2015'!$A$10:$A$66)) -> 0 | H53: =+SUMPRODUCT(('2015'!$G148:$R148)*('2015'!$G$5:$R$5<=Master!$B$3)) -> 0 | I53: =+G53-H53 -> 0 | J53: =+IF(ISNUMBER(G53/H53-1),G53/H53-1,"…") -> … | K53: =+SUMPRODUCT(('2014'!$G53:$R53)*('2014'!$G$5:$R$5<=Master!$B$3)) -> 9682767.1 | L53: =+G53-K53 -> -9682767.1 | M53: =+IF(ISNUMBER(G53/K53-1),G53/K53-1,"…") -> -1 | N53: =+INDEX('2015'!$1:$1048576,MATCH('Analitika - 2015'!$A53,'2015'!$A:$A,0),MATCH('Analitika - 2015'!$N$6,'2015'!$6:$6,0)) -> 0 | O53: =+INDEX('2015'!$1:$1048576,MATCH(CONCATENATE('Analitika - 2015'!$A53,"p"),'2015'!$A:$A,0),MATCH('Analitika - 2015'!$O$6,'2015'!$101:$101,0)) -> 0 | P53: =+N53-O53 -> 0 | Q53: =+IF(ISNUMBER(N53/O53-1),N53/O53-1,"…") -> … | R53: =+INDEX('2014'!$1:$1048576,MATCH('Analitika - 2015'!$A53,'2014'!$A:$A,0),MATCH('Analitika - 2015'!$R$6,'2014'!$6:$6,0)) -> 0 | S53: =+N53-R53 -> 0 | T53: =+IF(ISNUMBER(N53/R53-1),N53/R53-1,"…") -> …
A54: 4630 | B54: =+VLOOKUP($A54,Master!$D$22:$G$218,4,FALSE) -> Otplata obaveza iz prethodnih godina | G54: =+SUMPRODUCT(('2015'!$G54:$R54)*('2015'!$G$5:$R$5<=Master!$B$3)*($A54='2015'!$A$10:$A$66)) -> 50992961 | H54: 0 | I54: =+G54-H54 -> 50992961 | J54: =+IF(ISNUMBER(G54/H54-1),G54/H54-1,"…") -> … | K54: =+SUMPRODUCT(('2014'!$G54:$R54)*('2014'!$G$5:$R$5<=Master!$B$3)) -> 29929767 | L54: =+G54-K54 -> 21063194 | M54: =+IF(ISNUMBER(G54/K54-1),G54/K54-1,"…") -> 0.70375405 | N54: =+INDEX('2015'!$1:$1048576,MATCH('Analitika - 2015'!$A54,'2015'!$A:$A,0),MATCH('Analitika - 2015'!$N$6,'2015'!$6:$6,0)) -> 11577993 | O54: =+INDEX('2015'!$1:$1048576,MATCH(CONCATENATE('Analitika - 2015'!$A54,"p"),'2015'!$A:$A,0),MATCH('Analitika - 2015'!$O$6,'2015'!$101:$101,0)) -> 2817590 | P54: =+N54-O54 -> 8760402.7 | Q54: =+IF(ISNUMBER(N54/O54-O592),N54/O54-1,"…") -> 3.1091829 | R54: =+INDEX('2014'!$1:$1048576,MATCH('Analitika - 2015'!$A54,'2014'!$A:$A,0),MATCH('Analitika - 2015'!$R$6,'2014'!$6:$6,0)) -> 10716449 | S54: =+N54-R54 -> 861543.64 | T54: =+IF(ISNUMBER(N54/R54-1),N54/R54-1,"…") -> 0.080394507
A55: 1005 | B55: =+VLOOKUP($A55,Master!$D$22:$G$220,4,FALSE) -> Neto povećanje obaveza | G55: =+SUMPRODUCT(('2015'!$G55:$R55)*('2015'!$G$5:$R$5<=Master!$B$3)*($A55='2015'!$A$10:$A$66)) -> 0 | H55: 0 | I55: =+G55-H55 -> 0 | J55: =+IF(ISNUMBER(G55/H55-1),G55/H55-1,"…") -> … | K55: =+SUMPRODUCT(('2014'!$G55:$R55)*('2014'!$G$5:$R$5<=Master!$B$3)) -> 0 | L55: =+G55-K55 -> 0 | M55: =+IF(ISNUMBER(G55/K55-1),G55/K55-1,"…") -> … | N55: =+INDEX('2015'!$1:$1048576,MATCH('Analitika - 2015'!$A55,'2015'!$A:$A,0),MATCH('Analitika - 2015'!$N$6,'2015'!$6:$6,0)) -> 0 | O55: 0 | P55: =+N55-O55 -> 0 | Q55: =+IF(ISNUMBER(N55/O55-O593),N55/O55-1,"…") -> … | R55: =+INDEX('2014'!$1:$1048576,MATCH('Analitika - 2015'!$A55,'2014'!$A:$A,0),MATCH('Analitika - 2015'!$R$6,'2014'!$6:$6,0)) -> 0 | S55: =+N55-R55 -> 0 | T55: =+IF(ISNUMBER(N55/R55-1),N55/R55-1,"…") -> …
A56: 1000 | B56: =+VLOOKUP($A56,Master!$D$22:$G$218,4,FALSE) -> Suficit / deficit | G56: =+SUMPRODUCT(('2015'!$G56:$R56)*('2015'!$G$5:$R$5<=Master!$B$3)*($A56='2015'!$A$10:$A$66)) -> -1.1552725e+08 | H56: =+SUMPRODUCT(('2015'!$G149:$R149)*('2015'!$G$5:$R$5<=Master!$B$3)) -> -2.0885848e+08 | I56: =+G56-H56 -> 93331234 | J56: =+IF(ISNUMBER(G56/H56-1),G56/H56-1,"…") -> -0.44686351 | K56: =+SUMPRODUCT(('2014'!$G56:$R56)*('2014'!$G$5:$R$5<=Master!$B$3)) -> -75853509 | L56: =+G56-K56 -> -39673740 | M56: =+IF(ISNUMBER(G56/K56-1),G56/K56-1,"…") -> 0.52303104 | N56: =+INDEX('2015'!$1:$1048576,MATCH('Analitika - 2015'!$A56,'2015'!$A:$A,0),MATCH('Analitika - 2015'!$N$6,'2015'!$6:$6,0)) -> 2404385.3 | O56: =+INDEX('2015'!$1:$1048576,MATCH(CONCATENATE('Analitika - 2015'!$A56,"p"),'2015'!$A:$A,0),MATCH('Analitika - 2015'!$O$6,'2015'!$101:$101,0)) -> -5696092.9 | P56: =+N56-O56 -> 8100478.1 | Q56: =+IF(ISNUMBER(N56/O56-1),N56/O56-1,"…") -> -1.4221113 | R56: =+INDEX('2014'!$1:$1048576,MATCH('Analitika - 2015'!$A56,'2014'!$A:$A,0),MATCH('Analitika - 2015'!$R$6,'2014'!$6:$6,0)) -> 2502365 | S56: =+N56-R56 -> -97979.76 | T56: =+IF(ISNUMBER(N56/R56-1),N56/R56-1,"…") -> -0.039154863
A57: 1001 | B57: =+VLOOKUP($A57,Master!$D$22:$G$218,4,FALSE) -> Primarni bilans | G57: =+SUMPRODUCT(('2015'!$G57:$R57)*('2015'!$G$5:$R$5<=Master!$B$3)*($A57='2015'!$A$10:$A$66)) -> -60840130 | H57: =+SUMPRODUCT(('2015'!$G150:$R150)*('2015'!$G$5:$R$5<=Master!$B$3)) -> -1.6466172e+08 | I57: =+G57-H57 -> 1.0382159e+08 | J57: =+IF(ISNUMBER(G57/H57-1),G57/H57-1,"…") -> -0.63051442 | K57: =+SUMPRODUCT(('2014'!$G57:$R57)*('2014'!$G$5:$R$5<=Master!$B$3)) -> -26397764 | L57: =+G57-K57 -> -34442366 | M57: =+IF(ISNUMBER(G57/K57-1),G57/K57-1,"…") -> 1.3047456 | N57: =+INDEX('2015'!$1:$1048576,MATCH('Analitika - 2015'!$A57,'2015'!$A:$A,0),MATCH('Analitika - 2015'!$N$6,'2015'!$6:$6,0)) -> 7509324.5 | O57: =+INDEX('2015'!$1:$1048576,MATCH(CONCATENATE('Analitika - 2015'!$A57,"p"),'2015'!$A:$A,0),MATCH('Analitika - 2015'!$O$6,'2015'!$101:$101,0)) -> 617730.8 | P57: =+N57-O57 -> 6891593.7 | Q57: =+IF(ISNUMBER(N57/O57-1),N57/O57-1,"…") -> 11.156306 | R57: =+INDEX('2014'!$1:$1048576,MATCH('Analitika - 2015'!$A57,'2014'!$A:$A,0),MATCH('Analitika - 2015'!$R$6,'2014'!$6:$6,0)) -> 8913270.9 | S57: =+N57-R57 -> -1403946.5 | T57: =+IF(ISNUMBER(N57/R57-1),N57/R57-1,"…") -> -0.15751193
A58: 46 | B58: =+VLOOKUP($A58,Master!$D$22:$G$218,4,FALSE) -> Otplata dugova | G58: =+SUMPRODUCT(('2015'!$G58:$R58)*('2015'!$G$5:$R$5<=Master!$B$3)*($A58='2015'!$A$10:$A$66)) -> 1.7660418e+08 | H58: =+SUMPRODUCT(('2015'!$G151:$R151)*('2015'!$G$5:$R$5<=Master!$B$3)) -> 2.3233705e+08 | I58: =+G58-H58 -> -55732873 | J58: =+IF(ISNUMBER(G58/H58-1),G58/H58-1,"…") -> -0.2398794 | K58: =+SUMPRODUCT(('2014'!$G58:$R58)*('2014'!$G$5:$R$5<=Master!$B$3)) -> 1.4379759e+08 | L58: =+G58-K58 -> 32806582 | M58: =+IF(ISNUMBER(G58/K58-1),G58/K58-1,"…") -> 0.22814416 | N58: =+INDEX('2015'!$1:$1048576,MATCH('Analitika - 2015'!$A58,'2015'!$A:$A,0),MATCH('Analitika - 2015'!$N$6,'2015'!$6:$6,0)) -> 47031347 | O58: =+INDEX('2015'!$1:$1048576,MATCH(CONCATENATE('Analitika - 2015'!$A58,"p"),'2015'!$A:$A,0),MATCH('Analitika - 2015'!$O$6,'2015'!$101:$101,0)) -> 33191007 | P58: =+N58-O58 -> 13840340 | Q58: =+IF(ISNUMBER(N58/O58-1),N58/O58-1,"…") -> 0.41699067 | R58: =+INDEX('2014'!$1:$1048576,MATCH('Analitika - 2015'!$A58,'2014'!$A:$A,0),MATCH('Analitika - 2015'!$R$6,'2014'!$6:$6,0)) -> 31417546 | S58: =+N58-R58 -> 15613801 | T58: =+IF(ISNUMBER(N58/R58-1),N58/R58-1,"…") -> 0.49697711
A59: 4611 | B59: =+VLOOKUP($A59,Master!$D$22:$G$218,4,FALSE) -> Otplata hartija od vrijednosti i kredita rezidentima | G59: =+SUMPRODUCT(('2015'!$G59:$R59)*('2015'!$G$5:$R$5<=Master!$B$3)*($A59='2015'!$A$10:$A$66)) -> 60528962 | H59: =+SUMPRODUCT(('2015'!$G152:$R152)*('2015'!$G$5:$R$5<=Master!$B$3)) -> 27247571 | I59: =+G59-H59 -> 33281391 | J59: =+IF(ISNUMBER(G59/H59-1),G59/H59-1,"…") -> 1.2214443 | K59: =+SUMPRODUCT(('2014'!$G59:$R59)*('2014'!$G$5:$R$5<=Master!$B$3)) -> 69270366 | L59: =+G59-K59 -> -8741404.1 | M59: =+IF(ISNUMBER(G59/K59-1),G59/K59-1,"…") -> -0.12619255 | N59: =+INDEX('2015'!$1:$1048576,MATCH('Analitika - 2015'!$A59,'2015'!$A:$A,0),MATCH('Analitika - 2015'!$N$6,'2015'!$6:$6,0)) -> 22397928 | O59: =+INDEX('2015'!$1:$1048576,MATCH(CONCATENATE('Analitika - 2015'!$A59,"p"),'2015'!$A:$A,0),MATCH('Analitika - 2015'!$O$6,'2015'!$101:$101,0)) -> 3892510.2 | P59: =+N59-O59 -> 18505418 | Q59: =+IF(ISNUMBER(N59/O59-1),N59/O59-1,"…") -> 4.7541092 | R59: =+INDEX('2014'!$1:$1048576,MATCH('Analitika - 2015'!$A59,'2014'!$A:$A,0),MATCH('Analitika - 2015'!$R$6,'2014'!$6:$6,0)) -> 17351337 | S59: =+N59-R59 -> 5046591.5 | T59: =+IF(ISNUMBER(N59/R59-1),N59/R59-1,"…") -> 0.29084742
A60: 4612 | B60: =+VLOOKUP($A60,Master!$D$22:$G$218,4,FALSE) -> Otplata hartija od vrijednosti i kredita nerezidentima | G60: =+SUMPRODUCT(('2015'!$G60:$R60)*('2015'!$G$5:$R$5<=Master!$B$3)*($A60='2015'!$A$10:$A$66)) -> 1.1607521e+08 | H60: =+SUMPRODUCT(('2015'!$G153:$R153)*('2015'!$G$5:$R$5<=Master!$B$3)) -> 1.8536635e+08 | I60: =+G60-H60 -> -69291134 | J60: =+IF(ISNUMBER(G60/H60-1),G60/H60-1,"…") -> -0.37380643 | K60: =+SUMPRODUCT(('2014'!$G60:$R60)*('2014'!$G$5:$R$5<=Master!$B$3)) -> 74527228 | L60: =+G60-K60 -> 41547986 | M60: =+IF(ISNUMBER(G60/K60-1),G60/K60-1,"…") -> 0.55748734 | N60: =+INDEX('2015'!$1:$1048576,MATCH('Analitika - 2015'!$A60,'2015'!$A:$A,0),MATCH('Analitika - 2015'!$N$6,'2015'!$6:$6,0)) -> 24633419 | O60: =+INDEX('2015'!$1:$1048576,MATCH(CONCATENATE('Analitika - 2015'!$A60,"p"),'2015'!$A:$A,0),MATCH('Analitika - 2015'!$O$6,'2015'!$101:$101,0)) -> 26480907 | P60: =+N60-O60 -> -1847488.1 | Q60: =+IF(ISNUMBER(N60/O60-1),N60/O60-1,"…") -> -0.069766797 | R60: =+INDEX('2014'!$1:$1048576,MATCH('Analitika - 2015'!$A60,'2014'!$A:$A,0),MATCH('Analitika - 2015'!$R$6,'2014'!$6:$6,0)) -> 14066209 | S60: =+N60-R60 -> 10567210 | T60: =+IF(ISNUMBER(N60/R60-1),N60/R60-1,"…") -> 0.75124786
A61: 4630p | B61: =+B54 -> Otplata obaveza iz prethodnih godina | G61: =+SUMPRODUCT(('2015'!$G61:$R61)*('2015'!$G$5:$R$5<=Master!$B$3)*($A61='2015'!$A$10:$A$66)) -> 0 | H61: =+SUMPRODUCT(('2015'!$G154:$R154)*('2015'!$G$5:$R$5<=Master!$B$3)) -> 19723130 | I61: =+G61-H61 -> -19723130 | J61: =+IF(ISNUMBER(G61/H61-1),G61/H61-1,"…") -> -1 | K61: 0 | L61: =+G61-K61 -> 0 | M61: =+IF(ISNUMBER(G61/K61-1),G61/K61-1,"…") -> … | N61: =+INDEX('2015'!$1:$1048576,MATCH('Analitika - 2015'!$A61,'2015'!$A:$A,0),MATCH('Analitika - 2015'!$N$6,'2015'!$6:$6,0)) -> 2817590 | O61: =+INDEX('2015'!$1:$1048576,MATCH(CONCATENATE('Analitika - 2015'!$A61,"p"),'2015'!$A:$A,0),MATCH('Analitika - 2015'!$O$6,'2015'!$101:$101,0)) -> #N/A | R61: =+INDEX('2014'!$1:$1048576,MATCH('Analitika - 2015'!$A61,'2014'!$A:$A,0),MATCH('Analitika - 2015'!$R$6,'2014'!$6:$6,0)) -> 2778180
A62: 1002 | B62: =+VLOOKUP($A62,Master!$D$22:$G$218,4,FALSE) -> Nedostajuća sredstva | G62: =+SUMPRODUCT(('2015'!$G61:$R61)*('2015'!$G$5:$R$5<=Master!$B$3)*($A62='2015'!$A$10:$A$66)) -> -2.9213142e+08 | H62: =+SUMPRODUCT(('2015'!$G155:$R155)*('2015'!$G$5:$R$5<=Master!$B$3)) -> -4.4119553e+08 | I62: =+G62-H62 -> 1.4906411e+08 | J62: =+IF(ISNUMBER(G62/H62-1),G62/H62-1,"…") -> -0.33786404 | K62: =+SUMPRODUCT(('2014'!$G61:$R61)*('2014'!$G$5:$R$5<=Master!$B$3)) -> -2.196511e+08 | L62: =+G62-K62 -> -72480322 | M62: =+IF(ISNUMBER(G62/K62-1),G62/K62-1,"…") -> 0.32997932 | N62: =+INDEX('2015'!$1:$1048576,MATCH('Analitika - 2015'!$A62,'2015'!$A:$A,0),MATCH('Analitika - 2015'!$N$6,'2015'!$6:$6,0)) -> -44626962 | O62: =+INDEX('2015'!$1:$1048576,MATCH(CONCATENATE('Analitika - 2015'!$A62,"p"),'2015'!$A:$A,0),MATCH('Analitika - 2015'!$O$6,'2015'!$101:$101,0)) -> -38887100 | P62: =+N62-O62 -> -5739862.1 | Q62: =+IF(ISNUMBER(N62/O62-1),N62/O62-1,"…") -> 0.14760324 | R62: =+INDEX('2014'!$1:$1048576,MATCH('Analitika - 2015'!$A62,'2014'!$A:$A,0),MATCH('Analitika - 2015'!$R$6,'2014'!$6:$6,0)) -> -28915181 | S62: =+N62-R62 -> -15711781 | T62: =+IF(ISNUMBER(N62/R62-1),N62/R62-1,"…") -> 0.5433748
A63: 1003 | B63: =+VLOOKUP($A63,Master!$D$22:$G$218,4,FALSE) -> Finansiranje | G63: =+SUMPRODUCT(('2015'!$G62:$R62)*('2015'!$G$5:$R$5<=Master!$B$3)*($A63='2015'!$A$10:$A$66)) -> 2.9213142e+08 | H63: =+SUMPRODUCT(('2015'!$G156:$R156)*('2015'!$G$5:$R$5<=Master!$B$3)) -> 4.4119553e+08 | I63: =+G63-H63 -> -1.4906411e+08 | J63: =+IF(ISNUMBER(G63/H63-1),G63/H63-1,"…") -> -0.33786404 | K63: =+SUMPRODUCT(('2014'!$G62:$R62)*('2014'!$G$5:$R$5<=Master!$B$3)) -> 2.196511e+08 | L63: =+G63-K63 -> 72480322 | M63: =+IF(ISNUMBER(G63/K63-1),G63/K63-1,"…") -> 0.32997932 | N63: =+INDEX('2015'!$1:$1048576,MATCH('Analitika - 2015'!$A63,'2015'!$A:$A,0),MATCH('Analitika - 2015'!$N$6,'2015'!$6:$6,0)) -> 44626962 | O63: =+INDEX('2015'!$1:$1048576,MATCH(CONCATENATE('Analitika - 2015'!$A63,"p"),'2015'!$A:$A,0),MATCH('Analitika - 2015'!$O$6,'2015'!$101:$101,0)) -> 38887100 | P63: =+N63-O63 -> 5739862.1 | Q63: =+IF(ISNUMBER(N63/O63-1),N63/O63-1,"…") -> 0.14760324 | R63: =+INDEX('2014'!$1:$1048576,MATCH('Analitika - 2015'!$A63,'2014'!$A:$A,0),MATCH('Analitika - 2015'!$R$6,'2014'!$6:$6,0)) -> 28915181 | S63: =+N63-R63 -> 15711781 | T63: =+IF(ISNUMBER(N63/R63-1),N63/R63-1,"…") -> 0.5433748
A64: 7511 | B64: =+VLOOKUP($A64,Master!$D$22:$G$218,4,FALSE) -> Pozajmice i krediti od domaćih izvora | G64: =+SUMPRODUCT(('2015'!$G63:$R63)*('2015'!$G$5:$R$5<=Master!$B$3)*($A64='2015'!$A$10:$A$66)) -> 35395133 | H64: =+SUMPRODUCT(('2015'!$G157:$R157)*('2015'!$G$5:$R$5<=Master!$B$3)) -> 0 | I64: =+G64-H64 -> 35395133 | J64: =+IF(ISNUMBER(G64/H64-1),G64/H64-1,"…") -> … | K64: =+SUMPRODUCT(('2014'!$G63:$R63)*('2014'!$G$5:$R$5<=Master!$B$3)) -> 98410760 | L64: =+G64-K64 -> -63015627 | M64: =+IF(ISNUMBER(G64/K64-1),G64/K64-1,"…") -> -0.64033269 | N64: =+INDEX('2015'!$1:$1048576,MATCH('Analitika - 2015'!$A64,'2015'!$A:$A,0),MATCH('Analitika - 2015'!$N$6,'2015'!$6:$6,0)) -> 0 | O64: =+INDEX('2015'!$1:$1048576,MATCH(CONCATENATE('Analitika - 2015'!$A64,"p"),'2015'!$A:$A,0),MATCH('Analitika - 2015'!$O$6,'2015'!$101:$101,0)) -> 0 | P64: =+N64-O64 -> 0 | Q64: =+IF(ISNUMBER(N64/O64-1),N64/O64-1,"…") -> … | R64: =+INDEX('2014'!$1:$1048576,MATCH('Analitika - 2015'!$A64,'2014'!$A:$A,0),MATCH('Analitika - 2015'!$R$6,'2014'!$6:$6,0)) -> 0 | S64: =+N64-R64 -> 0 | T64: =+IF(ISNUMBER(N64/R64-1),N64/R64-1,"…") -> …
A65: 7512 | B65: =+VLOOKUP($A65,Master!$D$22:$G$218,4,FALSE) -> Pozajmice i krediti od inostranih izvora | G65: =+SUMPRODUCT(('2015'!$G64:$R64)*('2015'!$G$5:$R$5<=Master!$B$3)*($A65='2015'!$A$10:$A$66)) -> 5.0100272e+08 | H65: =+SUMPRODUCT(('2015'!$G158:$R158)*('2015'!$G$5:$R$5<=Master!$B$3)) -> 3.6988096e+08 | I65: =+G65-H65 -> 1.3112177e+08 | J65: =+IF(ISNUMBER(G65/H65-1),G65/H65-1,"…") -> 0.35449721 | K65: =+SUMPRODUCT(('2014'!$G64:$R64)*('2014'!$G$5:$R$5<=Master!$B$3)) -> 1.9918229e+08 | L65: =+G65-K65 -> 3.0182043e+08 | M65: =+IF(ISNUMBER(G65/K65-1),G65/K65-1,"…") -> 1.5152975 | N65: =+INDEX('2015'!$1:$1048576,MATCH('Analitika - 2015'!$A65,'2015'!$A:$A,0),MATCH('Analitika - 2015'!$N$6,'2015'!$6:$6,0)) -> 2048899.5 | O65: =+INDEX('2015'!$1:$1048576,MATCH(CONCATENATE('Analitika - 2015'!$A65,"p"),'2015'!$A:$A,0),MATCH('Analitika - 2015'!$O$6,'2015'!$101:$101,0)) -> 52840137 | P65: =+N65-O65 -> -50791237 | Q65: =+IF(ISNUMBER(N65/O65-1),N65/O65-1,"…") -> -0.96122456 | R65: =+INDEX('2014'!$1:$1048576,MATCH('Analitika - 2015'!$A65,'2014'!$A:$A,0),MATCH('Analitika - 2015'!$R$6,'2014'!$6:$6,0)) -> 2030778.2 | S65: =+N65-R65 -> 18121.27 | T65: =+IF(ISNUMBER(N65/R65-1),N65/R65-1,"…") -> 0.0089233133
A66: 72 | B66: =+VLOOKUP($A66,Master!$D$22:$G$218,4,FALSE) -> Primici od prodaje imovine | G66: =+SUMPRODUCT(('2015'!$G65:$R65)*('2015'!$G$5:$R$5<=Master!$B$3)*($A66='2015'!$A$10:$A$66)) -> 5015140.1 | H66: =+SUMPRODUCT(('2015'!$G159:$R159)*('2015'!$G$5:$R$5<=Master!$B$3)) -> 0 | I66: =+G66-H66 -> 5015140.1 | J66: =+IF(ISNUMBER(G66/H66-1),G66/H66-1,"…") -> … | K66: =+SUMPRODUCT(('2014'!$G65:$R65)*('2014'!$G$5:$R$5<=Master!$B$3)) -> 889390.79 | L66: =+G66-K66 -> 4125749.3 | M66: =+IF(ISNUMBER(G66/K66-1),G66/K66-1,"…") -> 4.6388487 | N66: =+INDEX('2015'!$1:$1048576,MATCH('Analitika - 2015'!$A66,'2015'!$A:$A,0),MATCH('Analitika - 2015'!$N$6,'2015'!$6:$6,0)) -> 827672.56 | O66: =+INDEX('2015'!$1:$1048576,MATCH(CONCATENATE('Analitika - 2015'!$A66,"p"),'2015'!$A:$A,0),MATCH('Analitika - 2015'!$O$6,'2015'!$101:$101,0)) -> 0 | P66: =+N66-O66 -> 827672.56 | Q66: =+IF(ISNUMBER(N66/O66-1),N66/O66-1,"…") -> … | R66: =+INDEX('2014'!$1:$1048576,MATCH('Analitika - 2015'!$A66,'2014'!$A:$A,0),MATCH('Analitika - 2015'!$R$6,'2014'!$6:$6,0)) -> 380433.99 | S66: =+N66-R66 -> 447238.57 | T66: =+IF(ISNUMBER(N66/R66-1),N66/R66-1,"…") -> 1.175601
A67: 1004 | B67: =+VLOOKUP($A67,Master!$D$22:$G$218,4,FALSE) -> Povećanje / smanjenje depozita | G67: =+SUMPRODUCT(('2015'!$G66:$R66)*('2015'!$G$5:$R$5<=Master!$B$3)*($A67='2015'!$A$10:$A$66)) -> -2.4928157e+08 | H67: =+SUMPRODUCT(('2015'!$G160:$R160)*('2015'!$G$5:$R$5<=Master!$B$3)) -> 71314576 | I67: =+G67-H67 -> -3.2059615e+08 | J67: =+IF(ISNUMBER(G67/H67-1),G67/H67-1,"…") -> -4.4955206 | K67: =+SUMPRODUCT(('2014'!$G66:$R66)*('2014'!$G$5:$R$5<=Master!$B$3)) -> -78831341 | L67: =+G67-K67 -> -1.7045023e+08 | M67: =+IF(ISNUMBER(G67/K67-1),G67/K67-1,"…") -> 2.162214 | N67: =+INDEX('2015'!$1:$1048576,MATCH('Analitika - 2015'!$A67,'2015'!$A:$A,0),MATCH('Analitika - 2015'!$N$6,'2015'!$6:$6,0)) -> 41750390 | O67: =+INDEX('2015'!$1:$1048576,MATCH(CONCATENATE('Analitika - 2015'!$A67,"p"),'2015'!$A:$A,0),MATCH('Analitika - 2015'!$O$6,'2015'!$101:$101,0)) -> -13953037 | P67: =+N67-O67 -> 55703427 | Q67: =+IF(ISNUMBER(N67/O67-1),N67/O67-1,"…") -> -3.9922081 | R67: =+INDEX('2014'!$1:$1048576,MATCH('Analitika - 2015'!$A67,'2014'!$A:$A,0),MATCH('Analitika - 2015'!$R$6,'2014'!$6:$6,0)) -> 26503969 | S67: =+N67-R67 -> 15246421 | T67: =+IF(ISNUMBER(N67/R67-1),N67/R67-1,"…") -> 0.57525049

Sheet Analitika - 2014
E2: =+Master!G6 -> Crna Gora
E3: =+Master!G7 -> Ministarstvo finansija
E4: =+Master!G8 -> Direktorat za ekonomsku politiku i razvoj
N6: =+IF(Master!B3-10>=0,CONCATENATE(Master!B4,"-",Master!B3),CONCATENATE(Master!B4,"-0",Master!B3)) -> 2015-07 | O6: =+CONCATENATE(N6,"p") -> 2015-07p | R6: =+IF(Master!B3-10>=0,CONCATENATE(Master!B4-1,"-",Master!B3),CONCATENATE(Master!B4-1,"-0",Master!B3)) -> 2014-07
B7: Analitika Jan-Dec 2014 | G7: Jan - Dec 2014 | N7: =+Master!G235 -> Decembar
G8: =+Master!G18 -> Ostvarenje | H8: =+Master!G17 -> Plan | I8: =+Master!G252 -> Odstupanje | K8: =+CONCATENATE(Master!G238," ",Master!B4-1) -> Jan - Jul 2014 | L8: =+I8 -> Odstupanje | N8: =+G8 -> Ostvarenje | O8: =+H8 -> Plan | P8: =+I8 -> Odstupanje | R8: =+CONCATENATE(Master!G237," ",Master!B4-1) -> Jul 2014 | S8: =+P8 -> Odstupanje
G9: mil. € | H9: mil. € | I9: mil. € | J9: % | K9: mil. € | L9: mil. € | M9: % | N9: mil. € | O9: mil. € | P9: mil. € | Q9: % | R9: mil. € | S9: mil. € | T9: %
A10: 7 | B10: =+VLOOKUP($A10,Master!$D$22:$G$218,4,FALSE) -> Prihodi budžeta | G10: 1.3518532e+09 | H10: 1.2760564e+09 | I10: =+G10-H10 -> 75796777 | J10: =+IF(ISNUMBER(G10/H10-1),G10/H10-1,"…") -> 0.059399238 | K10: 1.2434365e+09 | L10: =+G10-K10 -> 1.0841667e+08 | M10: =+IF(ISNUMBER(G10/K10-1),G10/K10-1,"…") -> 0.087191157 | N10: 1.5524904e+08 | O10: 1.4561229e+08 | P10: =+N10-O10 -> 9636747 | Q10: =+IF(ISNUMBER(N10/O10-1),N10/O10-1,"…") -> 0.066180862 | R10: 1.4512e+08 | S10: =+N10-R10 -> 10129036 | T10: =+IF(ISNUMBER(N10/R10-1),N10/R10-1,"…") -> 0.069797658
A11: 711 | B11: =+VLOOKUP($A11,Master!$D$22:$G$218,4,FALSE) -> Porezi | G11: 8.3320358e+08 | H11: 7.978289e+08 | I11: =+G11-H11 -> 35374681 | J11: =+IF(ISNUMBER(G11/H11-1),G11/H11-1,"…") -> 0.044338681 | K11: 7.5569646e+08 | L11: =+G11-K11 -> 77507123 | M11: =+IF(ISNUMBER(G11/K11-1),G11/K11-1,"…") -> 0.10256383 | N11: 70043887 | O11: 76418346 | P11: =+N11-O11 -> -6374459.3 | Q11: =+IF(ISNUMBER(N11/O11-1),N11/O11-1,"…") -> -0.0834153 | R11: 72178169 | S11: =+N11-R11 -> -2134281.8 | T11: =+IF(ISNUMBER(N11/R11-1),N11/R11-1,"…") -> -0.029569631
A12: 7111 | B12: =+VLOOKUP($A12,Master!$D$22:$G$218,4,FALSE) -> Porez na dohodak fizičkih lica | G12: 1.0440582e+08 | H12: 96011655 | I12: =+G12-H12 -> 8394167.1 | J12: =+IF(ISNUMBER(G12/H12-1),G12/H12-1,"…") -> 0.087428626 | K12: 95618434 | L12: =+G12-K12 -> 8787387.8 | M12: =+IF(ISNUMBER(G12/K12-1),G12/K12-1,"…") -> 0.091900561 | N12: 15621993 | O12: 15517267 | P12: =+N12-O12 -> 104725.9 | Q12: =+IF(ISNUMBER(N12/O12-1),N12/O12-1,"…") -> 0.0067489912 | R12: 15533678 | S12: =+N12-R12 -> 88315.44 | T12: =+IF(ISNUMBER(N12/R12-1),N12/R12-1,"…") -> 0.0056854172
A13: 7112 | B13: =+VLOOKUP($A13,Master!$D$22:$G$218,4,FALSE) -> Porez na dobit pravnih lica | G13: 45020372 | H13: 44395642 | I13: =+G13-H13 -> 624729.97 | J13: =+IF(ISNUMBER(G13/H13-1),G13/H13-1,"…") -> 0.014071876 | K13: 40638726 | L13: =+G13-K13 -> 4381645.1 | M13: =+IF(ISNUMBER(G13/K13-1),G13/K13-1,"…") -> 0.10781945 | N13: 1484776.3 | O13: 1100346.3 | P13: =+N13-O13 -> 384430 | Q13: =+IF(ISNUMBER(N13/O13-1),N13/O13-1,"…") -> 0.34937183 | R13: 1041215.8 | S13: =+N13-R13 -> 443560.48 | T13: =+IF(ISNUMBER(N13/R13-1),N13/R13-1,"…") -> 0.42600243
A14: 7113 | B14: =+VLOOKUP($A14,Master!$D$22:$G$218,4,FALSE) -> Porez na promet nepokretnosti | G14: 1479399.9 | H14: 1544536.7 | I14: =+G14-H14 -> -65136.793 | J14: =+IF(ISNUMBER(G14/H14-1),G14/H14-1,"…") -> -0.042172383 | K14: 1440565.3 | L14: =+G14-K14 -> 38834.56 | M14: =+IF(ISNUMBER(G14/K14-1),G14/K14-1,"…") -> 0.026957861 | N14: 164005.83 | O14: 149884.27 | P14: =+N14-O14 -> 14121.559 | Q14: =+IF(ISNUMBER(N14/O14-1),N14/O14-1,"…") -> 0.094216415 | R14: 140999.42 | S14: =+N14-R14 -> 23006.41 | T14: =+IF(ISNUMBER(N14/R14-1),N14/R14-1,"…") -> 0.1631667
A15: 7114 | B15: =+VLOOKUP($A15,Master!$D$22:$G$218,4,FALSE) -> Porez na dodatu vrijednost | G15: 4.9758919e+08 | H15: 4.5594563e+08 | I15: =+G15-H15 -> 41643562 | J15: =+IF(ISNUMBER(G15/H15-1),G15/H15-1,"…") -> 0.091334491 | K15: 4.2919507e+08 | L15: =+G15-K15 -> 68394123 | M15: =+IF(ISNUMBER(G15/K15-1),G15/K15-1,"…") -> 0.1593544 | N15: 37184323 | O15: 41248055 | P15: =+N15-O15 -> -4063732.8 | Q15: =+IF(ISNUMBER(N15/O15-1),N15/O15-1,"…") -> -0.098519378 | R15: 40192913 | S15: =+N15-R15 -> -3008590.5 | T15: =+IF(ISNUMBER(N15/R15-1),N15/R15-1,"…") -> -0.074853755
A16: 7115 | B16: =+VLOOKUP($A16,Master!$D$22:$G$218,4,FALSE) -> Akcize | G16: 1.5646695e+08 | H16: 1.7111199e+08 | I16: =+G16-H16 -> -14645042 | J16: =+IF(ISNUMBER(G16/H16-1),G16/H16-1,"…") -> -0.085587468 | K16: 1.6144547e+08 | L16: =+G16-K16 -> -4978523.4 | M16: =+IF(ISNUMBER(G16/K16-1),G16/K16-1,"…") -> -0.030837182 | N16: 13096344 | O16: 16210264 | P16: =+N16-O16 -> -3113920.1 | Q16: =+IF(ISNUMBER(N16/O16-1),N16/O16-1,"…") -> -0.19209559 | R16: 13187797 | S16: =+N16-R16 -> -91453.46 | T16: =+IF(ISNUMBER(N16/R16-1),N16/R16-1,"…") -> -0.0069347033
A17: 7116 | B17: =+VLOOKUP($A17,Master!$D$22:$G$218,4,FALSE) -> Porez na međunarodnu trgovinu i transakcije | G17: 22270229 | H17: 23735354 | I17: =+G17-H17 -> -1465124.2 | J17: =+IF(ISNUMBER(G17/H17-1),G17/H17-1,"…") -> -0.061727508 | K17: 22269383 | L17: =+G17-K17 -> 846.82 | M17: =+IF(ISNUMBER(G17/K17-1),G17/K17-1,"…") -> 3.80262e-05 | N17: 1965267.8 | O17: 1802456.7 | P17: =+N17-O17 -> 162811.11 | Q17: =+IF(ISNUMBER(N17/O17-1),N17/O17-1,"…") -> 0.090327336 | R17: 1691131.2 | S17: =+N17-R17 -> 274136.58 | T17: =+IF(ISNUMBER(N17/R17-1),N17/R17-1,"…") -> 0.16210249
A18: 7117 | B18: =+VLOOKUP($A18,Master!$D$22:$G$218,4,FALSE) -> Lokalni porezi | G18: 0 | H18: 0 | I18: =+G18-H18 -> 0 | J18: =+IF(ISNUMBER(G18/H18-1),G18/H18-1,"…") -> … | K18: 0 | L18: =+G18-K18 -> 0 | M18: =+IF(ISNUMBER(G18/K18-1),G18/K18-1,"…") -> … | N18: 0 | O18: 0 | P18: =+N18-O18 -> 0 | Q18: =+IF(ISNUMBER(N18/O18-1),N18/O18-1,"…") -> … | R18: 0 | S18: =+N18-R18 -> 0 | T18: =+IF(ISNUMBER(N18/R18-1),N18/R18-1,"…") -> …
A19: 7118 | B19: =+VLOOKUP($A19,Master!$D$22:$G$218,4,FALSE) -> Ostali republički porezi | G19: 5971620.5 | H19: 5084095.8 | I19: =+G19-H19 -> 887524.67 | J19: =+IF(ISNUMBER(G19/H19-1),G19/H19-1,"…") -> 0.17456883 | K19: 5088811.8 | L19: =+G19-K19 -> 882808.71 | M19: =+IF(ISNUMBER(G19/K19-1),G19/K19-1,"…") -> 0.17348032 | N19: 527177.4 | O19: 390072.41 | P19: =+N19-O19 -> 137104.99 | Q19: =+IF(ISNUMBER(N19/O19-1),N19/O19-1,"…") -> 0.35148599 | R19: 390434.24 | S19: =+N19-R19 -> 136743.16 | T19: =+IF(ISNUMBER(N19/R19-1),N19/R19-1,"…") -> 0.35023352
A20: 712 | B20: =+VLOOKUP($A20,Master!$D$22:$G$218,4,FALSE) -> Doprinosi | G20: 4.4430324e+08 | H20: 3.9782317e+08 | I20: =+G20-H20 -> 46480071 | J20: =+IF(ISNUMBER(G20/H20-1),G20/H20-1,"…") -> 0.11683601 | K20: 3.9849428e+08 | L20: =+G20-K20 -> 45808960 | M20: =+IF(ISNUMBER(G20/K20-1),G20/K20-1,"…") -> 0.11495513 | N20: 75176039 | O20: 59783745 | P20: =+N20-O20 -> 15392294 | Q20: =+IF(ISNUMBER(N20/O20-1),N20/O20-1,"…") -> 0.25746621 | R20: 60241081 | S20: =+N20-R20 -> 14934958 | T20: =+IF(ISNUMBER(N20/R20-1),N20/R20-1,"…") -> 0.24791982
A21: 7121 | B21: =+VLOOKUP($A21,Master!$D$22:$G$218,4,FALSE) -> Doprinosi za penzijsko i invalidsko osiguranje | G21: 2.7012023e+08 | H21: 2.348824e+08 | I21: =+G21-H21 -> 35237831 | J21: =+IF(ISNUMBER(G21/H21-1),G21/H21-1,"…") -> 0.1500233 | K21: 2.4194936e+08 | L21: =+G21-K21 -> 28170872 | M21: =+IF(ISNUMBER(G21/K21-1),G21/K21-1,"…") -> 0.11643293 | N21: 45661636 | O21: 35471517 | P21: =+N21-O21 -> 10190118 | Q21: =+IF(ISNUMBER(N21/O21-1),N21/O21-1,"…") -> 0.28727607 | R21: 36741485 | S21: =+N21-R21 -> 8920151 | T21: =+IF(ISNUMBER(N21/R21-1),N21/R21-1,"…") -> 0.24278145
... A53: 462 | B53: =+VLOOKUP($A53,Master!$D$22:$G$218,4,FALSE) -> Otplata garancija | G53: 15258931 | H53: 0 | I53: =+G53-H53 -> 15258931 | J53: =+IF(ISNUMBER(G53/H53-1),G53/H53-1,"…") -> … | K53: 1.0723059e+08 | L53: =+G53-K53 -> -91971662 | M53: =+IF(ISNUMBER(G53/K53-1),G53/K53-1,"…") -> -0.85769984 | N53: 0 | O53: 0 | P53: =+N53-O53 -> 0 | Q53: =+IF(ISNUMBER(N53/O53-1),N53/O53-1,"…") -> … | R53: 575548.03 | S53: =+N53-R53 -> -575548.03 | T53: =+IF(ISNUMBER(N53/R53-1),N53/R53-1,"…") -> -1
A54: 4630 | B54: =+VLOOKUP($A54,Master!$D$22:$G$218,4,FALSE) -> Otplata obaveza iz prethodnih godina | G54: 65272880 | H54: 0 | I54: =+G54-H54 -> 65272880 | J54: =+IF(ISNUMBER(G54/H54-1),G54/H54-1,"…") -> … | K54: 60543190 | L54: =+G54-K54 -> 4729690.1 | M54: =+IF(ISNUMBER(G54/K54-1),G54/K54-1,"…") -> 0.078120926 | N54: 18916388 | O54: 0 | P54: =+N54-O54 -> 18916388 | Q54: =+IF(ISNUMBER(N54/O54-O592),N54/O54-1,"…") -> … | R54: 7480893.1 | S54: =+N54-R54 -> 11435495 | T54: =+IF(ISNUMBER(N54/R54-1),N54/R54-1,"…") -> 1.5286269
A55: 1005 | B55: =+VLOOKUP($A55,Master!$D$22:$G$220,4,FALSE) -> Neto povećanje obaveza | G55: 0 | H55: 0 | I55: =+G55-H55 -> 0 | J55: =+IF(ISNUMBER(G55/H55-1),G55/H55-1,"…") -> … | K55: 14438105 | L55: =+G55-K55 -> -14438105 | M55: =+IF(ISNUMBER(G55/K55-1),G55/K55-1,"…") -> -1 | N55: 0 | O55: 0 | P55: =+N55-O55 -> 0 | Q55: =+IF(ISNUMBER(N55/O55-O593),N55/O55-1,"…") -> … | R55: 14438105 | S55: =+N55-R55 -> -14438105 | T55: =+IF(ISNUMBER(N55/R55-1),N55/R55-1,"…") -> -1
A56: 1000 | B56: =+VLOOKUP($A56,Master!$D$22:$G$218,4,FALSE) -> Suficit / deficit | G56: -1.0257142e+08 | H56: -61509738 | I56: =+G56-H56 -> -41061678 | J56: =+IF(ISNUMBER(G56/H56-1),G56/H56-1,"…") -> 0.66756386 | K56: -2.1579131e+08 | L56: =+G56-K56 -> 1.132199e+08 | M56: =+IF(ISNUMBER(G56/K56-1),G56/K56-1,"…") -> -0.52467309 | N56: -18669590 | O56: 34982925 | P56: =+N56-O56 -> -53652515 | Q56: =+IF(ISNUMBER(N56/O56-1),N56/O56-1,"…") -> -1.5336772 | R56: -29741467 | S56: =+N56-R56 -> 11071877 | T56: =+IF(ISNUMBER(N56/R56-1),N56/R56-1,"…") -> -0.3722707
A57: 1001 | B57: =+VLOOKUP($A57,Master!$D$22:$G$218,4,FALSE) -> Primarni bilans | G57: -27589445 | H57: 11767453 | I57: =+G57-H57 -> -39356898 | J57: =+IF(ISNUMBER(G57/H57-1),G57/H57-1,"…") -> -3.3445554 | K57: -1.4786854e+08 | L57: =+G57-K57 -> 1.2027909e+08 | M57: =+IF(ISNUMBER(G57/K57-1),G57/K57-1,"…") -> -0.81341909 | N57: -12993473 | O57: 41280039 | P57: =+N57-O57 -> -54273511 | Q57: =+IF(ISNUMBER(N57/O57-1),N57/O57-1,"…") -> -1.3147641 | R57: -24129601 | S57: =+N57-R57 -> 11136128 | T57: =+IF(ISNUMBER(N57/R57-1),N57/R57-1,"…") -> -0.46151315
A58: 46 | B58: =+VLOOKUP($A58,Master!$D$22:$G$218,4,FALSE) -> Otplata dugova | G58: 2.0975095e+08 | H58: 1.7142691e+08 | I58: =+G58-H58 -> 38324047 | J58: =+IF(ISNUMBER(G58/H58-1),G58/H58-1,"…") -> 0.22355911 | K58: 1.7402545e+08 | L58: =+G58-K58 -> 35725501 | M58: =+IF(ISNUMBER(G58/K58-1),G58/K58-1,"…") -> 0.20528894 | N58: 31216208 | O58: 14285575 | P58: =+N58-O58 -> 16930633 | Q58: =+IF(ISNUMBER(N58/O58-1),N58/O58-1,"…") -> 1.1851558 | R58: 64186409 | S58: =+N58-R58 -> -32970200 | T58: =+IF(ISNUMBER(N58/R58-1),N58/R58-1,"…") -> -0.51366327
A59: 4611 | B59: =+VLOOKUP($A59,Master!$D$22:$G$218,4,FALSE) -> Otplata hartija od vrijednosti i kredita rezidentima | G59: 99756837 | H59: 30008345 | I59: =+G59-H59 -> 69748492 | J59: =+IF(ISNUMBER(G59/H59-1),G59/H59-1,"…") -> 2.3243032 | K59: 1.0762102e+08 | L59: =+G59-K59 -> -7864183.6 | M59: =+IF(ISNUMBER(G59/K59-1),G59/K59-1,"…") -> -0.073072933 | N59: 9805053.8 | O59: 2500695.4 | P59: =+N59-O59 -> 7304358.4 | Q59: =+IF(ISNUMBER(N59/O59-1),N59/O59-1,"…") -> 2.9209308 | R59: 48820983 | S59: =+N59-R59 -> -39015929 | T59: =+IF(ISNUMBER(N59/R59-1),N59/R59-1,"…") -> -0.79916312
A60: 4612 | B60: =+VLOOKUP($A60,Master!$D$22:$G$218,4,FALSE) -> Otplata hartija od vrijednosti i kredita nerezidentima | G60: 1.0999412e+08 | H60: 1.080804e+08 | I60: =+G60-H60 -> 1913715.2 | J60: =+IF(ISNUMBER(G60/H60-1),G60/H60-1,"…") -> 0.017706404 | K60: 66404431 | L60: =+G60-K60 -> 43589684 | M60: =+IF(ISNUMBER(G60/K60-1),G60/K60-1,"…") -> 0.65642734 | N60: 21411155 | O60: 9006700 | P60: =+N60-O60 -> 12404455 | Q60: =+IF(ISNUMBER(N60/O60-1),N60/O60-1,"…") -> 1.3772474 | R60: 15365426 | S60: =+N60-R60 -> 6045728.8 | T60: =+IF(ISNUMBER(N60/R60-1),N60/R60-1,"…") -> 0.39346314
A61: 4630p | B61: =+B54 -> Otplata obaveza iz prethodnih godina | H61: 33338160 | I61: =+G61-H61 -> -33338160 | J61: =+IF(ISNUMBER(G61/H61-1),G61/H61-1,"…") -> -1 | L61: =+G61-K61 -> 0 | M61: =+IF(ISNUMBER(G61/K61-1),G61/K61-1,"…") -> … | O61: 2778180
A62: 1002 | B62: =+VLOOKUP($A62,Master!$D$22:$G$218,4,FALSE) -> Nedostajuća sredstva | G62: -3.1232237e+08 | H62: -2.3293664e+08 | I62: =+G62-H62 -> -79385725 | J62: =+IF(ISNUMBER(G62/H62-1),G62/H62-1,"…") -> 0.34080394 | K62: -3.8981676e+08 | L62: =+G62-K62 -> 77494395 | M62: =+IF(ISNUMBER(G62/K62-1),G62/K62-1,"…") -> -0.19879698 | N62: -49885799 | O62: 20697350 | P62: =+N62-O62 -> -70583148 | Q62: =+IF(ISNUMBER(N62/O62-1),N62/O62-1,"…") -> -3.4102506 | R62: -93927876 | S62: =+N62-R62 -> 44042077 | T62: =+IF(ISNUMBER(N62/R62-1),N62/R62-1,"…") -> -0.46889251
A63: 1003 | B63: =+VLOOKUP($A63,Master!$D$22:$G$218,4,FALSE) -> Finansiranje | G63: 3.1232237e+08 | H63: 2.3293664e+08 | I63: =+G63-H63 -> 79385725 | J63: =+IF(ISNUMBER(G63/H63-1),G63/H63-1,"…") -> 0.34080394 | K63: 3.8981676e+08 | L63: =+G63-K63 -> -77494395 | M63: =+IF(ISNUMBER(G63/K63-1),G63/K63-1,"…") -> -0.19879698 | N63: 49885799 | O63: -20697350 | P63: =+N63-O63 -> 70583148 | Q63: =+IF(ISNUMBER(N63/O63-1),N63/O63-1,"…") -> -3.4102506 | R63: 93927876 | S63: =+N63-R63 -> -44042077 | T63: =+IF(ISNUMBER(N63/R63-1),N63/R63-1,"…") -> -0.46889251
A64: 7511 | B64: =+VLOOKUP($A64,Master!$D$22:$G$218,4,FALSE) -> Pozajmice i krediti od domaćih izvora | G64: 1.0441076e+08 | H64: 0 | I64: =+G64-H64 -> 1.0441076e+08 | J64: =+IF(ISNUMBER(G64/H64-1),G64/H64-1,"…") -> … | K64: 145350142 | L64: =+G64-K64 -> -40939382 | M64: =+IF(ISNUMBER(G64/K64-1),G64/K64-1,"…") -> -0.28166042 | N64: 6000000 | O64: 0 | P64: =+N64-O64 -> 6000000 | Q64: =+IF(ISNUMBER(N64/O64-1),N64/O64-1,"…") -> … | R64: 20000000 | S64: =+N64-R64 -> -14000000 | T64: =+IF(ISNUMBER(N64/R64-1),N64/R64-1,"…") -> -0.7
A65: 7512 | B65: =+VLOOKUP($A65,Master!$D$22:$G$218,4,FALSE) -> Pozajmice i krediti od inostranih izvora | G65: 2.057475e+08 | H65: 2.2797558e+08 | I65: =+G65-H65 -> -22228072 | J65: =+IF(ISNUMBER(G65/H65-1),G65/H65-1,"…") -> -0.097501989 | K65: 1.8851721e+08 | L65: =+G65-K65 -> 17230295 | M65: =+IF(ISNUMBER(G65/K65-1),G65/K65-1,"…") -> 0.091399059 | N65: 991400.61 | O65: 18997965 | P65: =+N65-O65 -> -18006564 | Q65: =+IF(ISNUMBER(N65/O65-1),N65/O65-1,"…") -> -0.94781543 | R65: 83544900 | S65: =+N65-R65 -> -82553500 | T65: =+IF(ISNUMBER(N65/R65-1),N65/R65-1,"…") -> -0.98813332
A66: 72 | B66: =+VLOOKUP($A66,Master!$D$22:$G$218,4,FALSE) -> Primici od prodaje imovine | G66: 3918918.7 | H66: 5000000 | I66: =+G66-H66 -> -1081081.3 | J66: =+IF(ISNUMBER(G66/H66-1),G66/H66-1,"…") -> -0.21621626 | K66: 11948846 | L66: =+G66-K66 -> -8029927.6 | M66: =+IF(ISNUMBER(G66/K66-1),G66/K66-1,"…") -> -0.67202535 | N66: 462623.71 | O66: 416666.67 | P66: =+N66-O66 -> 45957.043 | Q66: =+IF(ISNUMBER(N66/O66-1),N66/O66-1,"…") -> 0.1102969 | R66: 27299.41 | S66: =+N66-R66 -> 435324.3 | T66: =+IF(ISNUMBER(N66/R66-1),N66/R66-1,"…") -> 15.94629
A67: 1004 | B67: =+VLOOKUP($A67,Master!$D$22:$G$218,4,FALSE) -> Povećanje / smanjenje depozita | G67: -1754813.6 | H67: -38932.408 | I67: =+G67-H67 -> -1715881.2 | J67: =+IF(ISNUMBER(G67/H67-1),G67/H67-1,"…") -> 44.073338 | K67: 44000567 | L67: =+G67-K67 -> -45755380 | M67: =+IF(ISNUMBER(G67/K67-1),G67/K67-1,"…") -> -1.0398816 | N67: 42431774 | O67: -40111981 | P67: =+N67-O67 -> 82543755 | Q67: =+IF(ISNUMBER(N67/O67-1),N67/O67-1,"…") -> -2.0578329 | R67: -9644323.8 | S67: =+N67-R67 -> 52076098 | T67: =+IF(ISNUMBER(N67/R67-1),N67/R67-1,"…") -> -5.399663

Sheet 2015
E2: =+Master!G6 -> Crna Gora
E3: =+Master!G7 -> Ministarstvo finansija
E4: =+Master!G8 -> Direktorat za ekonomsku politiku i razvoj
G5: =+RIGHT(G6,2)*1 -> 1 | H5: =+RIGHT(H6,2)*1 -> 2 | I5: =+RIGHT(I6,2)*1 -> 3 | J5: =+RIGHT(J6,2)*1 -> 4 | K5: =+RIGHT(K6,2)*1 -> 5 | L5: =+RIGHT(L6,2)*1 -> 6 | M5: =+RIGHT(M6,2)*1 -> 7 | N5: =+RIGHT(N6,2)*1 -> 8 | ... R5: =+RIGHT(R6,2)*1 -> 12
G6: 2015-01 | H6: 2015-02 | I6: 2015-03 | J6: 2015-04 | K6: 2015-05 | L6: 2015-06 | M6: 2015-07 | N6: 2015-08 | O6: 2015-09 | P6: 2015-10 | Q6: 2015-11 | R6: 2015-12
B7: =+Master!G244 -> Ostvarenje budžeta | G7: 2015 | S7: =+Master!G241 -> BDP | T7: 3580100000
G8: =+Master!G224 -> Januar | H8: =+Master!G225 -> Februar | I8: =+Master!G226 -> Mart | J8: =+Master!G227 -> April | K8: =+Master!G228 -> Maj | L8: =+Master!G229 -> Jun | M8: =+Master!G230 -> Jul | N8: =+Master!G231 -> Avgust | O8: =+Master!G232 -> Septembar | P8: =+Master!G233 -> Oktobar | Q8: =+Master!G234 -> Novembar | R8: =+Master!G235 -> Decembar | S8: =+Master!G238 -> Jan - Jul
G9: mil. € | H9: mil. € | I9: mil. € | J9: mil. € | K9: mil. € | L9: mil. € | M9: mil. € | N9: mil. € | O9: mil. € | P9: mil. € | Q9: mil. € | R9: mil. € | S9: mil. € | T9: =+Master!G242 -> % BDP
A10: 7 | B10: =+VLOOKUP($A10,Master!$D$22:$G$218,4,FALSE) -> Prihodi budžeta | G10: =+G11+G20+SUM(G25:G29) -> 71181347 | H10: =+H11+H20+SUM(H25:H29) -> 86772014 | I10: =+I11+I20+SUM(I25:I29) -> 1.0033076e+08 | J10: =+J11+J20+SUM(J25:J29) -> 1.1155315e+08 | K10: =+K11+K20+SUM(K25:K29) -> 99802278 | L10: =+L11+L20+SUM(L25:L29) -> 1.1819545e+08 | M10: =+M11+M20+SUM(M25:M29) -> 1.2747496e+08 | N10: =+N11+N20+SUM(N25:N29) -> 0 | ... R10: =+R11+R20+SUM(R25:R29) -> 0 | S10: =+SUM(G10:R10) -> 7.1530995e+08 | T10: =+S10/$T$7 -> 0.19980167
A11: 711 | B11: =+VLOOKUP($A11,Master!$D$22:$G$218,4,FALSE) -> Porezi | G11: =+SUM(G12:G19) -> 48650346 | H11: =+SUM(H12:H19) -> 51592469 | I11: =+SUM(I12:I19) -> 60361035 | J11: =+SUM(J12:J19) -> 69639815 | K11: =+SUM(K12:K19) -> 62514260 | L11: =+SUM(L12:L19) -> 73370469 | M11: =+SUM(M12:M19) -> 77525685 | N11: =+SUM(N12:N19) -> 0 | ... R11: =+SUM(R12:R19) -> 0 | S11: =+SUM(G11:R11) -> 4.4365408e+08 | T11: =+S11/$T$7 -> 0.12392226
A12: 7111 | B12: =+VLOOKUP($A12,Master!$D$22:$G$218,4,FALSE) -> Porez na dohodak fizičkih lica | G12: =+INDEX(DataEx!$1:$1048576,MATCH('2015'!$A12,DataEx!$D:$D,0),MATCH('2015'!G$6,DataEx!$7:$7,0)) -> 4124772.2 | H12: =+INDEX(DataEx!$1:$1048576,MATCH('2015'!$A12,DataEx!$D:$D,0),MATCH('2015'!H$6,DataEx!$7:$7,0)) -> 6382588.4 | I12: =+INDEX(DataEx!$1:$1048576,MATCH('2015'!$A12,DataEx!$D:$D,0),MATCH('2015'!I$6,DataEx!$7:$7,0)) -> 7348324 | J12: =+INDEX(DataEx!$1:$1048576,MATCH('2015'!$A12,DataEx!$D:$D,0),MATCH('2015'!J$6,DataEx!$7:$7,0)) -> 7769463.2 | K12: =+INDEX(DataEx!$1:$1048576,MATCH('2015'!$A12,DataEx!$D:$D,0),MATCH('2015'!K$6,DataEx!$7:$7,0)) -> 6638534.7 | L12: =+INDEX(DataEx!$1:$1048576,MATCH('2015'!$A12,DataEx!$D:$D,0),MATCH('2015'!L$6,DataEx!$7:$7,0)) -> 7851015.6 | M12: =+INDEX(DataEx!$1:$1048576,MATCH('2015'!$A12,DataEx!$D:$D,0),MATCH('2015'!M$6,DataEx!$7:$7,0)) -> 8602485.7 | N12: =+INDEX(DataEx!$1:$1048576,MATCH('2015'!$A12,DataEx!$D:$D,0),MATCH('2015'!N$6,DataEx!$7:$7,0)) -> 0 | ... R12: =+INDEX(DataEx!$1:$1048576,MATCH('2015'!$A12,DataEx!$D:$D,0),MATCH('2015'!R$6,DataEx!$7:$7,0)) -> 0 | S12: =+SUM(G12:R12) -> 48717184 | T12: =+S12/$T$7 -> 0.013607772
A13: 7112 | B13: =+VLOOKUP($A13,Master!$D$22:$G$218,4,FALSE) -> Porez na dobit pravnih lica | G13: =+INDEX(DataEx!$1:$1048576,MATCH('2015'!$A13,DataEx!$D:$D,0),MATCH('2015'!G$6,DataEx!$7:$7,0)) -> 500820.53 | H13: =+INDEX(DataEx!$1:$1048576,MATCH('2015'!$A13,DataEx!$D:$D,0),MATCH('2015'!H$6,DataEx!$7:$7,0)) -> 776411.72 | I13: =+INDEX(DataEx!$1:$1048576,MATCH('2015'!$A13,DataEx!$D:$D,0),MATCH('2015'!I$6,DataEx!$7:$7,0)) -> 9846873.8 | J13: =+INDEX(DataEx!$1:$1048576,MATCH('2015'!$A13,DataEx!$D:$D,0),MATCH('2015'!J$6,DataEx!$7:$7,0)) -> 15145224 | K13: =+INDEX(DataEx!$1:$1048576,MATCH('2015'!$A13,DataEx!$D:$D,0),MATCH('2015'!K$6,DataEx!$7:$7,0)) -> 2278350 | L13: =+INDEX(DataEx!$1:$1048576,MATCH('2015'!$A13,DataEx!$D:$D,0),MATCH('2015'!L$6,DataEx!$7:$7,0)) -> 4095208.4 | M13: =+INDEX(DataEx!$1:$1048576,MATCH('2015'!$A13,DataEx!$D:$D,0),MATCH('2015'!M$6,DataEx!$7:$7,0)) -> 2969829 | N13: =+INDEX(DataEx!$1:$1048576,MATCH('2015'!$A13,DataEx!$D:$D,0),MATCH('2015'!N$6,DataEx!$7:$7,0)) -> 0 | ... R13: =+INDEX(DataEx!$1:$1048576,MATCH('2015'!$A13,DataEx!$D:$D,0),MATCH('2015'!R$6,DataEx!$7:$7,0)) -> 0 | S13: =+SUM(G13:R13) -> 35612718 | T13: =+S13/$T$7 -> 0.0099474087
A14: 7113 | B14: =+VLOOKUP($A14,Master!$D$22:$G$218,4,FALSE) -> Porez na promet nepokretnosti | G14: =+INDEX(DataEx!$1:$1048576,MATCH('2015'!$A14,DataEx!$D:$D,0),MATCH('2015'!G$6,DataEx!$7:$7,0)) -> 64332.39 | H14: =+INDEX(DataEx!$1:$1048576,MATCH('2015'!$A14,DataEx!$D:$D,0),MATCH('2015'!H$6,DataEx!$7:$7,0)) -> 156323.32 | I14: =+INDEX(DataEx!$1:$1048576,MATCH('2015'!$A14,DataEx!$D:$D,0),MATCH('2015'!I$6,DataEx!$7:$7,0)) -> 109018.21 | J14: =+INDEX(DataEx!$1:$1048576,MATCH('2015'!$A14,DataEx!$D:$D,0),MATCH('2015'!J$6,DataEx!$7:$7,0)) -> 92127.28 | K14: =+INDEX(DataEx!$1:$1048576,MATCH('2015'!$A14,DataEx!$D:$D,0),MATCH('2015'!K$6,DataEx!$7:$7,0)) -> 84167.93 | L14: =+INDEX(DataEx!$1:$1048576,MATCH('2015'!$A14,DataEx!$D:$D,0),MATCH('2015'!L$6,DataEx!$7:$7,0)) -> 129133.9 | M14: =+INDEX(DataEx!$1:$1048576,MATCH('2015'!$A14,DataEx!$D:$D,0),MATCH('2015'!M$6,DataEx!$7:$7,0)) -> 107539.78 | N14: =+INDEX(DataEx!$1:$1048576,MATCH('2015'!$A14,DataEx!$D:$D,0),MATCH('2015'!N$6,DataEx!$7:$7,0)) -> 0 | ... R14: =+INDEX(DataEx!$1:$1048576,MATCH('2015'!$A14,DataEx!$D:$D,0),MATCH('2015'!R$6,DataEx!$7:$7,0)) -> 0 | S14: =+SUM(G14:R14) -> 742642.81 | T14: =+S14/$T$7 -> 0.00020743633
A15: 7114 | B15: =+VLOOKUP($A15,Master!$D$22:$G$218,4,FALSE) -> Porez na dodatu vrijednost | G15: =+INDEX(DataEx!$1:$1048576,MATCH('2015'!$A15,DataEx!$D:$D,0),MATCH('2015'!G$6,DataEx!$7:$7,0)) -> 31202700 | H15: =+INDEX(DataEx!$1:$1048576,MATCH('2015'!$A15,DataEx!$D:$D,0),MATCH('2015'!H$6,DataEx!$7:$7,0)) -> 32500383 | I15: =+INDEX(DataEx!$1:$1048576,MATCH('2015'!$A15,DataEx!$D:$D,0),MATCH('2015'!I$6,DataEx!$7:$7,0)) -> 29666863 | J15: =+INDEX(DataEx!$1:$1048576,MATCH('2015'!$A15,DataEx!$D:$D,0),MATCH('2015'!J$6,DataEx!$7:$7,0)) -> 33285867 | K15: =+INDEX(DataEx!$1:$1048576,MATCH('2015'!$A15,DataEx!$D:$D,0),MATCH('2015'!K$6,DataEx!$7:$7,0)) -> 38310410 | L15: =+INDEX(DataEx!$1:$1048576,MATCH('2015'!$A15,DataEx!$D:$D,0),MATCH('2015'!L$6,DataEx!$7:$7,0)) -> 44764837 | M15: =+INDEX(DataEx!$1:$1048576,MATCH('2015'!$A15,DataEx!$D:$D,0),MATCH('2015'!M$6,DataEx!$7:$7,0)) -> 45939445 | N15: =+INDEX(DataEx!$1:$1048576,MATCH('2015'!$A15,DataEx!$D:$D,0),MATCH('2015'!N$6,DataEx!$7:$7,0)) -> 0 | ... R15: =+INDEX(DataEx!$1:$1048576,MATCH('2015'!$A15,DataEx!$D:$D,0),MATCH('2015'!R$6,DataEx!$7:$7,0)) -> 0 | S15: =+SUM(G15:R15) -> 2.556705e+08 | T15: =+S15/$T$7 -> 0.071414347
A16: 7115 | B16: =+VLOOKUP($A16,Master!$D$22:$G$218,4,FALSE) -> Akcize | G16: =+INDEX(DataEx!$1:$1048576,MATCH('2015'!$A16,DataEx!$D:$D,0),MATCH('2015'!G$6,DataEx!$7:$7,0)) -> 11276887 | H16: =+INDEX(DataEx!$1:$1048576,MATCH('2015'!$A16,DataEx!$D:$D,0),MATCH('2015'!H$6,DataEx!$7:$7,0)) -> 9929984.3 | I16: =+INDEX(DataEx!$1:$1048576,MATCH('2015'!$A16,DataEx!$D:$D,0),MATCH('2015'!I$6,DataEx!$7:$7,0)) -> 10877771 | J16: =+INDEX(DataEx!$1:$1048576,MATCH('2015'!$A16,DataEx!$D:$D,0),MATCH('2015'!J$6,DataEx!$7:$7,0)) -> 11002378 | K16: =+INDEX(DataEx!$1:$1048576,MATCH('2015'!$A16,DataEx!$D:$D,0),MATCH('2015'!K$6,DataEx!$7:$7,0)) -> 12787561 | L16: =+INDEX(DataEx!$1:$1048576,MATCH('2015'!$A16,DataEx!$D:$D,0),MATCH('2015'!L$6,DataEx!$7:$7,0)) -> 14052956 | M16: =+INDEX(DataEx!$1:$1048576,MATCH('2015'!$A16,DataEx!$D:$D,0),MATCH('2015'!M$6,DataEx!$7:$7,0)) -> 16782489 | N16: =+INDEX(DataEx!$1:$1048576,MATCH('2015'!$A16,DataEx!$D:$D,0),MATCH('2015'!N$6,DataEx!$7:$7,0)) -> 0 | ... R16: =+INDEX(DataEx!$1:$1048576,MATCH('2015'!$A16,DataEx!$D:$D,0),MATCH('2015'!R$6,DataEx!$7:$7,0)) -> 0 | S16: =+SUM(G16:R16) -> 86710027 | T16: =+S16/$T$7 -> 0.024220001
A17: 7116 | B17: =+VLOOKUP($A17,Master!$D$22:$G$218,4,FALSE) -> Porez na međunarodnu trgovinu i transakcije | G17: =+INDEX(DataEx!$1:$1048576,MATCH('2015'!$A17,DataEx!$D:$D,0),MATCH('2015'!G$6,DataEx!$7:$7,0)) -> 1071213.9 | H17: =+INDEX(DataEx!$1:$1048576,MATCH('2015'!$A17,DataEx!$D:$D,0),MATCH('2015'!H$6,DataEx!$7:$7,0)) -> 1444482.9 | I17: =+INDEX(DataEx!$1:$1048576,MATCH('2015'!$A17,DataEx!$D:$D,0),MATCH('2015'!I$6,DataEx!$7:$7,0)) -> 2074964.3 | J17: =+INDEX(DataEx!$1:$1048576,MATCH('2015'!$A17,DataEx!$D:$D,0),MATCH('2015'!J$6,DataEx!$7:$7,0)) -> 1815828.5 | K17: =+INDEX(DataEx!$1:$1048576,MATCH('2015'!$A17,DataEx!$D:$D,0),MATCH('2015'!K$6,DataEx!$7:$7,0)) -> 1872861 | L17: =+INDEX(DataEx!$1:$1048576,MATCH('2015'!$A17,DataEx!$D:$D,0),MATCH('2015'!L$6,DataEx!$7:$7,0)) -> 1899753.9 | M17: =+INDEX(DataEx!$1:$1048576,MATCH('2015'!$A17,DataEx!$D:$D,0),MATCH('2015'!M$6,DataEx!$7:$7,0)) -> 2390343.2 | N17: =+INDEX(DataEx!$1:$1048576,MATCH('2015'!$A17,DataEx!$D:$D,0),MATCH('2015'!N$6,DataEx!$7:$7,0)) -> 0 | ... R17: =+INDEX(DataEx!$1:$1048576,MATCH('2015'!$A17,DataEx!$D:$D,0),MATCH('2015'!R$6,DataEx!$7:$7,0)) -> 0 | S17: =+SUM(G17:R17) -> 12569448 | T17: =+S17/$T$7 -> 0.0035109209
A18: 7117 | B18: =+VLOOKUP($A18,Master!$D$22:$G$218,4,FALSE) -> Lokalni porezi | G18: =+INDEX(DataEx!$1:$1048576,MATCH('2015'!$A18,DataEx!$D:$D,0),MATCH('2015'!G$6,DataEx!$7:$7,0)) -> 0 | H18: =+INDEX(DataEx!$1:$1048576,MATCH('2015'!$A18,DataEx!$D:$D,0),MATCH('2015'!H$6,DataEx!$7:$7,0)) -> 0 | I18: =+INDEX(DataEx!$1:$1048576,MATCH('2015'!$A18,DataEx!$D:$D,0),MATCH('2015'!I$6,DataEx!$7:$7,0)) -> 0 | J18: =+INDEX(DataEx!$1:$1048576,MATCH('2015'!$A18,DataEx!$D:$D,0),MATCH('2015'!J$6,DataEx!$7:$7,0)) -> 0 | K18: =+INDEX(DataEx!$1:$1048576,MATCH('2015'!$A18,DataEx!$D:$D,0),MATCH('2015'!K$6,DataEx!$7:$7,0)) -> 0 | L18: =+INDEX(DataEx!$1:$1048576,MATCH('2015'!$A18,DataEx!$D:$D,0),MATCH('2015'!L$6,DataEx!$7:$7,0)) -> 0 | M18: =+INDEX(DataEx!$1:$1048576,MATCH('2015'!$A18,DataEx!$D:$D,0),MATCH('2015'!M$6,DataEx!$7:$7,0)) -> 0 | N18: =+INDEX(DataEx!$1:$1048576,MATCH('2015'!$A18,DataEx!$D:$D,0),MATCH('2015'!N$6,DataEx!$7:$7,0)) -> 0 | ... R18: =+INDEX(DataEx!$1:$1048576,MATCH('2015'!$A18,DataEx!$D:$D,0),MATCH('2015'!R$6,DataEx!$7:$7,0)) -> 0 | S18: =+SUM(G18:R18) -> 0 | T18: =+S18/$T$7 -> 0
