Workbook
Name _2015plan: '2018'!$A$103:$A$162
Name _2015plan: '2019'!$A$100:$A$159
Name _2015plan: '2020'!$A$100:$A$157
Name _2015plan: '2021'!$A$81:$A$138
Name _2015plan: '2022'!$A$83:$A$140
Name _2015plan: '2023'!$A$83:$A$142
Name _2015plan: '2024'!$A$83:$A$142
Name _2015plan: '2025'!$A$83:$A$142
Name _2015plan: '2026'!$A$83:$A$142

Sheet Analitika - 2014
E2: =+Master!G6 -> Crna Gora
E3: =+Master!G7 -> Ministarstvo finansija
E4: =+Master!G8 -> Direktorat za državni budžet
N6: =+IF(Master!B3-10>=0,CONCATENATE(Master!B4,"-",Master!B3),CONCATENATE(Master!B4,"-0",Master!B3)) -> 2026-09 | O6: =+CONCATENATE(N6,"p") -> 2026-09p | R6: =+IF(Master!B3-10>=0,CONCATENATE(Master!B4-1,"-",Master!B3),CONCATENATE(Master!B4-1,"-0",Master!B3)) -> 2025-09
B7: Analitika Jan-Dec 2014 | G7: Jan - Dec 2014 | N7: =+Master!G243 -> Decembar
G8: =+Master!G26 -> Ostvarenje | H8: =+Master!G25 -> Plan | I8: =+Master!G261 -> Odstupanje | K8: =+CONCATENATE(Master!G246," ",Master!B4-1) -> Jan - Sep 2025 | L8: =+I8 -> Odstupanje | N8: =+G8 -> Ostvarenje | O8: =+H8 -> Plan | P8: =+I8 -> Odstupanje | R8: =+CONCATENATE(Master!G245," ",Master!B4-1) -> Septembar 2025 | S8: =+P8 -> Odstupanje
G9: mil. € | H9: mil. € | I9: mil. € | J9: % | K9: mil. € | L9: mil. € | M9: % | N9: mil. € | O9: mil. € | P9: mil. € | Q9: % | R9: mil. € | S9: mil. € | T9: %
A10: 7 | B10: =+VLOOKUP($A10,Master!$D$30:$G$226,4,FALSE) -> Prihodi budžeta | G10: 1.3518532e+09 | H10: 1.2760564e+09 | I10: =+G10-H10 -> 75796777 | J10: =+IF(ISNUMBER(G10/H10-1),G10/H10-1,"…") -> 0.059399238 | K10: 1.2434365e+09 | L10: =+G10-K10 -> 1.0841667e+08 | M10: =+IF(ISNUMBER(G10/K10-1),G10/K10-1,"…") -> 0.087191157 | N10: 1.5524904e+08 | O10: 1.4561229e+08 | P10: =+N10-O10 -> 9636747 | Q10: =+IF(ISNUMBER(N10/O10-1),N10/O10-1,"…") -> 0.066180862 | R10: 1.4512e+08 | S10: =+N10-R10 -> 10129036 | T10: =+IF(ISNUMBER(N10/R10-1),N10/R10-1,"…") -> 0.069797658
A11: 711 | B11: =+VLOOKUP($A11,Master!$D$30:$G$226,4,FALSE) -> Porezi | G11: 8.3320358e+08 | H11: 7.978289e+08 | I11: =+G11-H11 -> 35374681 | J11: =+IF(ISNUMBER(G11/H11-1),G11/H11-1,"…") -> 0.044338681 | K11: 7.5569646e+08 | L11: =+G11-K11 -> 77507123 | M11: =+IF(ISNUMBER(G11/K11-1),G11/K11-1,"…") -> 0.10256383 | N11: 70043887 | O11: 76418346 | P11: =+N11-O11 -> -6374459.3 | Q11: =+IF(ISNUMBER(N11/O11-1),N11/O11-1,"…") -> -0.0834153 | R11: 72178169 | S11: =+N11-R11 -> -2134281.8 | T11: =+IF(ISNUMBER(N11/R11-1),N11/R11-1,"…") -> -0.029569631
A12: 7111 | B12: =+VLOOKUP($A12,Master!$D$30:$G$226,4,FALSE) -> Porez na dohodak fizičkih lica | G12: 1.0440582e+08 | H12: 96011655 | I12: =+G12-H12 -> 8394167.1 | J12: =+IF(ISNUMBER(G12/H12-1),G12/H12-1,"…") -> 0.087428626 | K12: 95618434 | L12: =+G12-K12 -> 8787387.8 | M12: =+IF(ISNUMBER(G12/K12-1),G12/K12-1,"…") -> 0.091900561 | N12: 15621993 | O12: 15517267 | P12: =+N12-O12 -> 104725.9 | Q12: =+IF(ISNUMBER(N12/O12-1),N12/O12-1,"…") -> 0.0067489912 | R12: 15533678 | S12: =+N12-R12 -> 88315.44 | T12: =+IF(ISNUMBER(N12/R12-1),N12/R12-1,"…") -> 0.0056854172
A13: 7112 | B13: =+VLOOKUP($A13,Master!$D$30:$G$226,4,FALSE) -> Porez na dobit pravnih lica | G13: 45020372 | H13: 44395642 | I13: =+G13-H13 -> 624729.97 | J13: =+IF(ISNUMBER(G13/H13-1),G13/H13-1,"…") -> 0.014071876 | K13: 40638726 | L13: =+G13-K13 -> 4381645.1 | M13: =+IF(ISNUMBER(G13/K13-1),G13/K13-1,"…") -> 0.10781945 | N13: 1484776.3 | O13: 1100346.3 | P13: =+N13-O13 -> 384430 | Q13: =+IF(ISNUMBER(N13/O13-1),N13/O13-1,"…") -> 0.34937183 | R13: 1041215.8 | S13: =+N13-R13 -> 443560.48 | T13: =+IF(ISNUMBER(N13/R13-1),N13/R13-1,"…") -> 0.42600243
A14: 7113 | B14: =+VLOOKUP($A14,Master!$D$30:$G$226,4,FALSE) -> Porez na promet nepokretnosti | G14: 1479399.9 | H14: 1544536.7 | I14: =+G14-H14 -> -65136.793 | J14: =+IF(ISNUMBER(G14/H14-1),G14/H14-1,"…") -> -0.042172383 | K14: 1440565.3 | L14: =+G14-K14 -> 38834.56 | M14: =+IF(ISNUMBER(G14/K14-1),G14/K14-1,"…") -> 0.026957861 | N14: 164005.83 | O14: 149884.27 | P14: =+N14-O14 -> 14121.559 | Q14: =+IF(ISNUMBER(N14/O14-1),N14/O14-1,"…") -> 0.094216415 | R14: 140999.42 | S14: =+N14-R14 -> 23006.41 | T14: =+IF(ISNUMBER(N14/R14-1),N14/R14-1,"…") -> 0.1631667
A15: 7114 | B15: =+VLOOKUP($A15,Master!$D$30:$G$226,4,FALSE) -> Porez na dodatu vrijednost | G15: 4.9758919e+08 | H15: 4.5594563e+08 | I15: =+G15-H15 -> 41643562 | J15: =+IF(ISNUMBER(G15/H15-1),G15/H15-1,"…") -> 0.091334491 | K15: 4.2919507e+08 | L15: =+G15-K15 -> 68394123 | M15: =+IF(ISNUMBER(G15/K15-1),G15/K15-1,"…") -> 0.1593544 | N15: 37184323 | O15: 41248055 | P15: =+N15-O15 -> -4063732.8 | Q15: =+IF(ISNUMBER(N15/O15-1),N15/O15-1,"…") -> -0.098519378 | R15: 40192913 | S15: =+N15-R15 -> -3008590.5 | T15: =+IF(ISNUMBER(N15/R15-1),N15/R15-1,"…") -> -0.074853755
A16: 7115 | B16: =+VLOOKUP($A16,Master!$D$30:$G$226,4,FALSE) -> Akcize | G16: 1.5646695e+08 | H16: 1.7111199e+08 | I16: =+G16-H16 -> -14645042 | J16: =+IF(ISNUMBER(G16/H16-1),G16/H16-1,"…") -> -0.085587468 | K16: 1.6144547e+08 | L16: =+G16-K16 -> -4978523.4 | M16: =+IF(ISNUMBER(G16/K16-1),G16/K16-1,"…") -> -0.030837182 | N16: 13096344 | O16: 16210264 | P16: =+N16-O16 -> -3113920.1 | Q16: =+IF(ISNUMBER(N16/O16-1),N16/O16-1,"…") -> -0.19209559 | R16: 13187797 | S16: =+N16-R16 -> -91453.46 | T16: =+IF(ISNUMBER(N16/R16-1),N16/R16-1,"…") -> -0.0069347033
A17: 7116 | B17: =+VLOOKUP($A17,Master!$D$30:$G$226,4,FALSE) -> Porez na međunarodnu trgovinu i transakcije | G17: 22270229 | H17: 23735354 | I17: =+G17-H17 -> -1465124.2 | J17: =+IF(ISNUMBER(G17/H17-1),G17/H17-1,"…") -> -0.061727508 | K17: 22269383 | L17: =+G17-K17 -> 846.82 | M17: =+IF(ISNUMBER(G17/K17-1),G17/K17-1,"…") -> 3.80262e-05 | N17: 1965267.8 | O17: 1802456.7 | P17: =+N17-O17 -> 162811.11 | Q17: =+IF(ISNUMBER(N17/O17-1),N17/O17-1,"…") -> 0.090327336 | R17: 1691131.2 | S17: =+N17-R17 -> 274136.58 | T17: =+IF(ISNUMBER(N17/R17-1),N17/R17-1,"…") -> 0.16210249
A18: 7117 | B18: =+VLOOKUP($A18,Master!$D$30:$G$226,4,FALSE) -> #N/A | G18: 0 | H18: 0 | I18: =+G18-H18 -> 0 | J18: =+IF(ISNUMBER(G18/H18-1),G18/H18-1,"…") -> … | K18: 0 | L18: =+G18-K18 -> 0 | M18: =+IF(ISNUMBER(G18/K18-1),G18/K18-1,"…") -> … | N18: 0 | O18: 0 | P18: =+N18-O18 -> 0 | Q18: =+IF(ISNUMBER(N18/O18-1),N18/O18-1,"…") -> … | R18: 0 | S18: =+N18-R18 -> 0 | T18: =+IF(ISNUMBER(N18/R18-1),N18/R18-1,"…") -> …
A19: 7118 | B19: =+VLOOKUP($A19,Master!$D$30:$G$226,4,FALSE) -> Ostali državni porezi | G19: 5971620.5 | H19: 5084095.8 | I19: =+G19-H19 -> 887524.67 | J19: =+IF(ISNUMBER(G19/H19-1),G19/H19-1,"…") -> 0.17456883 | K19: 5088811.8 | L19: =+G19-K19 -> 882808.71 | M19: =+IF(ISNUMBER(G19/K19-1),G19/K19-1,"…") -> 0.17348032 | N19: 527177.4 | O19: 390072.41 | P19: =+N19-O19 -> 137104.99 | Q19: =+IF(ISNUMBER(N19/O19-1),N19/O19-1,"…") -> 0.35148599 | R19: 390434.24 | S19: =+N19-R19 -> 136743.16 | T19: =+IF(ISNUMBER(N19/R19-1),N19/R19-1,"…") -> 0.35023352
A20: 712 | B20: =+VLOOKUP($A20,Master!$D$30:$G$226,4,FALSE) -> Doprinosi | G20: 4.4430324e+08 | H20: 3.9782317e+08 | I20: =+G20-H20 -> 46480071 | J20: =+IF(ISNUMBER(G20/H20-1),G20/H20-1,"…") -> 0.11683601 | K20: 3.9849428e+08 | L20: =+G20-K20 -> 45808960 | M20: =+IF(ISNUMBER(G20/K20-1),G20/K20-1,"…") -> 0.11495513 | N20: 75176039 | O20: 59783745 | P20: =+N20-O20 -> 15392294 | Q20: =+IF(ISNUMBER(N20/O20-1),N20/O20-1,"…") -> 0.25746621 | R20: 60241081 | S20: =+N20-R20 -> 14934958 | T20: =+IF(ISNUMBER(N20/R20-1),N20/R20-1,"…") -> 0.24791982
A21: 7121 | B21: =+VLOOKUP($A21,Master!$D$30:$G$226,4,FALSE) -> Doprinosi za penzijsko i invalidsko osiguranje | G21: 2.7012023e+08 | H21: 2.348824e+08 | I21: =+G21-H21 -> 35237831 | J21: =+IF(ISNUMBER(G21/H21-1),G21/H21-1,"…") -> 0.1500233 | K21: 2.4194936e+08 | L21: =+G21-K21 -> 28170872 | M21: =+IF(ISNUMBER(G21/K21-1),G21/K21-1,"…") -> 0.11643293 | N21: 45661636 | O21: 35471517 | P21: =+N21-O21 -> 10190118 | Q21: =+IF(ISNUMBER(N21/O21-1),N21/O21-1,"…") -> 0.28727607 | R21: 36741485 | S21: =+N21-R21 -> 8920151 | T21: =+IF(ISNUMBER(N21/R21-1),N21/R21-1,"…") -> 0.24278145
... A53: 462 | B53: =+VLOOKUP($A53,Master!$D$30:$G$226,4,FALSE) -> Otplata garancija | G53: 15258931 | H53: 0 | I53: =+G53-H53 -> 15258931 | J53: =+IF(ISNUMBER(G53/H53-1),G53/H53-1,"…") -> … | K53: 1.0723059e+08 | L53: =+G53-K53 -> -91971662 | M53: =+IF(ISNUMBER(G53/K53-1),G53/K53-1,"…") -> -0.85769984 | N53: 0 | O53: 0 | P53: =+N53-O53 -> 0 | Q53: =+IF(ISNUMBER(N53/O53-1),N53/O53-1,"…") -> … | R53: 575548.03 | S53: =+N53-R53 -> -575548.03 | T53: =+IF(ISNUMBER(N53/R53-1),N53/R53-1,"…") -> -1
A54: 4630 | B54: =+VLOOKUP($A54,Master!$D$30:$G$226,4,FALSE) -> Otplata obaveza iz prethodnog perioda | G54: 65272880 | H54: 0 | I54: =+G54-H54 -> 65272880 | J54: =+IF(ISNUMBER(G54/H54-1),G54/H54-1,"…") -> … | K54: 60543190 | L54: =+G54-K54 -> 4729690.1 | M54: =+IF(ISNUMBER(G54/K54-1),G54/K54-1,"…") -> 0.078120926 | N54: 18916388 | O54: 0 | P54: =+N54-O54 -> 18916388 | Q54: =+IF(ISNUMBER(N54/O54-O592),N54/O54-1,"…") -> … | R54: 7480893.2 | S54: =+N54-R54 -> 11435495 | T54: =+IF(ISNUMBER(N54/R54-1),N54/R54-1,"…") -> 1.5286269
A55: 1005 | B55: =+VLOOKUP($A55,Master!$D$30:$G$228,4,FALSE) -> Neto povećanje obaveza | G55: 0 | H55: 0 | I55: =+G55-H55 -> 0 | J55: =+IF(ISNUMBER(G55/H55-1),G55/H55-1,"…") -> … | K55: 14438105 | L55: =+G55-K55 -> -14438105 | M55: =+IF(ISNUMBER(G55/K55-1),G55/K55-1,"…") -> -1 | N55: 0 | O55: 0 | P55: =+N55-O55 -> 0 | Q55: =+IF(ISNUMBER(N55/O55-O593),N55/O55-1,"…") -> … | R55: 14438105 | S55: =+N55-R55 -> -14438105 | T55: =+IF(ISNUMBER(N55/R55-1),N55/R55-1,"…") -> -1
A56: 1000 | B56: =+VLOOKUP($A56,Master!$D$30:$G$226,4,FALSE) -> Suficit / deficit | G56: -1.0257142e+08 | H56: -61509738 | I56: =+G56-H56 -> -41061678 | J56: =+IF(ISNUMBER(G56/H56-1),G56/H56-1,"…") -> 0.66756386 | K56: -2.1579131e+08 | L56: =+G56-K56 -> 1.132199e+08 | M56: =+IF(ISNUMBER(G56/K56-1),G56/K56-1,"…") -> -0.52467309 | N56: -18669590 | O56: 34982925 | P56: =+N56-O56 -> -53652515 | Q56: =+IF(ISNUMBER(N56/O56-1),N56/O56-1,"…") -> -1.5336772 | R56: -29741467 | S56: =+N56-R56 -> 11071877 | T56: =+IF(ISNUMBER(N56/R56-1),N56/R56-1,"…") -> -0.3722707
A57: 1001 | B57: =+VLOOKUP($A57,Master!$D$30:$G$226,4,FALSE) -> Primarni suficit/deficit | G57: -27589445 | H57: 11767453 | I57: =+G57-H57 -> -39356898 | J57: =+IF(ISNUMBER(G57/H57-1),G57/H57-1,"…") -> -3.3445554 | K57: -1.4786854e+08 | L57: =+G57-K57 -> 1.2027909e+08 | M57: =+IF(ISNUMBER(G57/K57-1),G57/K57-1,"…") -> -0.81341909 | N57: -12993473 | O57: 41280039 | P57: =+N57-O57 -> -54273511 | Q57: =+IF(ISNUMBER(N57/O57-1),N57/O57-1,"…") -> -1.3147641 | R57: -24129601 | S57: =+N57-R57 -> 11136128 | T57: =+IF(ISNUMBER(N57/R57-1),N57/R57-1,"…") -> -0.46151315
A58: 46 | B58: =+VLOOKUP($A58,Master!$D$30:$G$226,4,FALSE) -> Otplata dugova | G58: 2.0975095e+08 | H58: 1.7142691e+08 | I58: =+G58-H58 -> 38324047 | J58: =+IF(ISNUMBER(G58/H58-1),G58/H58-1,"…") -> 0.22355911 | K58: 1.7402545e+08 | L58: =+G58-K58 -> 35725501 | M58: =+IF(ISNUMBER(G58/K58-1),G58/K58-1,"…") -> 0.20528894 | N58: 31216208 | O58: 14285575 | P58: =+N58-O58 -> 16930633 | Q58: =+IF(ISNUMBER(N58/O58-1),N58/O58-1,"…") -> 1.1851558 | R58: 64186409 | S58: =+N58-R58 -> -32970200 | T58: =+IF(ISNUMBER(N58/R58-1),N58/R58-1,"…") -> -0.51366327
A59: 4611 | B59: =+VLOOKUP($A59,Master!$D$30:$G$226,4,FALSE) -> Otplata hartija od vrijednosti i kredita rezidentima | G59: 99756837 | H59: 30008345 | I59: =+G59-H59 -> 69748492 | J59: =+IF(ISNUMBER(G59/H59-1),G59/H59-1,"…") -> 2.3243032 | K59: 1.0762102e+08 | L59: =+G59-K59 -> -7864183.6 | M59: =+IF(ISNUMBER(G59/K59-1),G59/K59-1,"…") -> -0.073072933 | N59: 9805053.8 | O59: 2500695.4 | P59: =+N59-O59 -> 7304358.4 | Q59: =+IF(ISNUMBER(N59/O59-1),N59/O59-1,"…") -> 2.9209308 | R59: 48820983 | S59: =+N59-R59 -> -39015929 | T59: =+IF(ISNUMBER(N59/R59-1),N59/R59-1,"…") -> -0.79916312
A60: 4612 | B60: =+VLOOKUP($A60,Master!$D$30:$G$226,4,FALSE) -> Otplata hartija od vrijednosti i kredita nerezidentima | G60: 1.0999412e+08 | H60: 1.080804e+08 | I60: =+G60-H60 -> 1913715.2 | J60: =+IF(ISNUMBER(G60/H60-1),G60/H60-1,"…") -> 0.017706404 | K60: 66404431 | L60: =+G60-K60 -> 43589684 | M60: =+IF(ISNUMBER(G60/K60-1),G60/K60-1,"…") -> 0.65642734 | N60: 21411155 | O60: 9006700 | P60: =+N60-O60 -> 12404455 | Q60: =+IF(ISNUMBER(N60/O60-1),N60/O60-1,"…") -> 1.3772474 | R60: 15365426 | S60: =+N60-R60 -> 6045728.8 | T60: =+IF(ISNUMBER(N60/R60-1),N60/R60-1,"…") -> 0.39346314
A61: 4630p | B61: =+B54 -> Otplata obaveza iz prethodnog perioda | H61: 33338160 | I61: =+G61-H61 -> -33338160 | J61: =+IF(ISNUMBER(G61/H61-1),G61/H61-1,"…") -> -1 | L61: =+G61-K61 -> 0 | M61: =+IF(ISNUMBER(G61/K61-1),G61/K61-1,"…") -> … | O61: 2778180
A62: 1002 | B62: =+VLOOKUP($A62,Master!$D$30:$G$226,4,FALSE) -> Nedostajuća sredstva | G62: -3.1232237e+08 | H62: -2.3293664e+08 | I62: =+G62-H62 -> -79385725 | J62: =+IF(ISNUMBER(G62/H62-1),G62/H62-1,"…") -> 0.34080394 | K62: -3.8981676e+08 | L62: =+G62-K62 -> 77494395 | M62: =+IF(ISNUMBER(G62/K62-1),G62/K62-1,"…") -> -0.19879698 | N62: -49885799 | O62: 20697350 | P62: =+N62-O62 -> -70583148 | Q62: =+IF(ISNUMBER(N62/O62-1),N62/O62-1,"…") -> -3.4102506 | R62: -93927876 | S62: =+N62-R62 -> 44042077 | T62: =+IF(ISNUMBER(N62/R62-1),N62/R62-1,"…") -> -0.46889251
A63: 1003 | B63: =+VLOOKUP($A63,Master!$D$30:$G$226,4,FALSE) -> Finansiranje | G63: 3.1232237e+08 | H63: 2.3293664e+08 | I63: =+G63-H63 -> 79385725 | J63: =+IF(ISNUMBER(G63/H63-1),G63/H63-1,"…") -> 0.34080394 | K63: 3.8981676e+08 | L63: =+G63-K63 -> -77494395 | M63: =+IF(ISNUMBER(G63/K63-1),G63/K63-1,"…") -> -0.19879698 | N63: 49885799 | O63: -20697350 | P63: =+N63-O63 -> 70583148 | Q63: =+IF(ISNUMBER(N63/O63-1),N63/O63-1,"…") -> -3.4102506 | R63: 93927876 | S63: =+N63-R63 -> -44042077 | T63: =+IF(ISNUMBER(N63/R63-1),N63/R63-1,"…") -> -0.46889251
A64: 7511 | B64: =+VLOOKUP($A64,Master!$D$30:$G$226,4,FALSE) -> Pozajmice i krediti od domaćih izvora | G64: 1.0441076e+08 | H64: 0 | I64: =+G64-H64 -> 1.0441076e+08 | J64: =+IF(ISNUMBER(G64/H64-1),G64/H64-1,"…") -> … | K64: 145350142 | L64: =+G64-K64 -> -40939382 | M64: =+IF(ISNUMBER(G64/K64-1),G64/K64-1,"…") -> -0.28166042 | N64: 6000000 | O64: 0 | P64: =+N64-O64 -> 6000000 | Q64: =+IF(ISNUMBER(N64/O64-1),N64/O64-1,"…") -> … | R64: 20000000 | S64: =+N64-R64 -> -14000000 | T64: =+IF(ISNUMBER(N64/R64-1),N64/R64-1,"…") -> -0.7
A65: 7512 | B65: =+VLOOKUP($A65,Master!$D$30:$G$226,4,FALSE) -> Pozajmice i krediti od inostranih izvora | G65: 2.057475e+08 | H65: 2.2797558e+08 | I65: =+G65-H65 -> -22228072 | J65: =+IF(ISNUMBER(G65/H65-1),G65/H65-1,"…") -> -0.097501989 | K65: 1.8851721e+08 | L65: =+G65-K65 -> 17230295 | M65: =+IF(ISNUMBER(G65/K65-1),G65/K65-1,"…") -> 0.091399059 | N65: 991400.61 | O65: 18997965 | P65: =+N65-O65 -> -18006564 | Q65: =+IF(ISNUMBER(N65/O65-1),N65/O65-1,"…") -> -0.94781543 | R65: 83544900 | S65: =+N65-R65 -> -82553500 | T65: =+IF(ISNUMBER(N65/R65-1),N65/R65-1,"…") -> -0.98813332
A66: 72 | B66: =+VLOOKUP($A66,Master!$D$30:$G$226,4,FALSE) -> Primici od prodaje imovine | G66: 3918918.7 | H66: 5000000 | I66: =+G66-H66 -> -1081081.3 | J66: =+IF(ISNUMBER(G66/H66-1),G66/H66-1,"…") -> -0.21621626 | K66: 11948846 | L66: =+G66-K66 -> -8029927.6 | M66: =+IF(ISNUMBER(G66/K66-1),G66/K66-1,"…") -> -0.67202535 | N66: 462623.71 | O66: 416666.67 | P66: =+N66-O66 -> 45957.043 | Q66: =+IF(ISNUMBER(N66/O66-1),N66/O66-1,"…") -> 0.1102969 | R66: 27299.41 | S66: =+N66-R66 -> 435324.3 | T66: =+IF(ISNUMBER(N66/R66-1),N66/R66-1,"…") -> 15.94629
A67: 1004 | B67: =+VLOOKUP($A67,Master!$D$30:$G$226,4,FALSE) -> Povećanje / smanjenje depozita | G67: -1754813.6 | H67: -38932.408 | I67: =+G67-H67 -> -1715881.2 | J67: =+IF(ISNUMBER(G67/H67-1),G67/H67-1,"…") -> 44.073338 | K67: 44000567 | L67: =+G67-K67 -> -45755380 | M67: =+IF(ISNUMBER(G67/K67-1),G67/K67-1,"…") -> -1.0398816 | N67: 42431774 | O67: -40111981 | P67: =+N67-O67 -> 82543755 | Q67: =+IF(ISNUMBER(N67/O67-1),N67/O67-1,"…") -> -2.0578329 | R67: -9644323.8 | S67: =+N67-R67 -> 52076098 | T67: =+IF(ISNUMBER(N67/R67-1),N67/R67-1,"…") -> -5.399663

Sheet Pregled
E2: =+Master!G6 -> Crna Gora
E3: =+Master!G7 -> Ministarstvo finansija
E4: =+Master!G8 -> Direktorat za državni budžet
D11: =+Master!G270 -> Prihodi za mjesec Septembar | G11: =+Master!G274 -> Prihodi za period Januar - Septembar
D12: =+'Analitika 2026'!N10 -> 3.1283896e+08 | E12: =+D12/'2026'!T7 -> 0.036413884 | G12: =+'Analitika 2026'!G10 -> 2.3184663e+09 | H12: =+G12/'2026'!T7 -> 0.26986525
D13: mil. € | E13: =+Master!G250 -> % BDP | G13: mil. € | H13: % BDP
D15: =+Master!G271 -> Rashodi za mjesec Septembar | G15: =+Master!G275 -> Rashodi za period Januar - Septembar
D16: =+'Analitika 2026'!N29 -> 2.908089e+08 | E16: =+D16/'2026'!T7 -> 0.033849625 | G16: =+'Analitika 2026'!G29 -> 2.4426756e+09 | H16: =+G16/'2026'!T7 -> 0.28432298
D17: =+D13 -> mil. € | E17: =+E13 -> % BDP | G17: mil. € | H17: % BDP
D19: =+Master!G272 -> Suficit/Deficit za mjesec Septembar | G19: =+Master!G276 -> Suficit/Deficit za period Januar - Septembar
D20: =+'Analitika 2026'!N53 -> 22030061 | E20: =+D20/'2026'!T7 -> 0.0025642589 | G20: =+'Analitika 2026'!G53 -> -1.2420931e+08 | H20: =+G20/'2026'!T7 -> -0.014457737
D21: =+D17 -> mil. € | E21: =+E17 -> % BDP | G21: mil. € | H21: % BDP

Sheet 2024
E2: =+Master!G6 -> Crna Gora
E3: =+Master!G7 -> Ministarstvo finansija
E4: =+Master!G8 -> Direktorat za državni budžet
G5: =+RIGHT(G6,2)*1 -> 1 | H5: =+RIGHT(H6,2)*1 -> 2 | I5: =+RIGHT(I6,2)*1 -> 3 | J5: =+RIGHT(J6,2)*1 -> 4 | K5: =+RIGHT(K6,2)*1 -> 5 | L5: =+RIGHT(L6,2)*1 -> 6 | M5: =+RIGHT(M6,2)*1 -> 7 | N5: =+RIGHT(N6,2)*1 -> 8 | ... R5: =+RIGHT(R6,2)*1 -> 12
G6: 2024-01 | H6: 2024-02 | I6: 2024-03 | J6: 2024-04 | K6: 2024-05 | L6: 2024-06 | M6: 2024-07 | N6: 2024-08 | O6: 2024-09 | P6: 2024-10 | Q6: 2024-11 | R6: 2024-12
B7: =+Master!G252 -> Ostvarenje budžeta | G7: 2024 | S7: =+Master!G249 -> BDP | T7: 7459213000
G8: =+[1]Master!G232 -> Januar | H8: =+[1]Master!G233 -> Februar | I8: =+[1]Master!G234 -> Mart | J8: =+[1]Master!G235 -> April | K8: =+[1]Master!G236 -> Maj | L8: =+[1]Master!G237 -> Jun | M8: =+Master!G238 -> Jul | N8: =+Master!G239 -> Avgust | O8: =+Master!G240 -> Septembar | P8: =+Master!G241 -> Oktobar | Q8: =+Master!G242 -> Novembar | R8: =+Master!G243 -> Decembar | S8: =+Master!G247 -> Jan - Dec
G9: mil. € | H9: mil. € | I9: mil. € | J9: mil. € | K9: mil. € | L9: mil. € | M9: mil. € | N9: mil. € | O9: mil. € | P9: mil. € | Q9: mil. € | R9: mil. € | S9: mil. € | T9: =+Master!G250 -> % BDP
A10: 7 | B10: =+VLOOKUP($A10,Master!$D$30:$G$226,4,FALSE) -> Prihodi budžeta | G10: =G11+G19+G24+G25+G26+G27+G28 -> 1.5093062e+08 | H10: =+H11+H19+SUM(H24:H28) -> 1.8024866e+08 | I10: =+I11+I19+SUM(I24:I28) -> 2.4454711e+08 | J10: =+J11+J19+SUM(J24:J28) -> 3.1757457e+08 | K10: =+K11+K19+SUM(K24:K28) -> 1.9519929e+08 | L10: =+L11+L19+SUM(L24:L28) -> 2.2123042e+08 | M10: =+M11+M19+SUM(M24:M28) -> 2.6323693e+08 | N10: =+N11+N19+SUM(N24:N28) -> 2.549402e+08 | O10: =+O11+O19+SUM(O24:O28) -> 2.4791114e+08 | ... R10: =+R11+R19+SUM(R24:R28) -> 2.5806531e+08 | S10: =+SUM(G10:R10) -> 2.7557173e+09 | T10: =+S10/$T$7*100 -> 36.943807
A11: 711 | B11: =+VLOOKUP($A11,Master!$D$30:$G$226,4,FALSE) -> Porezi | G11: =+SUM(G12:G18) -> 1.2201195e+08 | H11: =+SUM(H12:H18) -> 1.213086e+08 | I11: =+SUM(I12:I18) -> 1.8455737e+08 | J11: =+SUM(J12:J18) -> 237707133 | K11: =+SUM(K12:K18) -> 1.4072551e+08 | L11: =+SUM(L12:L18) -> 1.5300341e+08 | M11: =+SUM(M12:M18) -> 1.7628745e+08 | N11: =+SUM(N12:N18) -> 1.8777203e+08 | ... R11: =+SUM(R12:R18) -> 1.6863797e+08 | S11: =+SUM(G11:R11) -> 1.9685996e+09 | T11: =+S11/$T$7*100 -> 26.391519
A12: 7111 | B12: =+VLOOKUP($A12,Master!$D$30:$G$226,4,FALSE) -> Porez na dohodak fizičkih lica | G12: 1998079.1 | H12: 6162755.9 | I12: 6774640.8 | J12: 9120679.7 | K12: 7999182.8 | L12: 5714143.4 | M12: 8103849.5 | N12: 7506393.2 | O12: 6129815.2 | P12: 10490867 | Q12: 5042014.3 | R12: 13112925 | S12: =+SUM(G12:R12) -> 88155346 | T12: =+S12/$T$7*100 -> 1.1818317
A13: 7112 | B13: =+VLOOKUP($A13,Master!$D$30:$G$226,4,FALSE) -> Porez na dobit pravnih lica | G13: 1951464.9 | H13: 5771727.9 | I13: 71210823 | J13: 1.002699e+08 | K13: 6533790.2 | L13: 5452063.1 | M13: 6399901.1 | N13: 3297843.9 | O13: 3451625.8 | P13: 1559675.8 | Q13: 1503515.8 | R13: 6565545.1 | S13: =+SUM(G13:R13) -> 213967877 | T13: =+S13/$T$7*100 -> 2.8685047
A14: 7113 | B14: =+VLOOKUP($A14,Master!$D$30:$G$226,4,FALSE) -> Porez na promet nepokretnosti | G14: 0 | H14: 0 | I14: 0 | J14: 0 | K14: 0 | L14: 0 | M14: 0 | N14: 0 | O14: 0 | P14: 0 | Q14: 0 | R14: 0 | S14: =+SUM(G14:R14) -> 0 | T14: =+S14/$T$7*100 -> 0
A15: 7114 | B15: =+VLOOKUP($A15,Master!$D$30:$G$226,4,FALSE) -> Porez na dodatu vrijednost | G15: 91572727 | H15: 81980320 | I15: 78800497 | J15: 94537942 | K15: 88184793 | L15: 1.0088548e+08 | M15: 1.1941821e+08 | N15: 1.2648001e+08 | O15: 1.1969988e+08 | P15: 1.1892965e+08 | Q15: 90529869 | R15: 1.1157755e+08 | S15: =+SUM(G15:R15) -> 1.2225969e+09 | T15: =+S15/$T$7*100 -> 16.390428
A16: 7115 | B16: =+VLOOKUP($A16,Master!$D$30:$G$226,4,FALSE) -> Akcize | G16: 22556345 | H16: 22366847 | I16: 21994790 | J16: 26932676 | K16: 31723754 | L16: 34644163 | M16: 34841982 | N16: 43213446 | O16: 38641288 | P16: 33032025 | Q16: 28020759 | R16: 30621580 | S16: =+SUM(G16:R16) -> 3.6858965e+08 | T16: =+S16/$T$7*100 -> 4.9414014
A17: 7116 | B17: =+VLOOKUP($A17,Master!$D$30:$G$226,4,FALSE) -> Porez na međunarodnu trgovinu i transakcije | G17: 2997811.1 | H17: 3849203.3 | I17: 4636318.1 | J17: 5632584.2 | K17: 5010618.8 | L17: 5120393.1 | M17: 6113583.8 | N17: 5829872.3 | O17: 5498962.2 | P17: 5536331.3 | Q17: 4591287.3 | R17: 5559914.1 | S17: =+SUM(G17:R17) -> 60376880 | T17: =+S17/$T$7*100 -> 0.80942694
A18: 7118 | B18: =+VLOOKUP($A18,Master!$D$30:$G$226,4,FALSE) -> Ostali državni porezi | G18: 935525.03 | H18: 1177745.5 | I18: 1140306.6 | J18: 1213350.5 | K18: 1273370.3 | L18: 1187162.6 | M18: 1409919.1 | N18: 1444461.3 | O18: 1245145.1 | P18: 1392153.3 | Q18: 1293293.5 | R18: 1200461.9 | S18: =+SUM(G18:R18) -> 14912895 | T18: =+S18/$T$7*100 -> 0.19992585
A19: 712 | B19: =+VLOOKUP($A19,Master!$D$30:$G$226,4,FALSE) -> Doprinosi | G19: =SUM(G20:G23) -> 13548213 | H19: =SUM(H20:H23) -> 51209302 | I19: =SUM(I20:I23) -> 50079163 | J19: =SUM(J20:J23) -> 58312080 | K19: =SUM(K20:K23) -> 44239433 | L19: =SUM(L20:L23) -> 48567224 | M19: =SUM(M20:M23) -> 55016980 | N19: =SUM(N20:N23) -> 54498568 | ... R19: =SUM(R20:R23) -> 62375513 | S19: =+SUM(G19:R19) -> 5.8470654e+08 | T19: =+S19/$T$7*100 -> 7.8387163
A20: 7121 | B20: =+VLOOKUP($A20,Master!$D$30:$G$226,4,FALSE) -> Doprinosi za penzijsko i invalidsko osiguranje | G20: 12277377 | H20: 47091163 | I20: 45892078 | J20: 53612426 | K20: 40659762 | L20: 44568701 | M20: 50382564 | N20: 49830258 | O20: 50178880 | P20: 50008955 | Q20: 33816106 | R20: 54430291 | S20: =+SUM(G20:R20) -> 5.3274856e+08 | T20: =+S20/$T$7*100 -> 7.1421551
A21: 7122 | B21: =+VLOOKUP($A21,Master!$D$30:$G$226,4,FALSE) -> Doprinosi za zdravstveno osiguranje | G21: 307850.36 | H21: 382153.8 | I21: 494660.43 | J21: 456232.43 | K21: 296984.02 | L21: 372046.09 | M21: 516613.79 | N21: 463962.06 | O21: 380875.64 | P21: 631287.55 | Q21: 382115.57 | R21: 739249.91 | S21: =+SUM(G21:R21) -> 5424031.7 | T21: =+S21/$T$7*100 -> 0.07271587
A22: 7123 | B22: =+VLOOKUP($A22,Master!$D$30:$G$226,4,FALSE) -> Doprinosi za osiguranje od nezaposlenosti | G22: 569229.31 | H22: 2203988.6 | I22: 2137007.7 | J22: 2464722.1 | K22: 1910648.7 | L22: 2095564.4 | M22: 2381944.4 | N22: 2401758.4 | O22: 2372941.4 | P22: 2360830.6 | Q22: 1848685.1 | R22: 4213340.6 | S22: =+SUM(G22:R22) -> 26960661 | T22: =+S22/$T$7*100 -> 0.3614411
A23: 7124 | B23: =+VLOOKUP($A23,Master!$D$30:$G$226,4,FALSE) -> Ostali doprinosi | G23: 393756.44 | H23: 1531996.2 | I23: 1555417.1 | J23: 1778698.9 | K23: 1372039.1 | L23: 1530912.3 | M23: 1735857 | N23: 1802589.3 | O23: 1764765.6 | P23: 1761576.8 | Q23: 1353049 | R23: 2992632.1 | S23: =+SUM(G23:R23) -> 19573290 | T23: =+S23/$T$7*100 -> 0.26240422
A24: 713 | B24: =+VLOOKUP($A24,Master!$D$30:$G$226,4,FALSE) -> Takse | G24: 859681.09 | H24: 998586.78 | I24: 986568.83 | J24: 1424375.8 | K24: 1250720.2 | L24: 1305037.7 | M24: 1842088.1 | N24: 1839749.1 | O24: 1512961 | P24: 1483761.5 | Q24: 1124852.7 | R24: 1630932.8 | S24: =+SUM(G24:R24) -> 16259316 | T24: =+S24/$T$7*100 -> 0.21797629
A25: 714 | B25: =+VLOOKUP($A25,Master!$D$30:$G$226,4,FALSE) -> Naknade | G25: 2491580.7 | H25: 4111753.2 | I25: 3497306.6 | J25: 5307671.2 | K25: 3457943.4 | L25: 4104367.6 | M25: 6739444.4 | N25: 3916013.2 | O25: 4184422.2 | P25: 5561939.8 | Q25: 4081588.3 | R25: 5674136 | S25: =+SUM(G25:R25) -> 53128167 | T25: =+S25/$T$7*100 -> 0.71224896
A26: 715 | B26: =+VLOOKUP($A26,Master!$D$30:$G$226,4,FALSE) -> Ostali prihodi | G26: 7786873 | H26: 2506480.7 | I26: 2145814.9 | J26: 12837058 | K26: 3927503.8 | L26: 11737785 | M26: 20189939 | N26: 3567908.3 | O26: 9667575.5 | P26: 4545482.2 | Q26: 2028102.1 | R26: 11227785 | S26: =+SUM(G26:R26) -> 92168307 | T26: =+S26/$T$7*100 -> 1.2356305
A27: 73 | B27: =+VLOOKUP($A27,Master!$D$30:$G$226,4,FALSE) -> Primici od otplate kredita i sredstva prenesena iz prethodne godine | G27: 0 | H27: 0 | I27: 0 | J27: 0 | K27: 0 | L27: 0 | M27: 0 | N27: 0 | O27: 0 | P27: 0 | Q27: 0 | R27: 0 | S27: =+SUM(G27:R27) -> 0 | T27: =+S27/$T$7*100 -> 0
A28: 74 | B28: =+VLOOKUP($A28,Master!$D$30:$G$226,4,FALSE) -> Donacije i transferi | G28: 4232324.4 | H28: 113935.73 | I28: 3280879.6 | J28: 1986252.2 | K28: 1598183.9 | L28: 2512594.9 | M28: 3161033.9 | N28: 3345939.2 | O28: 3182006.7 | P28: 5569166 | Q28: 3354070.5 | R28: 8518966.4 | S28: =+SUM(G28:R28) -> 40855353 | T28: =+S28/$T$7*100 -> 0.54771667
A29: 4 | B29: =+VLOOKUP($A29,Master!$D$30:$G$226,4,FALSE) -> Izdaci budžeta | G29: =+G30+G40+G46+SUM(G47:G51) -> 1.3763596e+08 | H29: =+H30+H40+H46+SUM(H47:H51) -> 2.1435647e+08 | I29: =+I30+I40+I46+SUM(I47:I51) -> 2.3111336e+08 | J29: =+J30+J40+J46+SUM(J47:J51) -> 2.5886642e+08 | K29: =+K30+K40+K46+SUM(K47:K51) -> 2.1397279e+08 | L29: =+L30+L40+L46+SUM(L47:L51) -> 2.2430952e+08 | M29: =+M30+M40+M46+SUM(M47:M51) -> 2.4882782e+08 | N29: =+N30+N40+N46+SUM(N47:N51) -> 2.0435718e+08 | ... R29: =+R30+R40+R46+SUM(R47:R51) -> 5.0653009e+08 | S29: =+SUM(G29:R29) -> 3.0032656e+09 | T29: =+S29/$T$7*100 -> 40.262499
A30: 41 | B30: =+VLOOKUP($A30,Master!$D$30:$G$226,4,FALSE) -> Tekući izdaci | G30: =+SUM(G31:G39) -> 61594736 | H30: =+SUM(H31:H39) -> 82043744 | I30: =+SUM(I31:I39) -> 89978481 | J30: =+SUM(J31:J39) -> 1.0766289e+08 | K30: =+SUM(K31:K39) -> 86392977 | L30: =+SUM(L31:L39) -> 85927319 | M30: =+SUM(M31:M39) -> 88262304 | N30: =+SUM(N31:N39) -> 78686212 | ... R30: =+SUM(R31:R39) -> 1.898722e+08 | S30: =+SUM(G30:R30) -> 1.191702e+09 | T30: =+S30/$T$7*100 -> 15.976243
A31: 411 | B31: =+VLOOKUP($A31,Master!$D$30:$G$226,4,FALSE) -> Bruto zarade i doprinosi na teret poslodavca | G31: 55136606 | H31: 55692235 | I31: 55409710 | J31: 52206357 | K31: 59775777 | L31: 56817584 | M31: 56265870 | N31: 55237690 | O31: 57435269 | P31: 57178614 | Q31: 56295292 | R31: 57788253 | S31: =+SUM(G31:R31) -> 6.7523926e+08 | T31: =+S31/$T$7*100 -> 9.0524196
A32: 412 | B32: =+VLOOKUP($A32,Master!$D$30:$G$226,4,FALSE) -> Ostala lična primanja | G32: 104790.61 | H32: 1837884.5 | I32: 2257740.9 | J32: 1683604.6 | K32: 1510365 | L32: 1609176.7 | M32: 1737204.9 | N32: 1253292 | O32: 1536869.7 | P32: 1989821.8 | Q32: 1815072.9 | R32: 3369371.7 | S32: =+SUM(G32:R32) -> 20705195 | T32: =+S32/$T$7*100 -> 0.27757882
A33: 413 | B33: =+VLOOKUP($A33,Master!$D$30:$G$226,4,FALSE) -> Rashodi za materijal | G33: 201738.94 | H33: 3185464.5 | I33: 3529714.8 | J33: 3285232.9 | K33: 2227446.3 | L33: 2342625.5 | M33: 3340983.5 | N33: 1736766.4 | O33: 4477979 | P33: 3454251.1 | Q33: 2993781.4 | R33: 9282038 | S33: =+SUM(G33:R33) -> 40058022 | T33: =+S33/$T$7*100 -> 0.53702746
A34: 414 | B34: =+VLOOKUP($A34,Master!$D$30:$G$226,4,FALSE) -> Rashodi za usluge | G34: 757981.92 | H34: 3300375.7 | I34: 6875965.7 | J34: 6034145.7 | K34: 4158479.1 | L34: 5569605.4 | M34: 6877088.6 | N34: 3795777.3 | O34: 4358161.2 | P34: 7251119.8 | Q34: 8211565.2 | R34: 24116043 | S34: =+SUM(G34:R34) -> 81306308 | T34: =+S34/$T$7*100 -> 1.0900119
A35: 415 | B35: =+VLOOKUP($A35,Master!$D$30:$G$226,4,FALSE) -> Rashodi za tekuće održavanje | G35: 4201.6 | H35: 1444596.6 | I35: 1881519.3 | J35: 3225823.8 | K35: 501842.65 | L35: 3134652.5 | M35: 3729643.1 | N35: 2811315.1 | O35: 4060157.4 | P35: 2529921.9 | Q35: 2986528.8 | R35: 7558144.3 | S35: =+SUM(G35:R35) -> 33868347 | T35: =+S35/$T$7*100 -> 0.45404719
A36: 416 | B36: =+VLOOKUP($A36,Master!$D$30:$G$226,4,FALSE) -> Kamate | G36: 4029329.5 | H36: 4134269.1 | I36: 7187851.3 | J36: 31152461 | K36: 8072726.6 | L36: 5854358.3 | M36: 3738849.7 | N36: 3976245.2 | O36: 25966444 | P36: 14869851 | Q36: 13088142 | R36: 27215873 | S36: =+SUM(G36:R36) -> 1.492864e+08 | T36: =+S36/$T$7*100 -> 2.0013693
A37: 417 | B37: =+VLOOKUP($A37,Master!$D$30:$G$226,4,FALSE) -> Renta | G37: 155.47 | H37: 1060133 | I37: 1228548.3 | J37: 1368144.2 | K37: 707637.62 | L37: 996164.27 | M37: 1022257.6 | N37: 1097677.1 | O37: 456664.23 | P37: 871596.95 | Q37: 1032976.1 | R37: 3659045.2 | S37: =+SUM(G37:R37) -> 13501000 | T37: =+S37/$T$7*100 -> 0.18099765
A38: 418 | B38: =+VLOOKUP($A38,Master!$D$30:$G$226,4,FALSE) -> Subvencije | G38: 1261570 | H38: 3823193.8 | I38: 6034941.5 | J38: 4256461.2 | K38: 4091213.4 | L38: 5603254.6 | M38: 6020163.6 | N38: 5377628.5 | O38: 8420721.1 | P38: 11936637 | Q38: 14006808 | R38: 17955568 | S38: =+SUM(G38:R38) -> 88788161 | T38: =+S38/$T$7*100 -> 1.1903154
A39: 419 | B39: =+VLOOKUP($A39,Master!$D$30:$G$226,4,FALSE) -> Ostali izdaci | G39: 98362.58 | H39: 7565592.4 | I39: 5572488.8 | J39: 4450664.5 | K39: 5347489.5 | L39: 3999898.1 | M39: 5530243.2 | N39: 3399820.2 | O39: 3056347.7 | P39: 4834785.4 | Q39: 6165732.4 | R39: 38927861 | S39: =+SUM(G39:R39) -> 88949286 | T39: =+S39/$T$7*100 -> 1.1924755
A40: 42 | B40: =+VLOOKUP($A40,Master!$D$30:$G$226,4,FALSE) -> Transferi za socijalnu zaštitu | G40: =+SUM(G41:G45) -> 68104396 | H40: =+SUM(H41:H45) -> 82001954 | I40: =+SUM(I41:I45) -> 83531081 | J40: =+SUM(J41:J45) -> 83362794 | K40: =+SUM(K41:K45) -> 81960399 | L40: =+SUM(L41:L45) -> 84080432 | M40: =+SUM(M41:M45) -> 88657241 | N40: =+SUM(N41:N45) -> 85093908 | ... R40: =+SUM(R41:R45) -> 93229645 | S40: =+SUM(G40:R40) -> 1.0081678e+09 | T40: =+S40/$T$7*100 -> 13.515739
A41: 421 | B41: =+VLOOKUP($A41,Master!$D$30:$G$226,4,FALSE) -> Prava iz oblasti socijalne zaštite | G41: 17183647 | H41: 17507547 | I41: 16928238 | J41: 17627062 | K41: 17001906 | L41: 17979186 | M41: 16917527 | N41: 18622201 | O41: 16239773 | P41: 18952776 | Q41: 20366430 | R41: 17669067 | S41: =+SUM(G41:R41) -> 2.1299536e+08 | T41: =+S41/$T$7*100 -> 2.8554669
...

Sheet Analitika 2026
E2: =+Master!G6 -> Crna Gora
E3: =+Master!G7 -> Ministarstvo finansija
E4: =+Master!G8 -> Direktorat za državni budžet
N6: =+IF(Master!B3-10>=0,CONCATENATE(Master!B4,"-",Master!B3),CONCATENATE(Master!B4,"-0",Master!B3)) -> 2026-09 | O6: =+CONCATENATE(N6,"p") -> 2026-09p | R6: =+IF(Master!B3-10>=0,CONCATENATE(Master!B4-1,"-",Master!B3),CONCATENATE(Master!B4-1,"-0",Master!B3)) -> 2025-09
B7: =+Master!G254 -> Analitika za period Jan - Sep | G7: =+Master!G246 -> Jan - Sep | N7: =+Master!G245 -> Septembar
G8: =+Master!G26 -> Ostvarenje | H8: =+Master!G25 -> Plan | I8: =+Master!G261 -> Odstupanje | K8: =+CONCATENATE(Master!G246," ",Master!B4-1) -> Jan - Sep 2025 | L8: =+I8 -> Odstupanje | N8: =+G8 -> Ostvarenje | O8: =+H8 -> Plan | P8: =+I8 -> Odstupanje | R8: =+CONCATENATE(Master!G245," ",Master!B4-1) -> Septembar 2025 | S8: =+P8 -> Odstupanje
G9: mil. € | H9: mil. € | I9: mil. € | J9: % | K9: mil. € | L9: mil. € | M9: % | N9: mil. € | O9: mil. € | P9: mil. € | Q9: % | R9: mil. € | S9: mil. € | T9: %
A10: 7 | B10: =+VLOOKUP($A10,Master!$D$30:$G$226,4,FALSE) -> Prihodi budžeta | G10: ='2026'!S10 -> 2.3184663e+09 | H10: =SUM('2026'!G86:O86) -> 2.2719566e+09 | I10: =+G10-H10 -> 46509730 | J10: =IF(+IF(ISERROR(G10/H10),"…",G10/H10-1)>200%,"...",IF(ISERROR(G10/H10),"…",G10/H10-1)) -> 0.020471223 | K10: =SUM('2025'!G10:O10) -> 2.1017023e+09 | L10: =+G10-K10 -> 2.1676401e+08 | M10: =IF(+IF(ISERROR(G10/K10),"…",G10/K10-1)>200%,"...",IF(ISERROR(G10/K10),"…",G10/K10-1)) -> 0.10313735 | N10: ='2026'!O10 -> 3.1283896e+08 | O10: ='2026'!O86 -> 2.8725622e+08 | P10: =+N10-O10 -> 25582738 | Q10: =IF(+IF(ISERROR(N10/O10),"…",N10/O10-1)>200%,"...",IF(ISERROR(N10/O10),"…",N10/O10-1)) -> 0.089058952 | R10: ='2025'!O10 -> 2.6188269e+08 | S10: =+N10-R10 -> 50956269 | T10: =IF(+IF(ISERROR(N10/R10),"…",N10/R10-1)>200%,"...",IF(ISERROR(N10/R10),"…",N10/R10-1)) -> 0.1945767
A11: 711 | B11: =+VLOOKUP($A11,Master!$D$30:$G$226,4,FALSE) -> Porezi | G11: ='2026'!S11 -> 1.8152465e+09 | H11: =SUM('2026'!G87:O87) -> 1.7883794e+09 | I11: =+G11-H11 -> 26867127 | J11: =IF(+IF(ISERROR(G11/H11-1),"…",G11/H11-1)>200%,"...",IF(ISERROR(G11/H11-1),"…",G11/H11-1)) -> 0.01502317 | K11: =SUM('2025'!G11:O11) -> 1.693534e+09 | L11: =+G11-K11 -> 1.2171256e+08 | M11: =IF(+IF(ISERROR(G11/K11),"…",G11/K11-1)>200%,"...",IF(ISERROR(G11/K11),"…",G11/K11-1)) -> 0.071868978 | N11: ='2026'!O11 -> 2.332855e+08 | O11: ='2026'!O87 -> 2.1926237e+08 | P11: =+N11-O11 -> 14023130 | Q11: =IF(+IF(ISERROR(N11/O11),"…",N11/O11-1)>200%,"...",IF(ISERROR(N11/O11),"…",N11/O11-1)) -> 0.063955934 | R11: ='2025'!O11 -> 2.1115435e+08 | S11: =+N11-R11 -> 22131158 | T11: =IF(+IF(ISERROR(N11/R11),"…",N11/R11-1)>200%,"...",IF(ISERROR(N11/R11),"…",N11/R11-1)) -> 0.10481034
A12: 7111 | B12: =+VLOOKUP($A12,Master!$D$30:$G$226,4,FALSE) -> Porez na dohodak fizičkih lica | G12: ='2026'!S12 -> 94902902 | H12: =SUM('2026'!G88:O88) -> 82162553 | I12: =+G12-H12 -> 12740349 | J12: =IF(+IF(ISERROR(G12/H12-1),"…",G12/H12-1)>200%,"...",IF(ISERROR(G12/H12-1),"…",G12/H12-1)) -> 0.15506272 | K12: =SUM('2025'!G12:O12) -> 77928569 | L12: =+G12-K12 -> 16974333 | M12: =IF(+IF(ISERROR(G12/K12),"…",G12/K12-1)>200%,"...",IF(ISERROR(G12/K12),"…",G12/K12-1)) -> 0.21781912 | N12: ='2026'!O12 -> 13634403 | O12: ='2026'!O88 -> 10706229 | P12: =+N12-O12 -> 2928173.9 | Q12: =IF(+IF(ISERROR(N12/O12),"…",N12/O12-1)>200%,"...",IF(ISERROR(N12/O12),"…",N12/O12-1)) -> 0.27350188 | R12: ='2025'!O12 -> 11794722 | S12: =+N12-R12 -> 1839681.7 | T12: =IF(+IF(ISERROR(N12/R12),"…",N12/R12-1)>200%,"...",IF(ISERROR(N12/R12),"…",N12/R12-1)) -> 0.155975
A13: 7112 | B13: =+VLOOKUP($A13,Master!$D$30:$G$226,4,FALSE) -> Porez na dobit pravnih lica | G13: ='2026'!S13 -> 2.3080626e+08 | H13: =SUM('2026'!G89:O89) -> 2.3332746e+08 | I13: =+G13-H13 -> -2521196.7 | J13: =IF(+IF(ISERROR(G13/H13-1),"…",G13/H13-1)>200%,"...",IF(ISERROR(G13/H13-1),"…",G13/H13-1)) -> -0.010805401 | K13: =SUM('2025'!G13:O13) -> 2.2254713e+08 | L13: =+G13-K13 -> 8259136.1 | M13: =IF(+IF(ISERROR(G13/K13),"…",G13/K13-1)>200%,"...",IF(ISERROR(G13/K13),"…",G13/K13-1)) -> 0.037111852 | N13: ='2026'!O13 -> 3062872.8 | O13: ='2026'!O89 -> 4675368.7 | P13: =+N13-O13 -> -1612495.9 | Q13: =IF(+IF(ISERROR(N13/O13),"…",N13/O13-1)>200%,"...",IF(ISERROR(N13/O13),"…",N13/O13-1)) -> -0.34489171 | R13: ='2025'!O13 -> 3732962 | S13: =+N13-R13 -> -670089.26 | T13: =IF(+IF(ISERROR(N13/R13),"…",N13/R13-1)>200%,"...",IF(ISERROR(N13/R13),"…",N13/R13-1)) -> -0.17950605
A14: 7113 | B14: =+VLOOKUP($A14,Master!$D$30:$G$226,4,FALSE) -> Porez na promet nepokretnosti | G14: ='2026'!S14 -> 1 | H14: =SUM('2026'!G90:O90) -> 0 | I14: =+G14-H14 -> 1 | J14: =IF(+IF(ISERROR(G14/H14-1),"…",G14/H14-1)>200%,"...",IF(ISERROR(G14/H14-1),"…",G14/H14-1)) -> ... | K14: =SUM('2025'!G14:O14) -> 0 | L14: =+G14-K14 -> 1 | M14: =IF(+IF(ISERROR(G14/K14),"…",G14/K14-1)>200%,"...",IF(ISERROR(G14/K14),"…",G14/K14-1)) -> ... | N14: ='2026'!O14 -> 1 | O14: ='2026'!O90 -> 0 | P14: =+N14-O14 -> 1 | Q14: =IF(+IF(ISERROR(N14/O14),"…",N14/O14-1)>200%,"...",IF(ISERROR(N14/O14),"…",N14/O14-1)) -> ... | R14: ='2025'!O14 -> 0 | S14: =+N14-R14 -> 1 | T14: =IF(+IF(ISERROR(N14/R14),"…",N14/R14-1)>200%,"...",IF(ISERROR(N14/R14),"…",N14/R14-1)) -> ...
A15: 7114 | B15: =+VLOOKUP($A15,Master!$D$30:$G$226,4,FALSE) -> Porez na dodatu vrijednost | G15: ='2026'!S15 -> 1.105042e+09 | H15: =SUM('2026'!G91:O91) -> 1.0881822e+09 | I15: =+G15-H15 -> 16859780 | J15: =IF(+IF(ISERROR(G15/H15-1),"…",G15/H15-1)>200%,"...",IF(ISERROR(G15/H15-1),"…",G15/H15-1)) -> 0.015493527 | K15: =SUM('2025'!G15:O15) -> 1.03018e+09 | L15: =+G15-K15 -> 74861972 | M15: =IF(+IF(ISERROR(G15/K15),"…",G15/K15-1)>200%,"...",IF(ISERROR(G15/K15),"…",G15/K15-1)) -> 0.072668828 | N15: ='2026'!O15 -> 1.7061687e+08 | O15: ='2026'!O91 -> 1.539032e+08 | P15: =+N15-O15 -> 16713671 | Q15: =IF(+IF(ISERROR(N15/O15),"…",N15/O15-1)>200%,"...",IF(ISERROR(N15/O15),"…",N15/O15-1)) -> 0.1085986 | R15: ='2025'!O15 -> 1.4985356e+08 | S15: =+N15-R15 -> 20763314 | T15: =IF(+IF(ISERROR(N15/R15),"…",N15/R15-1)>200%,"...",IF(ISERROR(N15/R15),"…",N15/R15-1)) -> 0.13855736
A16: 7115 | B16: =+VLOOKUP($A16,Master!$D$30:$G$226,4,FALSE) -> Akcize | G16: ='2026'!S16 -> 3.1723789e+08 | H16: =SUM('2026'!G92:O92) -> 3.2000348e+08 | I16: =+G16-H16 -> -2765590.4 | J16: =IF(+IF(ISERROR(G16/H16-1),"…",G16/H16-1)>200%,"...",IF(ISERROR(G16/H16-1),"…",G16/H16-1)) -> -0.0086423762 | K16: =SUM('2025'!G16:O16) -> 2.9865419e+08 | L16: =+G16-K16 -> 18583696 | M16: =IF(+IF(ISERROR(G16/K16),"…",G16/K16-1)>200%,"...",IF(ISERROR(G16/K16),"…",G16/K16-1)) -> 0.062224797 | N16: ='2026'!O16 -> 37614234 | O16: ='2026'!O92 -> 41937531 | P16: =+N16-O16 -> -4323297.7 | Q16: =IF(+IF(ISERROR(N16/O16),"…",N16/O16-1)>200%,"...",IF(ISERROR(N16/O16),"…",N16/O16-1)) -> -0.10308899 | R16: ='2025'!O16 -> 38082169 | S16: =+N16-R16 -> -467934.82 | T16: =IF(+IF(ISERROR(N16/R16),"…",N16/R16-1)>200%,"...",IF(ISERROR(N16/R16),"…",N16/R16-1)) -> -0.012287505
A17: 7116 | B17: =+VLOOKUP($A17,Master!$D$30:$G$226,4,FALSE) -> Porez na međunarodnu trgovinu i transakcije | G17: ='2026'!S17 -> 54311195 | H17: =SUM('2026'!G93:O93) -> 51589702 | I17: =+G17-H17 -> 2721493.2 | J17: =IF(+IF(ISERROR(G17/H17-1),"…",G17/H17-1)>200%,"...",IF(ISERROR(G17/H17-1),"…",G17/H17-1)) -> 0.052752644 | K17: =SUM('2025'!G17:O17) -> 52309548 | L17: =+G17-K17 -> 2001646.7 | M17: =IF(+IF(ISERROR(G17/K17),"…",G17/K17-1)>200%,"...",IF(ISERROR(G17/K17),"…",G17/K17-1)) -> 0.038265417 | N17: ='2026'!O17 -> 6669687.4 | O17: ='2026'!O93 -> 6493627.6 | P17: =+N17-O17 -> 176059.82 | Q17: =IF(+IF(ISERROR(N17/O17),"…",N17/O17-1)>200%,"...",IF(ISERROR(N17/O17),"…",N17/O17-1)) -> 0.027112706 | R17: ='2025'!O17 -> 6435243.2 | S17: =+N17-R17 -> 234444.28 | T17: =IF(+IF(ISERROR(N17/R17),"…",N17/R17-1)>200%,"...",IF(ISERROR(N17/R17),"…",N17/R17-1)) -> 0.036431301
A18: 7118 | B18: =+VLOOKUP($A18,Master!$D$30:$G$226,4,FALSE) -> Ostali državni porezi | G18: ='2026'!S18 -> 12946321 | H18: =SUM('2026'!G94:O94) -> 13114031 | I18: =+G18-H18 -> -167709.56 | J18: =IF(+IF(ISERROR(G18/H18-1),"…",G18/H18-1)>200%,"...",IF(ISERROR(G18/H18-1),"…",G18/H18-1)) -> -0.012788559 | K18: =SUM('2025'!G18:O18) -> 11914551 | L18: =+G18-K18 -> 1031770.7 | M18: =IF(+IF(ISERROR(G18/K18),"…",G18/K18-1)>200%,"...",IF(ISERROR(G18/K18),"…",G18/K18-1)) -> 0.086597533 | N18: ='2026'!O18 -> 1687434.9 | O18: ='2026'!O94 -> 1546417.5 | P18: =+N18-O18 -> 141017.47 | Q18: =IF(+IF(ISERROR(N18/O18),"…",N18/O18-1)>200%,"...",IF(ISERROR(N18/O18),"…",N18/O18-1)) -> 0.09118978 | R18: ='2025'!O18 -> 1255693.2 | S18: =+N18-R18 -> 431741.75 | T18: =IF(+IF(ISERROR(N18/R18),"…",N18/R18-1)>200%,"...",IF(ISERROR(N18/R18),"…",N18/R18-1)) -> 0.34382742
A19: 712 | B19: =+VLOOKUP($A19,Master!$D$30:$G$226,4,FALSE) -> Doprinosi | G19: ='2026'!S19 -> 3.2242738e+08 | H19: =SUM('2026'!G95:O95) -> 3.1739363e+08 | I19: =+G19-H19 -> 5033754.5 | J19: =IF(+IF(ISERROR(G19/H19-1),"…",G19/H19-1)>200%,"...",IF(ISERROR(G19/H19-1),"…",G19/H19-1)) -> 0.015859658 | K19: =SUM('2025'!G19:O19) -> 2.9065299e+08 | L19: =+G19-K19 -> 31774393 | M19: =IF(+IF(ISERROR(G19/K19),"…",G19/K19-1)>200%,"...",IF(ISERROR(G19/K19),"…",G19/K19-1)) -> 0.10932072 | N19: ='2026'!O19 -> 34223724 | O19: ='2026'!O95 -> 36622022 | P19: =+N19-O19 -> -2398297.9 | Q19: =IF(+IF(ISERROR(N19/O19),"…",N19/O19-1)>200%,"...",IF(ISERROR(N19/O19),"…",N19/O19-1)) -> -0.065487862 | R19: ='2025'!O19 -> 35020873 | S19: =+N19-R19 -> -797148.9 | T19: =IF(+IF(ISERROR(N19/R19),"…",N19/R19-1)>200%,"...",IF(ISERROR(N19/R19),"…",N19/R19-1)) -> -0.022762108
A20: 7121 | B20: =+VLOOKUP($A20,Master!$D$30:$G$226,4,FALSE) -> Doprinosi za penzijsko i invalidsko osiguranje | G20: ='2026'!S20 -> 2.7293646e+08 | H20: =SUM('2026'!G96:O96) -> 2.799091e+08 | I20: =+G20-H20 -> -6972640.2 | J20: =IF(+IF(ISERROR(G20/H20-1),"…",G20/H20-1)>200%,"...",IF(ISERROR(G20/H20-1),"…",G20/H20-1)) -> -0.024910373 | K20: =SUM('2025'!G20:O20) -> 2.4489235e+08 | L20: =+G20-K20 -> 28044106 | M20: =IF(+IF(ISERROR(G20/K20),"…",G20/K20-1)>200%,"...",IF(ISERROR(G20/K20),"…",G20/K20-1)) -> 0.11451606 | N20: ='2026'!O20 -> 27761595 | O20: ='2026'!O96 -> 32049538 | P20: =+N20-O20 -> -4287942.9 | Q20: =IF(+IF(ISERROR(N20/O20),"…",N20/O20-1)>200%,"...",IF(ISERROR(N20/O20),"…",N20/O20-1)) -> -0.1337911 | R20: ='2025'!O20 -> 29269872 | S20: =+N20-R20 -> -1508277.2 | T20: =IF(+IF(ISERROR(N20/R20),"…",N20/R20-1)>200%,"...",IF(ISERROR(N20/R20),"…",N20/R20-1)) -> -0.051530024
A21: 7122 | B21: =+VLOOKUP($A21,Master!$D$30:$G$226,4,FALSE) -> Doprinosi za zdravstveno osiguranje | G21: ='2026'!S21 -> 3958750 | H21: =SUM('2026'!G97:O97) -> 3666607 | I21: =+G21-H21 -> 292143.04 | J21: =IF(+IF(ISERROR(G21/H21-1),"…",G21/H21-1)>200%,"...",IF(ISERROR(G21/H21-1),"…",G21/H21-1)) -> 0.079676672 | K21: =SUM('2025'!G21:O21) -> 5177992.9 | L21: =+G21-K21 -> -1219242.8 | M21: =IF(+IF(ISERROR(G21/K21),"…",G21/K21-1)>200%,"...",IF(ISERROR(G21/K21),"…",G21/K21-1)) -> -0.2354663 | N21: ='2026'!O21 -> 284499.56 | O21: ='2026'!O97 -> 504633.1 | P21: =+N21-O21 -> -220133.54 | Q21: =IF(+IF(ISERROR(N21/O21),"…",N21/O21-1)>200%,"...",IF(ISERROR(N21/O21),"…",N21/O21-1)) -> -0.43622493 | R21: ='2025'!O21 -> 536571.03 | S21: =+N21-R21 -> -252071.47 | T21: =IF(+IF(ISERROR(N21/R21),"…",N21/R21-1)>200%,"...",IF(ISERROR(N21/R21),"…",N21/R21-1)) -> -0.46978211
A22: 7123 | B22: =+VLOOKUP($A22,Master!$D$30:$G$226,4,FALSE) -> Doprinosi za osiguranje od nezaposlenosti | G22: ='2026'!S22 -> 26326911 | H22: =SUM('2026'!G98:O98) -> 19444769 | I22: =+G22-H22 -> 6882142.8 | J22: =IF(+IF(ISERROR(G22/H22-1),"…",G22/H22-1)>200%,"...",IF(ISERROR(G22/H22-1),"…",G22/H22-1)) -> 0.35393287 | K22: =SUM('2025'!G22:O22) -> 23745875 | L22: =+G22-K22 -> 2581036.4 | M22: =IF(+IF(ISERROR(G22/K22),"…",G22/K22-1)>200%,"...",IF(ISERROR(G22/K22),"…",G22/K22-1)) -> 0.10869409 | N22: ='2026'!O22 -> 3584019.4 | O22: ='2026'!O98 -> 2597255.7 | P22: =+N22-O22 -> 986763.71 | Q22: =IF(+IF(ISERROR(N22/O22),"…",N22/O22-1)>200%,"...",IF(ISERROR(N22/O22),"…",N22/O22-1)) -> 0.37992551 | R22: ='2025'!O22 -> 3032409.4 | S22: =+N22-R22 -> 551610.03 | T22: =IF(+IF(ISERROR(N22/R22),"…",N22/R22-1)>200%,"...",IF(ISERROR(N22/R22),"…",N22/R22-1)) -> 0.18190487
... A47: 44 | B47: =+VLOOKUP($A47,Master!$D$30:$G$226,4,FALSE) -> Kapitalni izdaci | G47: ='2026'!S47 -> 2.7849472e+08 | H47: =SUM('2026'!G123:O123) -> 2.6130148e+08 | I47: =+G47-H47 -> 17193244 | J47: =IF(+IF(ISERROR(G47/H47-1),"…",G47/H47-1)>200%,"...",IF(ISERROR(G47/H47-1),"…",G47/H47-1)) -> 0.065798496 | K47: =SUM('2025'!G47:O47) -> 1.8772332e+08 | L47: =+G47-K47 -> 90771401 | M47: =IF(+IF(ISERROR(G47/K47),"…",G47/K47-1)>200%,"...",IF(ISERROR(G47/K47),"…",G47/K47-1)) -> 0.48353822 | N47: ='2026'!O47 -> 45878756 | O47: ='2026'!O123 -> 28685725 | P47: =+N47-O47 -> 17193031 | Q47: =IF(+IF(ISERROR(N47/O47),"…",N47/O47-1)>200%,"...",IF(ISERROR(N47/O47),"…",N47/O47-1)) -> 0.59935843 | R47: ='2025'!O47 -> 32840221 | S47: =+N47-R47 -> 13038535 | T47: =IF(+IF(ISERROR(N47/R47),"…",N47/R47-1)>200%,"...",IF(ISERROR(N47/R47),"…",N47/R47-1)) -> 0.39702946
A48: 451 | B48: =+VLOOKUP($A48,Master!$D$30:$G$226,4,FALSE) -> Pozajmice i krediti | G48: ='2026'!S48 -> 0 | H48: =SUM('2026'!G124:O124) -> 0 | I48: =G48-H48 -> 0 | J48: =IF(+IF(ISERROR(G48/H48-1),"…",G48/H48-1)>200%,"...",IF(ISERROR(G48/H48-1),"…",G48/H48-1)) -> ... | K48: =SUM('2025'!G48:O48) -> 0 | L48: =+G48-K48 -> 0 | M48: =IF(+IF(ISERROR(G48/K48),"…",G48/K48-1)>200%,"...",IF(ISERROR(G48/K48),"…",G48/K48-1)) -> ... | N48: ='2026'!O48 -> 0 | O48: ='2026'!O124 -> 0 | P48: =+N48-O48 -> 0 | Q48: =IF(+IF(ISERROR(N48/O48),"…",N48/O48-1)>200%,"...",IF(ISERROR(N48/O48),"…",N48/O48-1)) -> ... | R48: ='2025'!O48 -> 0 | S48: =+N48-R48-S58 -> 0 | T48: =IF(+IF(ISERROR(N48/R48),"…",N48/R48-1)>200%,"...",IF(ISERROR(N48/R48),"…",N48/R48-1)) -> ...
A49: 47 | B49: =+VLOOKUP($A49,Master!$D$30:$G$226,4,FALSE) -> Rezerve | G49: ='2026'!S49 -> 976601.95 | H49: =SUM('2026'!G125:O125) -> 23102123 | I49: =G49-H49 -> -22125521 | J49: =IF(+IF(ISERROR(G49/H49-1),"…",G49/H49-1)>200%,"...",IF(ISERROR(G49/H49-1),"…",G49/H49-1)) -> -0.95772674 | K49: =SUM('2025'!G49:O49) -> 4671079.9 | L49: =+G49-K49 -> -3694478 | M49: =IF(+IF(ISERROR(G49/K49),"…",G49/K49-1)>200%,"...",IF(ISERROR(G49/K49),"…",G49/K49-1)) -> -0.79092587 | N49: ='2026'!O49 -> 4100 | O49: ='2026'!O125 -> 229771.06 | P49: =+N49-O49 -> -225671.06 | Q49: =IF(+IF(ISERROR(N49/O49),"…",N49/O49-1)>200%,"...",IF(ISERROR(N49/O49),"…",N49/O49-1)) -> -0.98215615 | R49: ='2025'!O49 -> 53111.65 | S49: =+N49-R49 -> -49011.65 | T49: =IF(+IF(ISERROR(N49/R49),"…",N49/R49-1)>200%,"...",IF(ISERROR(N49/R49),"…",N49/R49-1)) -> -0.92280413
A50: 462 | B50: =+VLOOKUP($A50,Master!$D$30:$G$226,4,FALSE) -> Otplata garancija | G50: ='2026'!S50 -> 1533780.9 | H50: =SUM('2026'!G126:O126) -> 1.44 | I50: =G50-H50 -> 1533779.5 | J50: =IF(+IF(ISERROR(G50/H50-1),"…",G50/H50-1)>200%,"...",IF(ISERROR(G50/H50-1),"…",G50/H50-1)) -> ... | K50: =SUM('2025'!G50:O50) -> 4062323 | L50: =+G50-K50 -> -2528542 | M50: =IF(+IF(ISERROR(G50/K50),"…",G50/K50-1)>200%,"...",IF(ISERROR(G50/K50),"…",G50/K50-1)) -> -0.62243748 | N50: ='2026'!O50 -> 0 | O50: ='2026'!O126 -> 0.16 | P50: =+N50-O50 -> -0.16 | Q50: =IF(+IF(ISERROR(N50/O50),"…",N50/O50-1)>200%,"...",IF(ISERROR(N50/O50),"…",N50/O50-1)) -> -1 | R50: ='2025'!O50 -> 0 | S50: =+N50-R50 -> 0 | T50: =IF(+IF(ISERROR(N50/R50),"…",N50/R50-1)>200%,"...",IF(ISERROR(N50/R50),"…",N50/R50-1)) -> ...
A51: 4630 | B51: =+VLOOKUP($A51,Master!$D$30:$G$226,4,FALSE) -> Otplata obaveza iz prethodnog perioda | G51: ='2026'!S51 -> 21698943 | H51: =SUM('2026'!G127:O127) -> 4533264.7 | I51: =G51-H51 -> 17165678 | J51: =IF(+IF(ISERROR(G51/H51-1),"…",G51/H51-1)>200%,"...",IF(ISERROR(G51/H51-1),"…",G51/H51-1)) -> ... | K51: =SUM('2025'!G51:O51) -> 20919937 | L51: =+G51-K51 -> 779006.13 | M51: =IF(+IF(ISERROR(G51/K51),"…",G51/K51-1)>200%,"...",IF(ISERROR(G51/K51),"…",G51/K51-1)) -> 0.037237499 | N51: ='2026'!O51 -> 1125217.3 | O51: ='2026'!O127 -> 1234560.1 | P51: =N51-O51 -> -109342.84 | Q51: =IF(+IF(ISERROR(N51/O51),"…",N51/O51-1)>200%,"...",IF(ISERROR(N51/O51),"…",N51/O51-1)) -> -0.088568257 | R51: ='2025'!O51 -> 6379172.6 | S51: =+N51-R51 -> -5253955.3 | T51: =IF(+IF(ISERROR(N51/R51),"…",N51/R51-1)>200%,"...",IF(ISERROR(N51/R51),"…",N51/R51-1)) -> -0.82361078
A52: 1005 | B52: =+VLOOKUP($A52,Master!$D$30:$G$228,4,FALSE) -> Neto povećanje obaveza | G52: ='2026'!S52 -> 0 | H52: =SUM('2026'!G128:O128) -> 0 | I52: =G52-H52 -> 0 | J52: =IF(+IF(ISERROR(G52/H52-1),"…",G52/H52-1)>200%,"...",IF(ISERROR(G52/H52-1),"…",G52/H52-1)) -> ... | K52: =SUM('2025'!G52:O52) -> 0 | L52: =+G52-K52 -> 0 | M52: =IF(+IF(ISERROR(G52/K52),"…",G52/K52-1)>200%,"...",IF(ISERROR(G52/K52),"…",G52/K52-1)) -> ... | N52: ='2026'!O52 -> 0 | O52: ='2026'!O128 -> 0 | P52: =N52-O52 -> 0 | Q52: =IF(+IF(ISERROR(N52/O52),"…",N52/O52-1)>200%,"...",IF(ISERROR(N52/O52),"…",N52/O52-1)) -> ... | R52: ='2025'!O52 -> 0 | S52: =+N52-R52 -> 0 | T52: =IF(+IF(ISERROR(N52/R52),"…",N52/R52-1)>200%,"...",IF(ISERROR(N52/R52),"…",N52/R52-1)) -> ...
A53: 1000 | B53: =+VLOOKUP($A53,Master!$D$30:$G$226,4,FALSE) -> Suficit / deficit | G53: ='2026'!S53 -> -1.2420931e+08 | H53: =SUM('2026'!G129:O129) -> -1.8115309e+08 | I53: =+G53-H53 -> 56943785 | J53: =IF(+IF(ISERROR(G53/H53-1),"…",G53/H53-1)>200%,"...",IF(ISERROR(G53/H53-1),"…",G53/H53-1)) -> -0.31434067 | K53: =SUM('2025'!G53:O53) -> -84743100 | L53: =+G53-K53 -> -39466207 | M53: =IF(+IF(ISERROR(G53/K53),"…",G53/K53-1)>200%,"...",IF(ISERROR(G53/K53),"…",G53/K53-1)) -> 0.46571588 | N53: ='2026'!O53 -> 22030061 | O53: ='2026'!O129 -> 10327855 | P53: =N53-O53 -> 11702207 | Q53: =IF(+IF(ISERROR(N53/O53),"…",N53/O53-1)>200%,"...",IF(ISERROR(N53/O53),"…",N53/O53-1)) -> 1.1330723 | R53: ='2025'!O53 -> -14490746 | S53: =+N53-R53 -> 36520807 | T53: =IF(+IF(ISERROR(N53/R53),"…",N53/R53-1)>200%,"...",IF(ISERROR(N53/R53),"…",N53/R53-1)) -> -2.5202848
A54: 1001 | B54: =+VLOOKUP($A54,Master!$D$30:$G$226,4,FALSE) -> Primarni suficit/deficit | G54: ='2026'!S54 -> 3805188.7 | H54: =SUM('2026'!G130:O130) -> -47910032 | I54: =+G54-H54 -> 51715221 | J54: =IF(+IF(ISERROR(G54/H54-1),"…",G54/H54-1)>200%,"...",IF(ISERROR(G54/H54-1),"…",G54/H54-1)) -> -1.0794236 | K54: =SUM('2025'!G54:O54) -> 26791455 | L54: =+G54-K54 -> -22986266 | M54: =IF(+IF(ISERROR(G54/K54),"…",G54/K54-1)>200%,"...",IF(ISERROR(G54/K54),"…",G54/K54-1)) -> -0.85797006 | N54: ='2026'!O54 -> 43415658 | O54: ='2026'!O130 -> 31995569 | P54: =+N54-O54 -> 11420089 | Q54: =IF(+IF(ISERROR(N54/O54),"…",N54/O54-1)>200%,"...",IF(ISERROR(N54/O54),"…",N54/O54-1)) -> 0.35692721 | R54: ='2025'!O54 -> 8780867.5 | S54: =+N54-R54 -> 34634790 | T54: =IF(+IF(ISERROR(N54/R54),"…",N54/R54-1)>200%,"...",IF(ISERROR(N54/R54),"…",N54/R54-1)) -> ...
A55: 46 | B55: =+VLOOKUP($A55,Master!$D$30:$G$226,4,FALSE) -> Otplata dugova | G55: ='2026'!S55 -> 2.8528148e+08 | H55: =SUM('2026'!G131:O131) -> 2.769753e+08 | I55: =+G55-H55 -> 8306177.2 | J55: =IF(+IF(ISERROR(G55/H55-1),"…",G55/H55-1)>200%,"...",IF(ISERROR(G55/H55-1),"…",G55/H55-1)) -> 0.029988873 | K55: =SUM('2025'!G55:O55) -> 7.4177949e+08 | L55: =+G55-K55 -> -4.5649802e+08 | M55: =IF(+IF(ISERROR(G55/K55),"…",G55/K55-1)>200%,"...",IF(ISERROR(G55/K55),"…",G55/K55-1)) -> -0.61540932 | N55: ='2026'!O55 -> 6016896.1 | O55: ='2026'!O131 -> 10991740 | P55: =+N55-O55 -> -4974844.3 | Q55: =IF(+IF(ISERROR(N55/O55),"…",N55/O55-1)>200%,"...",IF(ISERROR(N55/O55),"…",N55/O55-1)) -> -0.45259841 | R55: ='2025'!O55 -> 26105147 | S55: =+N55-R55 -> -20088251 | T55: =IF(+IF(ISERROR(N55/R55),"…",N55/R55-1)>200%,"...",IF(ISERROR(N55/R55),"…",N55/R55-1)) -> -0.76951303
A56: 4611 | B56: =+VLOOKUP($A56,Master!$D$30:$G$226,4,FALSE) -> Otplata hartija od vrijednosti i kredita rezidentima | G56: ='2026'!S56 -> 82226437 | H56: =SUM('2026'!G132:O132) -> 82531582 | I56: =+G56-H56 -> -305144.44 | J56: =IF(+IF(ISERROR(G56/H56-1),"…",G56/H56-1)>200%,"...",IF(ISERROR(G56/H56-1),"…",G56/H56-1)) -> -0.0036973051 | K56: =SUM('2025'!G56:O56) -> 36423514 | L56: =+G56-K56 -> 45802923 | M56: =IF(+IF(ISERROR(G56/K56),"…",G56/K56-1)>200%,"...",IF(ISERROR(G56/K56),"…",G56/K56-1)) -> 1.2575097 | N56: ='2026'!O56 -> 4780681.8 | O56: ='2026'!O132 -> 5060550.8 | P56: =+N56-O56 -> -279869.03 | Q56: =IF(+IF(ISERROR(N56/O56),"…",N56/O56-1)>200%,"...",IF(ISERROR(N56/O56),"…",N56/O56-1)) -> -0.055304065 | R56: ='2025'!O56 -> 4555783.9 | S56: =+N56-R56 -> 224897.86 | T56: =IF(+IF(ISERROR(N56/R56),"…",N56/R56-1)>200%,"...",IF(ISERROR(N56/R56),"…",N56/R56-1)) -> 0.049365349
A57: 4612 | B57: =+VLOOKUP($A57,Master!$D$30:$G$226,4,FALSE) -> Otplata hartija od vrijednosti i kredita nerezidentima | G57: ='2026'!S57 -> 2.0305504e+08 | H57: =SUM('2026'!G133:O133) -> 1.9444372e+08 | I57: =+G57-H57 -> 8611321.6 | J57: =IF(+IF(ISERROR(G57/H57-1),"…",G57/H57-1)>200%,"...",IF(ISERROR(G57/H57-1),"…",G57/H57-1)) -> 0.044286963 | K57: =SUM('2025'!G57:O57) -> 7.0535598e+08 | L57: =+G57-K57 -> -5.0230094e+08 | M57: =IF(+IF(ISERROR(G57/K57),"…",G57/K57-1)>200%,"...",IF(ISERROR(G57/K57),"…",G57/K57-1)) -> -0.71212403 | N57: ='2026'!O57 -> 1236214.4 | O57: ='2026'!O133 -> 5931189.6 | P57: =+N57-O57 -> -4694975.2 | Q57: =IF(+IF(ISERROR(N57/O57),"…",N57/O57-1)>200%,"...",IF(ISERROR(N57/O57),"…",N57/O57-1)) -> -0.79157396 | R57: ='2025'!O57 -> 21549363 | S57: =+N57-R57 -> -20313149 | T57: =IF(+IF(ISERROR(N57/R57),"…",N57/R57-1)>200%,"...",IF(ISERROR(N57/R57),"…",N57/R57-1)) -> -0.94263337
A58: 4418 | B58: =+VLOOKUP($A58,Master!$D$30:$G$226,4,FALSE) -> Izdaci za kupovinu hartija od vrijednosti | G58: ='2026'!S58 -> 15149178 | H58: =SUM('2026'!G134:O134) -> 34179003 | I58: =+G58-H58 -> -19029826 | J58: =IF(+IF(ISERROR(G58/H58-1),"…",G58/H58-1)>200%,"...",IF(ISERROR(G58/H58-1),"…",G58/H58-1)) -> -0.55676947 | K58: =SUM('2025'!G58:O58) -> 1485557.5 | L58: =+G58-K58 -> 13663620 | M58: =IF(+IF(ISERROR(G58/K58),"…",G58/K58-1)>200%,"...",IF(ISERROR(G58/K58),"…",G58/K58-1)) -> ... | N58: ='2026'!O58 -> 0 | O58: ='2026'!O134 -> 0 | P58: =+N58-O58 -> 0 | Q58: =IF(+IF(ISERROR(N58/O58),"…",N58/O58-1)>200%,"...",IF(ISERROR(N58/O58),"…",N58/O58-1)) -> ... | R58: ='2025'!O58 -> 0 | S58: =+N58-R58 -> 0 | T58: =IF(+IF(ISERROR(N58/R58),"…",N58/R58-1)>200%,"...",IF(ISERROR(N58/R58),"…",N58/R58-1)) -> ...
A59: 451 | B59: =+VLOOKUP($A59,Master!$D$30:$G$226,4,FALSE) -> Pozajmice i krediti | G59: ='2026'!S59 -> 7537207.2 | H59: =SUM('2026'!G135:O135) -> 6031660.8 | I59: =+G59-H59 -> 1505546.4 | J59: =IF(+IF(ISERROR(G59/H59-1),"…",G59/H59-1)>200%,"...",IF(ISERROR(G59/H59-1),"…",G59/H59-1)) -> 0.24960727 | K59: =SUM('2025'!G59:O59) -> 6675916.6 | L59: =+G59-K59 -> 861290.63 | M59: =IF(+IF(ISERROR(G59/K59),"…",G59/K59-1)>200%,"...",IF(ISERROR(G59/K59),"…",G59/K59-1)) -> 0.12901459 | N59: ='2026'!O59 -> 1040929.7 | O59: ='2026'!O135 -> 830950.94 | P59: =+N59-O59 -> 209978.8 | Q59: =IF(+IF(ISERROR(N59/O59),"…",N59/O59-1)>200%,"...",IF(ISERROR(N59/O59),"…",N59/O59-1)) -> 0.25269699 | R59: ='2025'!O59 -> 1103772.8 | S59: =+N59-R59 -> -62843.08 | T59: =IF(+IF(ISERROR(N59/R59),"…",N59/R59-1)>200%,"...",IF(ISERROR(N59/R59),"…",N59/R59-1)) -> -0.056934796
A60: 1002 | B60: =+VLOOKUP($A60,Master!$D$30:$G$226,4,FALSE) -> Nedostajuća sredstva | G60: ='2026'!S60 -> -4.3217717e+08 | H60: =SUM('2026'!G136:O136) -> -4.9833905e+08 | I60: =+G60-H60 -> 66161887 | J60: =IF(+IF(ISERROR(G60/H60-1),"…",G60/H60-1)>200%,"...",IF(ISERROR(G60/H60-1),"…",G60/H60-1)) -> -0.1327648 | K60: =SUM('2025'!G60:O60) -> -8.3468407e+08 | L60: =+G60-K60 -> 4.025069e+08 | M60: =IF(+IF(ISERROR(G60/K60),"…",G60/K60-1)>200%,"...",IF(ISERROR(G60/K60),"…",G60/K60-1)) -> -0.48222665 | N60: ='2026'!O60 -> 14972235 | O60: ='2026'!O136 -> -1494836.6 | P60: =+N60-O60 -> 16467072 | Q60: =IF(+IF(ISERROR(N60/O60),"…",N60/O60-1)>200%,"...",IF(ISERROR(N60/O60),"…",N60/O60-1)) -> -11.015968 | R60: ='2025'!O60 -> -41699666 | S60: =+N60-R60 -> 56671901 | T60: =IF(+IF(ISERROR(N60/R60),"…",N60/R60-1)>200%,"...",IF(ISERROR(N60/R60),"…",N60/R60-1)) -> -1.3590493
A61: 1003 | B61: =+VLOOKUP($A61,Master!$D$30:$G$226,4,FALSE) -> Finansiranje | G61: ='2026'!S61 -> 4.3217717e+08 | H61: =SUM('2026'!G137:O137) -> 4.9833905e+08 | I61: =+G61-H61 -> -66161887 | J61: =IF(+IF(ISERROR(G61/H61-1),"…",G61/H61-1)>200%,"...",IF(ISERROR(G61/H61-1),"…",G61/H61-1)) -> -0.1327648 | K61: =SUM('2025'!G61:O61) -> 8.3468407e+08 | L61: =+G61-K61 -> -4.025069e+08 | M61: =IF(+IF(ISERROR(G61/K61),"…",G61/K61-1)>200%,"...",IF(ISERROR(G61/K61),"…",G61/K61-1)) -> -0.48222665 | N61: ='2026'!O61 -> -14972235 | O61: ='2026'!O137 -> 1494836.6 | P61: =+N61-O61 -> -16467072 | Q61: =IF(+IF(ISERROR(N61/O61),"…",N61/O61-1)>200%,"...",IF(ISERROR(N61/O61),"…",N61/O61-1)) -> -11.015968 | R61: ='2025'!O61 -> 41699666 | S61: =+N61-R61 -> -56671901 | T61: =IF(+IF(ISERROR(N61/R61),"…",N61/R61-1)>200%,"...",IF(ISERROR(N61/R61),"…",N61/R61-1)) -> -1.3590493
A62: 7511 | B62: =+VLOOKUP($A62,Master!$D$30:$G$226,4,FALSE) -> Pozajmice i krediti od domaćih izvora | G62: ='2026'!S62 -> 13854700 | H62: =SUM('2026'!G138:O138) -> 50000000 | I62: =+G62-H62 -> -36145300 | J62: =IF(+IF(ISERROR(G62/H62-1),"…",G62/H62-1)>200%,"...",IF(ISERROR(G62/H62-1),"…",G62/H62-1)) -> -0.722906 | K62: =SUM('2025'!G62:O62) -> 6127675 | L62: =+G62-K62 -> 7727025 | M62: =IF(+IF(ISERROR(G62/K62),"…",G62/K62-1)>200%,"...",IF(ISERROR(G62/K62),"…",G62/K62-1)) -> 1.2610044 | N62: ='2026'!O62 -> 0 | O62: ='2026'!O138 -> 50000000 | P62: =+N62-O62 -> -50000000 | Q62: =IF(+IF(ISERROR(N62/O62),"…",N62/O62-1)>200%,"...",IF(ISERROR(N62/O62),"…",N62/O62-1)) -> -1 | R62: ='2025'!O62 -> 0 | S62: =+N62-R62 -> 0 | T62: =IF(+IF(ISERROR(N62/R62),"…",N62/R62-1)>200%,"...",IF(ISERROR(N62/R62),"…",N62/R62-1)) -> ...
A63: 7512 | B63: =+VLOOKUP($A63,Master!$D$30:$G$226,4,FALSE) -> Pozajmice i krediti od inostranih izvora | G63: ='2026'!S63 -> 1.3684164e+08 | H63: =SUM('2026'!G139:O139) -> 3.8831897e+08 | I63: =+G63-H63 -> -2.5147733e+08 | J63: =IF(+IF(ISERROR(G63/H63-1),"…",G63/H63-1)>200%,"...",IF(ISERROR(G63/H63-1),"…",G63/H63-1)) -> -0.64760507 | K63: =SUM('2025'!G63:O63) -> 9.4209154e+08 | L63: =+G63-K63 -> -8.052499e+08 | M63: =IF(+IF(ISERROR(G63/K63),"…",G63/K63-1)>200%,"...",IF(ISERROR(G63/K63),"…",G63/K63-1)) -> -0.85474699 | N63: ='2026'!O63 -> 5364999.8 | O63: ='2026'!O139 -> 0 | P63: =+N63-O63 -> 5364999.8 | Q63: =IF(+IF(ISERROR(N63/O63),"…",N63/O63-1)>200%,"...",IF(ISERROR(N63/O63),"…",N63/O63-1)) -> ... | R63: ='2025'!O63 -> 11385735 | S63: =+N63-R63 -> -6020734.7 | T63: =IF(+IF(ISERROR(N63/R63),"…",N63/R63-1)>200%,"...",IF(ISERROR(N63/R63),"…",N63/R63-1)) -> -0.52879634
A64: 72 | B64: =+VLOOKUP($A64,Master!$D$30:$G$226,4,FALSE) -> Primici od prodaje imovine | G64: ='2026'!S64 -> 945189.11 | H64: =SUM('2026'!G140:O140) -> 4500000 | I64: =+G64-H64 -> -3554810.9 | J64: =IF(+IF(ISERROR(G64/H64-1),"…",G64/H64-1)>200%,"...",IF(ISERROR(G64/H64-1),"…",G64/H64-1)) -> -0.78995798 | K64: =SUM('2025'!G64:O64) -> 1406114.9 | L64: =+G64-K64 -> -460925.74 | M64: =IF(+IF(ISERROR(G64/K64),"…",G64/K64-1)>200%,"...",IF(ISERROR(G64/K64),"…",G64/K64-1)) -> -0.32780092 | N64: ='2026'!O64 -> 21227.87 | O64: ='2026'!O140 -> 500000 | P64: =+N64-O64 -> -478772.13 | Q64: =IF(+IF(ISERROR(N64/O64),"…",N64/O64-1)>200%,"...",IF(ISERROR(N64/O64),"…",N64/O64-1)) -> -0.95754426 | R64: ='2025'!O64 -> 103884.06 | S64: =+N64-R64 -> -82656.19 | T64: =IF(+IF(ISERROR(N64/R64),"…",N64/R64-1)>200%,"...",IF(ISERROR(N64/R64),"…",N64/R64-1)) -> -0.79565806
A65: 73 | B65: =+VLOOKUP($A65,Master!$D$30:$G$226,4,FALSE) -> Primici od otplate kredita i sredstva prenesena iz prethodne godine | G65: ='2026'!S65 -> 17056468 | H65: =SUM('2026'!G141:O141) -> 7310925 | I65: =+G65-H65 -> 9745543.5 | J65: =IF(+IF(ISERROR(G65/H65-1),"…",G65/H65-1)>200%,"...",IF(ISERROR(G65/H65-1),"…",G65/H65-1)) -> 1.333011 | K65: =SUM('2025'!G65:O65) -> 14360067 | L65: =+G65-K65 -> 2696401.9 | M65: =IF(+IF(ISERROR(G65/K65),"…",G65/K65-1)>200%,"...",IF(ISERROR(G65/K65),"…",G65/K65-1)) -> 0.18777085 | N65: ='2026'!O65 -> 241912.71 | O65: ='2026'!O141 -> 812325 | P65: =+N65-O65 -> -570412.29 | Q65: =IF(+IF(ISERROR(N65/O65),"…",N65/O65-1)>200%,"...",IF(ISERROR(N65/O65),"…",N65/O65-1)) -> -0.70219714 | R65: ='2025'!O65 -> 577156.09 | S65: =+N65-R65 -> -335243.38 | T65: =IF(+IF(ISERROR(N65/R65),"…",N65/R65-1)>200%,"...",IF(ISERROR(N65/R65),"…",N65/R65-1)) -> -0.58085392
A66: 1004 | B66: =+VLOOKUP($A66,Master!$D$30:$G$226,4,FALSE) -> Povećanje / smanjenje depozita | G66: ='2026'!S66 -> 2.6347917e+08 | H66: =SUM('2026'!G142:O142) -> 48209161 | I66: =+G66-H66 -> 2.1527001e+08 | J66: =IF(+IF(ISERROR(G66/H66-1),"…",G66/H66-1)>200%,"...",IF(ISERROR(G66/H66-1),"…",G66/H66-1)) -> ... | K66: =SUM('2025'!G66:O66) -> -1.2930133e+08 | L66: =+G66-K66 -> 3.927805e+08 | M66: =IF(+IF(ISERROR(G66/K66),"…",G66/K66-1)>200%,"...",IF(ISERROR(G66/K66),"…",G66/K66-1)) -> -3.0377143 | N66: ='2026'!O66 -> -20600376 | O66: ='2026'!O142 -> -49817488 | P66: =+N66-O66 -> 29217113 | Q66: =IF(+IF(ISERROR(N66/O66),"…",N66/O66-1)>200%,"...",IF(ISERROR(N66/O66),"…",N66/O66-1)) -> -0.58648305 | R66: ='2025'!O66 -> 29632891 | S66: =+N66-R66 -> -50233267 | T66: =IF(+IF(ISERROR(N66/R66),"…",N66/R66-1)>200%,"...",IF(ISERROR(N66/R66),"…",N66/R66-1)) -> -1.6951862

Sheet 2025
E2: =+Master!G6 -> Crna Gora
E3: =+Master!G7 -> Ministarstvo finansija
E4: =+Master!G8 -> Direktorat za državni budžet
