Workbook

Sheet Master
B2: Godina | C2: 2023
B4: Mjesec | C4: 8 | D4: =VLOOKUP(C4,C9:D20,2,FALSE) -> Avgust
B6: Period | C6: =VLOOKUP(C4,C9:F20,3,FALSE) -> 8 | D6: =VLOOKUP(C6,E9:F20,2,FALSE) -> Januar - Avgust
D8: Mjesec | F8: Period | G8: Hlookup
C9: 1 | D9: Januar | E9: 1 | F9: =D9 -> Januar | G9: 3
C10: 2 | D10: Februar | E10: 2 | F10: =$F$9&" - "&D10 -> Januar - Februar | G10: 4
C11: 3 | D11: Mart | E11: 3 | F11: =$F$9&" - "&D11 -> Januar - Mart | G11: 5
C12: 4 | D12: April | E12: 4 | F12: =$F$9&" - "&D12 -> Januar - April | G12: 6
C13: 5 | D13: Maj | E13: 5 | F13: =$F$9&" - "&D13 -> Januar - Maj | G13: 7
C14: 6 | D14: Jun | E14: 6 | F14: =$F$9&" - "&D14 -> Januar - Jun | G14: 8
C15: 7 | D15: Jul | E15: 7 | F15: =$F$9&" - "&D15 -> Januar - Jul | G15: 9
C16: 8 | D16: Avgust | E16: 8 | F16: =$F$9&" - "&D16 -> Januar - Avgust | G16: 10
C17: 9 | D17: Septembar | E17: 9 | F17: =$F$9&" - "&D17 -> Januar - Septembar | G17: 11
C18: 10 | D18: Oktobar | E18: 10 | F18: =$F$9&" - "&D18 -> Januar - Oktobar | G18: 12
C19: 11 | D19: Novembar | E19: 11 | F19: =$F$9&" - "&D19 -> Januar - Novembar | G19: 13
C20: 12 | D20: Decembar | E20: 12 | F20: =$F$9&" - "&D20 -> Januar - Decembar | G20: 14

Sheet Pregled
E2: Crna Gora
E3: Ministarstvo finansija
E4: Direktorat za državni budžet
C7: Ostvarenje budžeta po PROGRAMSKOJ KLASIFIKACIJI
D10: Pregled po glavnim programima | H10: Izdaci za: | I10: Mjesec | J10: ='Analitika 2024'!L4 -> Avgust | L10: Period | M10: =IF(J10="Januar","-",'Analitika 2024'!F4) -> Januar - Avgust
J11: Iznos | K11: % potrošnje | M11: Iznos | N11: % potrošnje
D13: 11 | E13: POLITIČKI SISTEM I UPRAVLJANJE | J13: =SUMPRODUCT((D13=VALUE(LEFT('Analitika 2024'!$C$9:$C$252,2)))*('Analitika 2024'!$L$9:$L$252)) -> 6518990.2 | K13: =IFERROR($J13/$J$37,0) -> 0.030766637 | M13: =IF($J$10="Januar","-", SUMPRODUCT((D13=VALUE(LEFT('Analitika 2024'!$C$9:$C$252,2)))*('Analitika 2024'!$F$9:$F$252))) -> 55535385 | N13: =IF($J$10="Januar","-",IFERROR($M13/$M$37,0)) -> 0.026564953
D15: 12 | E15: PRAVOSUĐE I ZAŠTITA PRAVA | J15: =SUMPRODUCT((D15=VALUE(LEFT('Analitika 2024'!$C$9:$C$252,2)))*('Analitika 2024'!$L$9:$L$252)) -> 6193307.2 | K15: =IFERROR($J15/$J$37,0) -> 0.029229563 | M15: =IF($J$10="Januar","-", SUMPRODUCT((D15=VALUE(LEFT('Analitika 2024'!$C$9:$C$252,2)))*('Analitika 2024'!$F$9:$F$252))) -> 47724352 | N15: =IF($J$10="Januar","-",IFERROR($M15/$M$37,0)) -> 0.022828602
D17: 13 | E17: JAVNA BEZBJEDNOST I ODBRANA | J17: =SUMPRODUCT((D17=VALUE(LEFT('Analitika 2024'!$C$9:$C$252,2)))*('Analitika 2024'!$L$9:$L$252)) -> 14757644 | K17: =IFERROR($J17/$J$37,0) -> 0.069649296 | M17: =IF($J$10="Januar","-", SUMPRODUCT((D17=VALUE(LEFT('Analitika 2024'!$C$9:$C$252,2)))*('Analitika 2024'!$F$9:$F$252))) -> 1.2503914e+08 | N17: =IF($J$10="Januar","-",IFERROR($M17/$M$37,0)) -> 0.059811578
D19: 14 | E19: JAVNE FINANSIJE | J19: =SUMPRODUCT((D19=VALUE(LEFT('Analitika 2024'!$C$9:$C$252,2)))*('Analitika 2024'!$L$9:$L$252)) -> 22566418 | K19: =IFERROR($J19/$J$37,0) -> 0.10650312 | M19: =IF($J$10="Januar","-", SUMPRODUCT((D19=VALUE(LEFT('Analitika 2024'!$C$9:$C$252,2)))*('Analitika 2024'!$F$9:$F$252))) -> 5.1844335e+08 | N19: =IF($J$10="Januar","-",IFERROR($M19/$M$37,0)) -> 0.24799366
D21: 15 | E21: EKONOMIJA I TURIZAM | J21: =SUMPRODUCT((D21=VALUE(LEFT('Analitika 2024'!$C$9:$C$252,2)))*('Analitika 2024'!$L$9:$L$252)) -> 6478676.4 | K21: =IFERROR($J21/$J$37,0) -> 0.030576374 | M21: =IF($J$10="Januar","-", SUMPRODUCT((D21=VALUE(LEFT('Analitika 2024'!$C$9:$C$252,2)))*('Analitika 2024'!$F$9:$F$252))) -> 65057590 | N21: =IF($J$10="Januar","-",IFERROR($M21/$M$37,0)) -> 0.031119832
D23: 16 | E23: POLJOPRIVREDA, ŠUMARSTVO I VODOPRIVREDA | J23: =SUMPRODUCT((D23=VALUE(LEFT('Analitika 2024'!$C$9:$C$252,2)))*('Analitika 2024'!$L$9:$L$252)) -> 5563788.7 | K23: =IFERROR($J23/$J$37,0) -> 0.026258525 | M23: =IF($J$10="Januar","-", SUMPRODUCT((D23=VALUE(LEFT('Analitika 2024'!$C$9:$C$252,2)))*('Analitika 2024'!$F$9:$F$252))) -> 33855375 | N23: =IF($J$10="Januar","-",IFERROR($M23/$M$37,0)) -> 0.016194476
D25: 17 | E25: SAOBRAĆAJ | J25: =SUMPRODUCT((D25=VALUE(LEFT('Analitika 2024'!$C$9:$C$252,2)))*('Analitika 2024'!$L$9:$L$252)) -> 7378993.9 | K25: =IFERROR($J25/$J$37,0) -> 0.034825459 | M25: =IF($J$10="Januar","-", SUMPRODUCT((D25=VALUE(LEFT('Analitika 2024'!$C$9:$C$252,2)))*('Analitika 2024'!$F$9:$F$252))) -> 75180981 | N25: =IF($J$10="Januar","-",IFERROR($M25/$M$37,0)) -> 0.035962284
D27: 18 | E27: PROSTORNO PLANIRANJE I ZAŠTITA ŽIVOTNE SREDINE | J27: =SUMPRODUCT((D27=VALUE(LEFT('Analitika 2024'!$C$9:$C$252,2)))*('Analitika 2024'!$L$9:$L$252)) -> 1600554.4 | K27: =IFERROR($J27/$J$37,0) -> 0.0075538808 | M27: =IF($J$10="Januar","-", SUMPRODUCT((D27=VALUE(LEFT('Analitika 2024'!$C$9:$C$252,2)))*('Analitika 2024'!$F$9:$F$252))) -> 23491220 | N27: =IF($J$10="Januar","-",IFERROR($M27/$M$37,0)) -> 0.011236857
D29: 19 | E29: OBRAZOVANJE, NAUKA I SPORT | J29: =SUMPRODUCT((D29=VALUE(LEFT('Analitika 2024'!$C$9:$C$252,2)))*('Analitika 2024'!$L$9:$L$252)) -> 25085516 | K29: =IFERROR($J29/$J$37,0) -> 0.1183921 | M29: =IF($J$10="Januar","-", SUMPRODUCT((D29=VALUE(LEFT('Analitika 2024'!$C$9:$C$252,2)))*('Analitika 2024'!$F$9:$F$252))) -> 2.1518272e+08 | N29: =IF($J$10="Januar","-",IFERROR($M29/$M$37,0)) -> 0.10293111
D31: 20 | E31: KULTURA | J31: =SUMPRODUCT((D31=VALUE(LEFT('Analitika 2024'!$C$9:$C$252,2)))*('Analitika 2024'!$L$9:$L$252)) -> 1558460.4 | K31: =IFERROR($J31/$J$37,0) -> 0.0073552164 | M31: =IF($J$10="Januar","-", SUMPRODUCT((D31=VALUE(LEFT('Analitika 2024'!$C$9:$C$252,2)))*('Analitika 2024'!$F$9:$F$252))) -> 15383424 | N31: =IF($J$10="Januar","-",IFERROR($M31/$M$37,0)) -> 0.0073585505
D33: 21 | E33: ZDRAVSTVO | J33: =SUMPRODUCT((D33=VALUE(LEFT('Analitika 2024'!$C$9:$C$252,2)))*('Analitika 2024'!$L$9:$L$252)) -> 31567454 | K33: =IFERROR($J33/$J$37,0) -> 0.14898387 | M33: =IF($J$10="Januar","-", SUMPRODUCT((D33=VALUE(LEFT('Analitika 2024'!$C$9:$C$252,2)))*('Analitika 2024'!$F$9:$F$252))) -> 2.7672695e+08 | N33: =IF($J$10="Januar","-",IFERROR($M33/$M$37,0)) -> 0.13237035
D35: 22 | E35: SOCIJALNO STARANJE | J35: =SUMPRODUCT((D35=VALUE(LEFT('Analitika 2024'!$C$9:$C$252,2)))*('Analitika 2024'!$L$9:$L$252)) -> 82615241 | K35: =IFERROR($J35/$J$37,0) -> 0.38990596 | M35: =IF($J$10="Januar","-", SUMPRODUCT((D35=VALUE(LEFT('Analitika 2024'!$C$9:$C$252,2)))*('Analitika 2024'!$F$9:$F$252))) -> 6.3893033e+08 | N35: =IF($J$10="Januar","-",IFERROR($M35/$M$37,0)) -> 0.30562774
E37: TOTAL | J37: =SUM(J13:J35) -> 2.1188504e+08 | K37: =IFERROR($J37/$J$37,0) -> 1 | M37: =SUM(M13:M35) -> 2.0905508e+09 | N37: =IFERROR($M37/$M$37,0) -> 1

Sheet Analitika 2024
C4: BDP - 2024 | D4: 7279700000 | E4: Period: | F4: =Master!D6 -> Januar - Avgust | K4: Mjesec: | L4: =Master!D4 -> Avgust
E5: Plan | F5: Ostvarenje | I5: Odstupanje od plana | K5: Plan | L5: Ostvarenje | O5: Odstupanje od plana
E6: mil. € | F6: mil. € | G6: (%) | H6: (%) BDP-a | I6: mil. € | J6: (%) | K6: mil. € | L6: mil. € | M6: (%) | N6: (%) BDP-a | O6: mil. € | P6: (%)
C7: Prog. klasif. | D7: Naziv POTPROGRAMA
C8: UKUPNO | E8: =SUM(E9:E252) -> 2.2539701e+09 | F8: =SUM(F9:F252) -> 2.0905508e+09 | G8: =IFERROR(F8/E8,0) -> 0.92749715 | H8: =F8/$D$4 -> 0.28717541 | I8: =SUM(I9:I252) -> -1.6341926e+08 | J8: =IFERROR(I8/E8,0) -> -0.072502855 | K8: =SUM(K9:K252) -> 2.3987312e+08 | L8: =SUM(L9:L252) -> 2.1188504e+08 | M8: =IFERROR(L8/K8,0) -> 0.88332132 | N8: =L8/$D$4 -> 0.029106288 | O8: =SUM(O9:O252) -> -27988079 | P8: =IFERROR(O8/K8,0) -> -0.11667868
C9: 11 009 003 | D9: Djelovanje Državne izborne komisije | E9: =IFERROR(VLOOKUP($C9,'2024'!$C$261:$U$504,19,FALSE),0) -> 331587.2 | F9: =IFERROR(VLOOKUP($C9,'2024'!$C$8:$U$251,19,FALSE),0) -> 234283.64 | G9: =IFERROR(F9/E9,0) -> 0.70655212 | H9: =F9/$D$4 -> 3.2183145e-05 | I9: =F9-E9 -> -97303.56 | J9: =IFERROR(I9/E9,0) -> -0.29344788 | K9: =VLOOKUP($C9,'2024'!$C$261:$U$504,VLOOKUP($L$4,Master!$D$9:$G$20,4,FALSE),FALSE) -> 40508.4 | L9: =VLOOKUP($C9,'2024'!$C$8:$U$251,VLOOKUP($L$4,Master!$D$9:$G$20,4,FALSE),FALSE) -> 25901 | M9: =IFERROR(L9/K9,0) -> 0.63939825 | N9: =L9/$D$4 -> 3.5579763e-06 | O9: =L9-K9 -> -14607.4 | P9: =IFERROR(O9/K9,0) -> -0.36060175
C10: 11 011 001 | D10: Stručni i operativni poslovi Savjeta za građansku kontrolu rada policije | E10: =IFERROR(VLOOKUP($C10,'2024'!$C$261:$U$504,19,FALSE),0) -> 29267.36 | F10: =IFERROR(VLOOKUP($C10,'2024'!$C$8:$U$251,19,FALSE),0) -> 26580 | G10: =IFERROR(F10/E10,0) -> 0.90817894 | H10: =F10/$D$4 -> 3.6512494e-06 | I10: =F10-E10 -> -2687.36 | J10: =IFERROR(I10/E10,0) -> -0.091821059 | K10: =VLOOKUP($C10,'2024'!$C$261:$U$504,VLOOKUP($L$4,Master!$D$9:$G$20,4,FALSE),FALSE) -> 3658.42 | L10: =VLOOKUP($C10,'2024'!$C$8:$U$251,VLOOKUP($L$4,Master!$D$9:$G$20,4,FALSE),FALSE) -> 4220 | M10: =IFERROR(L10/K10,0) -> 1.1535034 | N10: =L10/$D$4 -> 5.7969422e-07 | O10: =L10-K10 -> 561.58 | P10: =IFERROR(O10/K10,0) -> 0.15350342
C11: 11 018 001 | D11: Stabilizacija i pridruživanje i pristupanje Crne Gore Evropskoj uniji | E11: =IFERROR(VLOOKUP($C11,'2024'!$C$261:$U$504,19,FALSE),0) -> 1069202 | F11: =IFERROR(VLOOKUP($C11,'2024'!$C$8:$U$251,19,FALSE),0) -> 1072773.5 | G11: =IFERROR(F11/E11,0) -> 1.0033403 | H11: =F11/$D$4 -> 0.00014736507 | I11: =F11-E11 -> 3571.44 | J11: =IFERROR(I11/E11,0) -> 0.0033402854 | K11: =VLOOKUP($C11,'2024'!$C$261:$U$504,VLOOKUP($L$4,Master!$D$9:$G$20,4,FALSE),FALSE) -> 122853.31 | L11: =VLOOKUP($C11,'2024'!$C$8:$U$251,VLOOKUP($L$4,Master!$D$9:$G$20,4,FALSE),FALSE) -> 155931.04 | M11: =IFERROR(L11/K11,0) -> 1.2692457 | N11: =L11/$D$4 -> 2.1419982e-05 | O11: =L11-K11 -> 33077.73 | P11: =IFERROR(O11/K11,0) -> 0.26924574
C12: 11 019 001 | D12: Stručni i operativni poslovi Ministarstva evropskih poslova | E12: =IFERROR(VLOOKUP($C12,'2024'!$C$261:$U$504,19,FALSE),0) -> 342969.93 | F12: =IFERROR(VLOOKUP($C12,'2024'!$C$8:$U$251,19,FALSE),0) -> 340007.75 | G12: =IFERROR(F12/E12,0) -> 0.99136315 | H12: =F12/$D$4 -> 4.6706286e-05 | I12: =F12-E12 -> -2962.18 | J12: =IFERROR(I12/E12,0) -> -0.0086368505 | K12: =VLOOKUP($C12,'2024'!$C$261:$U$504,VLOOKUP($L$4,Master!$D$9:$G$20,4,FALSE),FALSE) -> 38695.65 | L12: =VLOOKUP($C12,'2024'!$C$8:$U$251,VLOOKUP($L$4,Master!$D$9:$G$20,4,FALSE),FALSE) -> 103725.89 | M12: =IFERROR(L12/K12,0) -> 2.6805569 | N12: =L12/$D$4 -> 1.4248649e-05 | O12: =L12-K12 -> 65030.24 | P12: =IFERROR(O12/K12,0) -> 1.6805569
C13: 11 023 003 | D13: Djelovanje Uprave za ljudske resurse | E13: =IFERROR(VLOOKUP($C13,'2024'!$C$261:$U$504,19,FALSE),0) -> 1467391.5 | F13: =IFERROR(VLOOKUP($C13,'2024'!$C$8:$U$251,19,FALSE),0) -> 1101964.3 | G13: =IFERROR(F13/E13,0) -> 0.75096822 | H13: =F13/$D$4 -> 0.00015137497 | I13: =F13-E13 -> -365427.11 | J13: =IFERROR(I13/E13,0) -> -0.24903178 | K13: =VLOOKUP($C13,'2024'!$C$261:$U$504,VLOOKUP($L$4,Master!$D$9:$G$20,4,FALSE),FALSE) -> 174552.05 | L13: =VLOOKUP($C13,'2024'!$C$8:$U$251,VLOOKUP($L$4,Master!$D$9:$G$20,4,FALSE),FALSE) -> 124434.75 | M13: =IFERROR(L13/K13,0) -> 0.71288048 | N13: =L13/$D$4 -> 1.709339e-05 | O13: =L13-K13 -> -50117.3 | P13: =IFERROR(O13/K13,0) -> -0.28711952
C14: 11 024 002 | D14: Koordinirani inspekcijski nadzor | E14: =IFERROR(VLOOKUP($C14,'2024'!$C$261:$U$504,19,FALSE),0) -> 4799021.8 | F14: =IFERROR(VLOOKUP($C14,'2024'!$C$8:$U$251,19,FALSE),0) -> 4435965.2 | G14: =IFERROR(F14/E14,0) -> 0.92434779 | H14: =F14/$D$4 -> 0.00060936098 | I14: =F14-E14 -> -363056.61 | J14: =IFERROR(I14/E14,0) -> -0.075652212 | K14: =VLOOKUP($C14,'2024'!$C$261:$U$504,VLOOKUP($L$4,Master!$D$9:$G$20,4,FALSE),FALSE) -> 617142.07 | L14: =VLOOKUP($C14,'2024'!$C$8:$U$251,VLOOKUP($L$4,Master!$D$9:$G$20,4,FALSE),FALSE) -> 601028.2 | M14: =IFERROR(L14/K14,0) -> 0.97388953 | N14: =L14/$D$4 -> 8.2562221e-05 | O14: =L14-K14 -> -16113.87 | P14: =IFERROR(O14/K14,0) -> -0.026110471
C15: 11 033 002 | D15: Stručni i operativni poslovi i međunarodna saradnja u oblasti sprječavanja korupcije | E15: =IFERROR(VLOOKUP($C15,'2024'!$C$261:$U$504,19,FALSE),0) -> 763227.06 | F15: =IFERROR(VLOOKUP($C15,'2024'!$C$8:$U$251,19,FALSE),0) -> 487665.3 | G15: =IFERROR(F15/E15,0) -> 0.6389518 | H15: =F15/$D$4 -> 6.6989752e-05 | I15: =F15-E15 -> -275561.76 | J15: =IFERROR(I15/E15,0) -> -0.3610482 | K15: =VLOOKUP($C15,'2024'!$C$261:$U$504,VLOOKUP($L$4,Master!$D$9:$G$20,4,FALSE),FALSE) -> 81900.37 | L15: =VLOOKUP($C15,'2024'!$C$8:$U$251,VLOOKUP($L$4,Master!$D$9:$G$20,4,FALSE),FALSE) -> 43961.71 | M15: =IFERROR(L15/K15,0) -> 0.53677059 | N15: =L15/$D$4 -> 6.0389453e-06 | O15: =L15-K15 -> -37938.66 | P15: =IFERROR(O15/K15,0) -> -0.46322941
C16: 11 033 003 | D16: Prevencija korupcije | E16: =IFERROR(VLOOKUP($C16,'2024'!$C$261:$U$504,19,FALSE),0) -> 867055.61 | F16: =IFERROR(VLOOKUP($C16,'2024'!$C$8:$U$251,19,FALSE),0) -> 483386.94 | G16: =IFERROR(F16/E16,0) -> 0.55750396 | H16: =F16/$D$4 -> 6.6402041e-05 | I16: =F16-E16 -> -383668.67 | J16: =IFERROR(I16/E16,0) -> -0.44249604 | K16: =VLOOKUP($C16,'2024'!$C$261:$U$504,VLOOKUP($L$4,Master!$D$9:$G$20,4,FALSE),FALSE) -> 86331.87 | L16: =VLOOKUP($C16,'2024'!$C$8:$U$251,VLOOKUP($L$4,Master!$D$9:$G$20,4,FALSE),FALSE) -> 35827.54 | M16: =IFERROR(L16/K16,0) -> 0.41499784 | N16: =L16/$D$4 -> 4.9215682e-06 | O16: =L16-K16 -> -50504.33 | P16: =IFERROR(O16/K16,0) -> -0.58500216
C17: 11 034 002 | D17: Djelatnost Službenog lista Crne Gore | E17: =IFERROR(VLOOKUP($C17,'2024'!$C$261:$U$504,19,FALSE),0) -> 122445.61 | F17: =IFERROR(VLOOKUP($C17,'2024'!$C$8:$U$251,19,FALSE),0) -> 102445.61 | G17: =IFERROR(F17/E17,0) -> 0.83666217 | H17: =F17/$D$4 -> 1.4072779e-05 | I17: =F17-E17 -> -20000 | J17: =IFERROR(I17/E17,0) -> -0.16333783 | K17: =VLOOKUP($C17,'2024'!$C$261:$U$504,VLOOKUP($L$4,Master!$D$9:$G$20,4,FALSE),FALSE) -> 17321.84 | L17: =VLOOKUP($C17,'2024'!$C$8:$U$251,VLOOKUP($L$4,Master!$D$9:$G$20,4,FALSE),FALSE) -> 32858.24 | M17: =IFERROR(L17/K17,0) -> 1.8969255 | N17: =L17/$D$4 -> 4.5136805e-06 | O17: =L17-K17 -> 15536.4 | P17: =IFERROR(O17/K17,0) -> 0.8969255
C18: 11 047 001 | D18: Djelovanje Predsjednika Crne Gore | E18: =IFERROR(VLOOKUP($C18,'2024'!$C$261:$U$504,19,FALSE),0) -> 995056.06 | F18: =IFERROR(VLOOKUP($C18,'2024'!$C$8:$U$251,19,FALSE),0) -> 1018323.8 | G18: =IFERROR(F18/E18,0) -> 1.0233833 | H18: =F18/$D$4 -> 0.00013988541 | I18: =F18-E18 -> 23267.73 | J18: =IFERROR(I18/E18,0) -> 0.023383336 | K18: =VLOOKUP($C18,'2024'!$C$261:$U$504,VLOOKUP($L$4,Master!$D$9:$G$20,4,FALSE),FALSE) -> 115067.2 | L18: =VLOOKUP($C18,'2024'!$C$8:$U$251,VLOOKUP($L$4,Master!$D$9:$G$20,4,FALSE),FALSE) -> 80700.27 | M18: =IFERROR(L18/K18,0) -> 0.70133166 | N18: =L18/$D$4 -> 1.1085659e-05 | O18: =L18-K18 -> -34366.93 | P18: =IFERROR(O18/K18,0) -> -0.29866834
C19: 11 048 001 | D19: Zakonodavna, kontrolna i predstavnička funkcija Skupštine Crne Gore | E19: =IFERROR(VLOOKUP($C19,'2024'!$C$261:$U$504,19,FALSE),0) -> 3956304.6 | F19: =IFERROR(VLOOKUP($C19,'2024'!$C$8:$U$251,19,FALSE),0) -> 3268361.5 | G19: =IFERROR(F19/E19,0) -> 0.82611474 | H19: =F19/$D$4 -> 0.00044896926 | I19: =F19-E19 -> -687943.06 | J19: =IFERROR(I19/E19,0) -> -0.17388526 | K19: =VLOOKUP($C19,'2024'!$C$261:$U$504,VLOOKUP($L$4,Master!$D$9:$G$20,4,FALSE),FALSE) -> 504378.2 | L19: =VLOOKUP($C19,'2024'!$C$8:$U$251,VLOOKUP($L$4,Master!$D$9:$G$20,4,FALSE),FALSE) -> 301903.85 | M19: =IFERROR(L19/K19,0) -> 0.59856641 | N19: =L19/$D$4 -> 4.1472018e-05 | O19: =L19-K19 -> -202474.35 | P19: =IFERROR(O19/K19,0) -> -0.40143359
C20: 11 048 002 | D20: Stručni i operativni poslovi Skupštine Crne Gore | E20: =IFERROR(VLOOKUP($C20,'2024'!$C$261:$U$504,19,FALSE),0) -> 4034480.8 | F20: =IFERROR(VLOOKUP($C20,'2024'!$C$8:$U$251,19,FALSE),0) -> 3503112.8 | G20: =IFERROR(F20/E20,0) -> 0.86829334 | H20: =F20/$D$4 -> 0.00048121664 | I20: =F20-E20 -> -531368.01 | J20: =IFERROR(I20/E20,0) -> -0.13170666 | K20: =VLOOKUP($C20,'2024'!$C$261:$U$504,VLOOKUP($L$4,Master!$D$9:$G$20,4,FALSE),FALSE) -> 521577.31 | L20: =VLOOKUP($C20,'2024'!$C$8:$U$251,VLOOKUP($L$4,Master!$D$9:$G$20,4,FALSE),FALSE) -> 345464.64 | M20: =IFERROR(L20/K20,0) -> 0.66234599 | N20: =L20/$D$4 -> 4.745589e-05 | O20: =L20-K20 -> -176112.67 | P20: =IFERROR(O20/K20,0) -> -0.33765401
... C252: 22 026 001 | D252: Stručni i operativni poslovi Ministarstva rada i socijalnog staranja | E252: =IFERROR(VLOOKUP($C252,'2024'!$C$261:$U$504,19,FALSE),0) -> 1643641.2 | F252: =IFERROR(VLOOKUP($C252,'2024'!$C$8:$U$251,19,FALSE),0) -> 923242.34 | G252: =IFERROR(F252/E252,0) -> 0.56170554 | H252: =F252/$D$4 -> 0.00012682423 | I252: =F252-E252 -> -720398.81 | J252: =IFERROR(I252/E252,0) -> -0.43829446 | K252: =VLOOKUP($C252,'2024'!$C$261:$U$504,VLOOKUP($L$4,Master!$D$9:$G$20,4,FALSE),FALSE) -> 197817 | L252: =VLOOKUP($C252,'2024'!$C$8:$U$251,VLOOKUP($L$4,Master!$D$9:$G$20,4,FALSE),FALSE) -> 91875 | M252: =IFERROR(L252/K252,0) -> 0.46444441 | N252: =L252/$D$4 -> 1.2620712e-05 | O252: =L252-K252 -> -105942 | P252: =IFERROR(O252/K252,0) -> -0.53555559

Sheet 2024
E4: Ostvarenje - 2024
E5: Januar | F5: Februar | G5: Mart | H5: April | I5: Maj | J5: Jun | K5: Jul | L5: Avgust | M5: Septembar | N5: Oktobar | O5: Novembar | P5: Decembar | Q5: TOTAL | U5: Period
C6: Prog. Klas. | D6: OPIS
C7: UKUPNO | E7: 1.7344263e+08 | F7: 2.2167839e+08 | G7: 2.932147e+08 | H7: 3.7658653e+08 | I7: 2.5608938e+08 | J7: 2.7338694e+08 | K7: 2.842672e+08 | L7: 2.1187573e+08 | M7: =SUM(M8:M251) -> 0 | N7: =SUM(N8:N251) -> 0 | O7: =SUM(O8:O251) -> 0 | P7: =SUM(P8:P251) -> 0 | Q7: =SUM(Q8:Q251) -> 2.0905508e+09 | U7: =SUM(U8:U251) -> 2.0905508e+09
C8: 11 009 003 | D8: Djelovanje Državne izborne komisije | E8: 19726.5 | F8: 32742.28 | G8: 32668.23 | H8: 30495.97 | I8: 28105.09 | J8: 35795.43 | K8: 28849.14 | L8: 25901 | Q8: =SUM(E8:P8) -> 234283.64 | U8: =IF($E$5=Master!$D$4,E8, IF($F$5=Master!$D$4,SUM(E8:F8), IF($G$5=Master!$D$4,SUM(E8:G8), IF($H$5=Master!$D$4,SUM(E8:H8), IF($I$5=Master!$D$4,SUM(E8:I8), IF($J$5=Master!$D$4,SUM(E8:J8), IF($K$5=Master!$D$4,SUM(E8:K8), IF($L$5=Master!$D$4,SUM(E8:L8), IF($M$5=Master!$D$4,SUM(E8:M8), IF($N$5=Master!$D$4,SUM(E8:N8), IF($O$5=Master!$D$4,SUM(E8:O8), IF($P$5=Master!$D$4,SUM(E8:P8),0)))))))))))) -> 234283.64
C9: 11 011 001 | D9: Stručni i operativni poslovi Savjeta za građansku kontrolu rada policije | E9: 0 | F9: 5760 | G9: 0 | H9: 5760 | I9: 2880 | J9: 3480 | K9: 4480 | L9: 4220 | Q9: =SUM(E9:P9) -> 26580 | U9: =IF($E$5=Master!$D$4,E9, IF($F$5=Master!$D$4,SUM(E9:F9), IF($G$5=Master!$D$4,SUM(E9:G9), IF($H$5=Master!$D$4,SUM(E9:H9), IF($I$5=Master!$D$4,SUM(E9:I9), IF($J$5=Master!$D$4,SUM(E9:J9), IF($K$5=Master!$D$4,SUM(E9:K9), IF($L$5=Master!$D$4,SUM(E9:L9), IF($M$5=Master!$D$4,SUM(E9:M9), IF($N$5=Master!$D$4,SUM(E9:N9), IF($O$5=Master!$D$4,SUM(E9:O9), IF($P$5=Master!$D$4,SUM(E9:P9),0)))))))))))) -> 26580
C10: 11 018 001 | D10: Stabilizacija i pridruživanje i pristupanje Crne Gore Evropskoj uniji | E10: 62541.04 | F10: 125274.64 | G10: 134172.27 | H10: 201707.51 | I10: 125872.23 | J10: 108636.29 | K10: 158638.47 | L10: 155931.04 | Q10: =SUM(E10:P10) -> 1072773.5 | U10: =IF($E$5=Master!$D$4,E10, IF($F$5=Master!$D$4,SUM(E10:F10), IF($G$5=Master!$D$4,SUM(E10:G10), IF($H$5=Master!$D$4,SUM(E10:H10), IF($I$5=Master!$D$4,SUM(E10:I10), IF($J$5=Master!$D$4,SUM(E10:J10), IF($K$5=Master!$D$4,SUM(E10:K10), IF($L$5=Master!$D$4,SUM(E10:L10), IF($M$5=Master!$D$4,SUM(E10:M10), IF($N$5=Master!$D$4,SUM(E10:N10), IF($O$5=Master!$D$4,SUM(E10:O10), IF($P$5=Master!$D$4,SUM(E10:P10),0)))))))))))) -> 1072773.5
C11: 11 019 001 | D11: Stručni i operativni poslovi Ministarstva evropskih poslova | E11: 28623.4 | F11: 32722.94 | G11: 27706.08 | H11: 50213.68 | I11: 29419.29 | J11: 35459.09 | K11: 32137.38 | L11: 103725.89 | Q11: =SUM(E11:P11) -> 340007.75 | U11: =IF($E$5=Master!$D$4,E11, IF($F$5=Master!$D$4,SUM(E11:F11), IF($G$5=Master!$D$4,SUM(E11:G11), IF($H$5=Master!$D$4,SUM(E11:H11), IF($I$5=Master!$D$4,SUM(E11:I11), IF($J$5=Master!$D$4,SUM(E11:J11), IF($K$5=Master!$D$4,SUM(E11:K11), IF($L$5=Master!$D$4,SUM(E11:L11), IF($M$5=Master!$D$4,SUM(E11:M11), IF($N$5=Master!$D$4,SUM(E11:N11), IF($O$5=Master!$D$4,SUM(E11:O11), IF($P$5=Master!$D$4,SUM(E11:P11),0)))))))))))) -> 340007.75
C12: 11 023 003 | D12: Djelovanje Uprave za ljudske resurse | E12: 91905.46 | F12: 129698.68 | G12: 128955.42 | H12: 145067.82 | I12: 125439.43 | J12: 177335.79 | K12: 179127 | L12: 124434.75 | Q12: =SUM(E12:P12) -> 1101964.3 | U12: =IF($E$5=Master!$D$4,E12, IF($F$5=Master!$D$4,SUM(E12:F12), IF($G$5=Master!$D$4,SUM(E12:G12), IF($H$5=Master!$D$4,SUM(E12:H12), IF($I$5=Master!$D$4,SUM(E12:I12), IF($J$5=Master!$D$4,SUM(E12:J12), IF($K$5=Master!$D$4,SUM(E12:K12), IF($L$5=Master!$D$4,SUM(E12:L12), IF($M$5=Master!$D$4,SUM(E12:M12), IF($N$5=Master!$D$4,SUM(E12:N12), IF($O$5=Master!$D$4,SUM(E12:O12), IF($P$5=Master!$D$4,SUM(E12:P12),0)))))))))))) -> 1101964.3
C13: 11 024 002 | D13: Koordinirani inspekcijski nadzor | E13: 437535.97 | F13: 583138.76 | G13: 580441.51 | H13: 529350.56 | I13: 535128.08 | J13: 555830.47 | K13: 613511.61 | L13: 601028.2 | Q13: =SUM(E13:P13) -> 4435965.2 | U13: =IF($E$5=Master!$D$4,E13, IF($F$5=Master!$D$4,SUM(E13:F13), IF($G$5=Master!$D$4,SUM(E13:G13), IF($H$5=Master!$D$4,SUM(E13:H13), IF($I$5=Master!$D$4,SUM(E13:I13), IF($J$5=Master!$D$4,SUM(E13:J13), IF($K$5=Master!$D$4,SUM(E13:K13), IF($L$5=Master!$D$4,SUM(E13:L13), IF($M$5=Master!$D$4,SUM(E13:M13), IF($N$5=Master!$D$4,SUM(E13:N13), IF($O$5=Master!$D$4,SUM(E13:O13), IF($P$5=Master!$D$4,SUM(E13:P13),0)))))))))))) -> 4435965.2
C14: 11 033 002 | D14: Stručni i operativni poslovi i međunarodna saradnja u oblasti sprječavanja korupcije | E14: 60138.1 | F14: 83541.21 | G14: 83259.12 | H14: 59816.65 | I14: 60267.39 | J14: 49858.15 | K14: 46822.97 | L14: 43961.71 | Q14: =SUM(E14:P14) -> 487665.3 | U14: =IF($E$5=Master!$D$4,E14, IF($F$5=Master!$D$4,SUM(E14:F14), IF($G$5=Master!$D$4,SUM(E14:G14), IF($H$5=Master!$D$4,SUM(E14:H14), IF($I$5=Master!$D$4,SUM(E14:I14), IF($J$5=Master!$D$4,SUM(E14:J14), IF($K$5=Master!$D$4,SUM(E14:K14), IF($L$5=Master!$D$4,SUM(E14:L14), IF($M$5=Master!$D$4,SUM(E14:M14), IF($N$5=Master!$D$4,SUM(E14:N14), IF($O$5=Master!$D$4,SUM(E14:O14), IF($P$5=Master!$D$4,SUM(E14:P14),0)))))))))))) -> 487665.3
C15: 11 033 003 | D15: Prevencija korupcije | E15: 51641.44 | F15: 71424.2 | G15: 82461.78 | H15: 55422.95 | I15: 59651.61 | J15: 56044.97 | K15: 70912.45 | L15: 35827.54 | Q15: =SUM(E15:P15) -> 483386.94 | U15: =IF($E$5=Master!$D$4,E15, IF($F$5=Master!$D$4,SUM(E15:F15), IF($G$5=Master!$D$4,SUM(E15:G15), IF($H$5=Master!$D$4,SUM(E15:H15), IF($I$5=Master!$D$4,SUM(E15:I15), IF($J$5=Master!$D$4,SUM(E15:J15), IF($K$5=Master!$D$4,SUM(E15:K15), IF($L$5=Master!$D$4,SUM(E15:L15), IF($M$5=Master!$D$4,SUM(E15:M15), IF($N$5=Master!$D$4,SUM(E15:N15), IF($O$5=Master!$D$4,SUM(E15:O15), IF($P$5=Master!$D$4,SUM(E15:P15),0)))))))))))) -> 483386.94
C16: 11 034 002 | D16: Djelatnost Službenog lista Crne Gore | E16: 0 | F16: 18214.56 | G16: 0 | H16: 43158.25 | I16: 8214.56 | J16: 0 | K16: 0 | L16: 32858.24 | Q16: =SUM(E16:P16) -> 102445.61 | U16: =IF($E$5=Master!$D$4,E16, IF($F$5=Master!$D$4,SUM(E16:F16), IF($G$5=Master!$D$4,SUM(E16:G16), IF($H$5=Master!$D$4,SUM(E16:H16), IF($I$5=Master!$D$4,SUM(E16:I16), IF($J$5=Master!$D$4,SUM(E16:J16), IF($K$5=Master!$D$4,SUM(E16:K16), IF($L$5=Master!$D$4,SUM(E16:L16), IF($M$5=Master!$D$4,SUM(E16:M16), IF($N$5=Master!$D$4,SUM(E16:N16), IF($O$5=Master!$D$4,SUM(E16:O16), IF($P$5=Master!$D$4,SUM(E16:P16),0)))))))))))) -> 102445.61
C17: 11 047 001 | D17: Djelovanje Predsjednika Crne Gore | E17: 92239.98 | F17: 137025.43 | G17: 141718.29 | H17: 174797.22 | I17: 173191.28 | J17: 97235.3 | K17: 121416.02 | L17: 80700.27 | Q17: =SUM(E17:P17) -> 1018323.8 | U17: =IF($E$5=Master!$D$4,E17, IF($F$5=Master!$D$4,SUM(E17:F17), IF($G$5=Master!$D$4,SUM(E17:G17), IF($H$5=Master!$D$4,SUM(E17:H17), IF($I$5=Master!$D$4,SUM(E17:I17), IF($J$5=Master!$D$4,SUM(E17:J17), IF($K$5=Master!$D$4,SUM(E17:K17), IF($L$5=Master!$D$4,SUM(E17:L17), IF($M$5=Master!$D$4,SUM(E17:M17), IF($N$5=Master!$D$4,SUM(E17:N17), IF($O$5=Master!$D$4,SUM(E17:O17), IF($P$5=Master!$D$4,SUM(E17:P17),0)))))))))))) -> 1018323.8
C18: 11 048 001 | D18: Zakonodavna, kontrolna i predstavnička funkcija Skupštine Crne Gore | E18: 255528.37 | F18: 436695.36 | G18: 455216.73 | H18: 484046.16 | I18: 444005.59 | J18: 509404.22 | K18: 381561.24 | L18: 301903.85 | Q18: =SUM(E18:P18) -> 3268361.5 | U18: =IF($E$5=Master!$D$4,E18, IF($F$5=Master!$D$4,SUM(E18:F18), IF($G$5=Master!$D$4,SUM(E18:G18), IF($H$5=Master!$D$4,SUM(E18:H18), IF($I$5=Master!$D$4,SUM(E18:I18), IF($J$5=Master!$D$4,SUM(E18:J18), IF($K$5=Master!$D$4,SUM(E18:K18), IF($L$5=Master!$D$4,SUM(E18:L18), IF($M$5=Master!$D$4,SUM(E18:M18), IF($N$5=Master!$D$4,SUM(E18:N18), IF($O$5=Master!$D$4,SUM(E18:O18), IF($P$5=Master!$D$4,SUM(E18:P18),0)))))))))))) -> 3268361.5
C19: 11 048 002 | D19: Stručni i operativni poslovi Skupštine Crne Gore | E19: 326023.51 | F19: 441170.98 | G19: 500525.98 | H19: 589997.73 | I19: 461005.47 | J19: 406979.65 | K19: 431944.84 | L19: 345464.64 | Q19: =SUM(E19:P19) -> 3503112.8 | U19: =IF($E$5=Master!$D$4,E19, IF($F$5=Master!$D$4,SUM(E19:F19), IF($G$5=Master!$D$4,SUM(E19:G19), IF($H$5=Master!$D$4,SUM(E19:H19), IF($I$5=Master!$D$4,SUM(E19:I19), IF($J$5=Master!$D$4,SUM(E19:J19), IF($K$5=Master!$D$4,SUM(E19:K19), IF($L$5=Master!$D$4,SUM(E19:L19), IF($M$5=Master!$D$4,SUM(E19:M19), IF($N$5=Master!$D$4,SUM(E19:N19), IF($O$5=Master!$D$4,SUM(E19:O19), IF($P$5=Master!$D$4,SUM(E19:P19),0)))))))))))) -> 3503112.8
... C251: 22 026 001 | D251: Stručni i operativni poslovi Ministarstva rada i socijalnog staranja | E251: 71869.11 | F251: 100063.02 | G251: 133522.77 | H251: 125454.67 | I251: 159008.87 | J251: 138751.98 | K251: 102696.92 | L251: 91875 | Q251: =SUM(E251:P251) -> 923242.34 | U251: =IF($E$5=Master!$D$4,E251, IF($F$5=Master!$D$4,SUM(E251:F251), IF($G$5=Master!$D$4,SUM(E251:G251), IF($H$5=Master!$D$4,SUM(E251:H251), IF($I$5=Master!$D$4,SUM(E251:I251), IF($J$5=Master!$D$4,SUM(E251:J251), IF($K$5=Master!$D$4,SUM(E251:K251), IF($L$5=Master!$D$4,SUM(E251:L251), IF($M$5=Master!$D$4,SUM(E251:M251), IF($N$5=Master!$D$4,SUM(E251:N251), IF($O$5=Master!$D$4,SUM(E251:O251), IF($P$5=Master!$D$4,SUM(E251:P251),0)))))))))))) -> 923242.34
E257: PLAN - 2024
E258: Januar | F258: Februar | G258: Mart | H258: April | I258: Maj | J258: Jun | K258: Jul | L258: Avgust | M258: Septembar | N258: Oktobar | O258: Novembar | P258: Decembar | Q258: TOTAL | U258: TOTAL
C259: Prog. Klas. | D259: OPIS
C260: UKUPNO | E260: =SUM(E261:E504) -> 2.2054962e+08 | F260: =SUM(F261:F504) -> 2.4082704e+08 | G260: =SUM(G261:G504) -> 2.9871311e+08 | H260: =SUM(H261:H504) -> 3.6626301e+08 | I260: =SUM(I261:I504) -> 2.9785065e+08 | J260: =SUM(J261:J504) -> 2.885782e+08 | K260: =SUM(K261:K504) -> 3.0131531e+08 | L260: =SUM(L261:L504) -> 2.3987312e+08 | ... Q260: =SUM(Q261:Q504) -> 3.4783658e+09 | U260: =SUM(U261:U504) -> 2.2539701e+09
C261: 11 009 003 | D261: Djelovanje Državne izborne komisije | E261: 42388.4 | F261: 41448.4 | G261: 41448.4 | H261: 41448.4 | I261: 41448.4 | J261: 41448.4 | K261: 41448.4 | L261: 40508.4 | M261: 41448.4 | N261: 41448.4 | O261: 41448.4 | P261: 41448.6 | Q261: =SUM(E261:P261) -> 497381 | U261: =IF($E$5=Master!$D$4,E261, IF($F$5=Master!$D$4,SUM(E261:F261), IF($G$5=Master!$D$4,SUM(E261:G261), IF($H$5=Master!$D$4,SUM(E261:H261), IF($I$5=Master!$D$4,SUM(E261:I261), IF($J$5=Master!$D$4,SUM(E261:J261), IF($K$5=Master!$D$4,SUM(E261:K261), IF($L$5=Master!$D$4,SUM(E261:L261), IF($M$5=Master!$D$4,SUM(E261:M261), IF($N$5=Master!$D$4,SUM(E261:N261), IF($O$5=Master!$D$4,SUM(E261:O261), IF($P$5=Master!$D$4,SUM(E261:P261),0)))))))))))) -> 331587.2
C262: 11 011 001 | D262: Stručni i operativni poslovi Savjeta za građansku kontrolu rada policije | E262: 3658.42 | F262: 3658.42 | G262: 3658.42 | H262: 3658.42 | I262: 3658.42 | J262: 3658.42 | K262: 3658.42 | L262: 3658.42 | M262: 3658.42 | N262: 3658.42 | O262: 3658.42 | P262: 3658.38 | Q262: =SUM(E262:P262) -> 43901 | U262: =IF($E$5=Master!$D$4,E262, IF($F$5=Master!$D$4,SUM(E262:F262), IF($G$5=Master!$D$4,SUM(E262:G262), IF($H$5=Master!$D$4,SUM(E262:H262), IF($I$5=Master!$D$4,SUM(E262:I262), IF($J$5=Master!$D$4,SUM(E262:J262), IF($K$5=Master!$D$4,SUM(E262:K262), IF($L$5=Master!$D$4,SUM(E262:L262), IF($M$5=Master!$D$4,SUM(E262:M262), IF($N$5=Master!$D$4,SUM(E262:N262), IF($O$5=Master!$D$4,SUM(E262:O262), IF($P$5=Master!$D$4,SUM(E262:P262),0)))))))))))) -> 29267.36
C263: 11 018 001 | D263: Stabilizacija i pridruživanje i pristupanje Crne Gore Evropskoj uniji | E263: 94149.45 | F263: 136945.93 | G263: 132173.92 | H263: 155772.58 | I263: 133048.09 | J263: 131737.24 | K263: 162521.53 | L263: 122853.31 | M263: 142797.43 | N263: 216676.51 | O263: 111295.61 | P263: 262983.67 | Q263: =SUM(E263:P263) -> 1802955.3 | U263: =IF($E$5=Master!$D$4,E263, IF($F$5=Master!$D$4,SUM(E263:F263), IF($G$5=Master!$D$4,SUM(E263:G263), IF($H$5=Master!$D$4,SUM(E263:H263), IF($I$5=Master!$D$4,SUM(E263:I263), IF($J$5=Master!$D$4,SUM(E263:J263), IF($K$5=Master!$D$4,SUM(E263:K263), IF($L$5=Master!$D$4,SUM(E263:L263), IF($M$5=Master!$D$4,SUM(E263:M263), IF($N$5=Master!$D$4,SUM(E263:N263), IF($O$5=Master!$D$4,SUM(E263:O263), IF($P$5=Master!$D$4,SUM(E263:P263),0)))))))))))) -> 1069202
C264: 11 019 001 | D264: Stručni i operativni poslovi Ministarstva evropskih poslova | E264: 44744.09 | F264: 45693.68 | G264: 43064.36 | H264: 42433.81 | I264: 42722.23 | J264: 44875 | K264: 40741.11 | L264: 38695.65 | M264: 35666.3 | N264: 65757.89 | O264: 44984.09 | P264: 53911.78 | Q264: =SUM(E264:P264) -> 543289.99 | U264: =IF($E$5=Master!$D$4,E264, IF($F$5=Master!$D$4,SUM(E264:F264), IF($G$5=Master!$D$4,SUM(E264:G264), IF($H$5=Master!$D$4,SUM(E264:H264), IF($I$5=Master!$D$4,SUM(E264:I264), IF($J$5=Master!$D$4,SUM(E264:J264), IF($K$5=Master!$D$4,SUM(E264:K264), IF($L$5=Master!$D$4,SUM(E264:L264), IF($M$5=Master!$D$4,SUM(E264:M264), IF($N$5=Master!$D$4,SUM(E264:N264), IF($O$5=Master!$D$4,SUM(E264:O264), IF($P$5=Master!$D$4,SUM(E264:P264),0)))))))))))) -> 342969.93
C265: 11 023 003 | D265: Djelovanje Uprave za ljudske resurse | E265: 179307.72 | F265: 181969.72 | G265: 182990.72 | H265: 195582.72 | I265: 195682.72 | J265: 179888.32 | K265: 177417.49 | L265: 174552.05 | M265: 174316.72 | N265: 174236.72 | O265: 174236.72 | P265: 174229.96 | Q265: =SUM(E265:P265) -> 2164411.6 | U265: =IF($E$5=Master!$D$4,E265, IF($F$5=Master!$D$4,SUM(E265:F265), IF($G$5=Master!$D$4,SUM(E265:G265), IF($H$5=Master!$D$4,SUM(E265:H265), IF($I$5=Master!$D$4,SUM(E265:I265), IF($J$5=Master!$D$4,SUM(E265:J265), IF($K$5=Master!$D$4,SUM(E265:K265), IF($L$5=Master!$D$4,SUM(E265:L265), IF($M$5=Master!$D$4,SUM(E265:M265), IF($N$5=Master!$D$4,SUM(E265:N265), IF($O$5=Master!$D$4,SUM(E265:O265), IF($P$5=Master!$D$4,SUM(E265:P265),0)))))))))))) -> 1467391.5
C266: 11 024 002 | D266: Koordinirani inspekcijski nadzor | E266: 556734.89 | F266: 601818.71 | G266: 596579.25 | H266: 597295.97 | I266: 595759.25 | J266: 616096.57 | K266: 617595.06 | L266: 617142.07 | M266: 675940.52 | N266: 603410.24 | O266: 589901.51 | P266: 599181.83 | Q266: =SUM(E266:P266) -> 7267455.9 | U266: =IF($E$5=Master!$D$4,E266, IF($F$5=Master!$D$4,SUM(E266:F266), IF($G$5=Master!$D$4,SUM(E266:G266), IF($H$5=Master!$D$4,SUM(E266:H266), IF($I$5=Master!$D$4,SUM(E266:I266), IF($J$5=Master!$D$4,SUM(E266:J266), IF($K$5=Master!$D$4,SUM(E266:K266), IF($L$5=Master!$D$4,SUM(E266:L266), IF($M$5=Master!$D$4,SUM(E266:M266), IF($N$5=Master!$D$4,SUM(E266:N266), IF($O$5=Master!$D$4,SUM(E266:O266), IF($P$5=Master!$D$4,SUM(E266:P266),0)))))))))))) -> 4799021.8
C267: 11 033 002 | D267: Stručni i operativni poslovi i međunarodna saradnja u oblasti sprječavanja korupcije | E267: 80427.09 | F267: 81966.41 | G267: 124277.51 | H267: 81884.63 | I267: 90807 | J267: 116507.45 | K267: 105456.6 | L267: 81900.37 | M267: 104342.2 | N267: 91442.76 | O267: 77854.44 | P267: 214939.54 | Q267: =SUM(E267:P267) -> 1251806 | U267: =IF($E$5=Master!$D$4,E267, IF($F$5=Master!$D$4,SUM(E267:F267), IF($G$5=Master!$D$4,SUM(E267:G267), IF($H$5=Master!$D$4,SUM(E267:H267), IF($I$5=Master!$D$4,SUM(E267:I267), IF($J$5=Master!$D$4,SUM(E267:J267), IF($K$5=Master!$D$4,SUM(E267:K267), IF($L$5=Master!$D$4,SUM(E267:L267), IF($M$5=Master!$D$4,SUM(E267:M267), IF($N$5=Master!$D$4,SUM(E267:N267), IF($O$5=Master!$D$4,SUM(E267:O267), IF($P$5=Master!$D$4,SUM(E267:P267),0)))))))))))) -> 763227.06
C268: 11 033 003 | D268: Prevencija korupcije | E268: 86158.97 | F268: 85364.52 | G268: 128660.18 | H268: 126839.44 | I268: 129772.18 | J268: 131363.34 | K268: 92565.11 | L268: 86331.87 | M268: 99107.68 | N268: 87439.52 | O268: 81472.12 | P268: 83119.07 | Q268: =SUM(E268:P268) -> 1218194 | U268: =IF($E$5=Master!$D$4,E268, IF($F$5=Master!$D$4,SUM(E268:F268), IF($G$5=Master!$D$4,SUM(E268:G268), IF($H$5=Master!$D$4,SUM(E268:H268), IF($I$5=Master!$D$4,SUM(E268:I268), IF($J$5=Master!$D$4,SUM(E268:J268), IF($K$5=Master!$D$4,SUM(E268:K268), IF($L$5=Master!$D$4,SUM(E268:L268), IF($M$5=Master!$D$4,SUM(E268:M268), IF($N$5=Master!$D$4,SUM(E268:N268), IF($O$5=Master!$D$4,SUM(E268:O268), IF($P$5=Master!$D$4,SUM(E268:P268),0)))))))))))) -> 867055.61
C269: 11 034 002 | D269: Djelatnost Službenog lista Crne Gore | E269: 0 | F269: 18214.56 | G269: 13514.56 | H269: 29643.69 | I269: 13214.56 | J269: 13214.56 | K269: 17321.84 | L269: 17321.84 | M269: 17321.84 | N269: 17321.85 | O269: 13214.56 | P269: 6996.14 | Q269: =SUM(E269:P269) -> 177300 | U269: =IF($E$5=Master!$D$4,E269, IF($F$5=Master!$D$4,SUM(E269:F269), IF($G$5=Master!$D$4,SUM(E269:G269), IF($H$5=Master!$D$4,SUM(E269:H269), IF($I$5=Master!$D$4,SUM(E269:I269), IF($J$5=Master!$D$4,SUM(E269:J269), IF($K$5=Master!$D$4,SUM(E269:K269), IF($L$5=Master!$D$4,SUM(E269:L269), IF($M$5=Master!$D$4,SUM(E269:M269), IF($N$5=Master!$D$4,SUM(E269:N269), IF($O$5=Master!$D$4,SUM(E269:O269), IF($P$5=Master!$D$4,SUM(E269:P269),0)))))))))))) -> 122445.61
C270: 11 047 001 | D270: Djelovanje Predsjednika Crne Gore | E270: 151345.95 | F270: 124714.14 | G270: 126799.8 | H270: 127578.19 | I270: 127715.28 | J270: 110297.8 | K270: 111537.7 | L270: 115067.2 | M270: 112202.8 | N270: 117061.5 | O270: 112822.41 | P270: 118696.59 | Q270: =SUM(E270:P270) -> 1455839.4 | U270: =IF($E$5=Master!$D$4,E270, IF($F$5=Master!$D$4,SUM(E270:F270), IF($G$5=Master!$D$4,SUM(E270:G270), IF($H$5=Master!$D$4,SUM(E270:H270), IF($I$5=Master!$D$4,SUM(E270:I270), IF($J$5=Master!$D$4,SUM(E270:J270), IF($K$5=Master!$D$4,SUM(E270:K270), IF($L$5=Master!$D$4,SUM(E270:L270), IF($M$5=Master!$D$4,SUM(E270:M270), IF($N$5=Master!$D$4,SUM(E270:N270), IF($O$5=Master!$D$4,SUM(E270:O270), IF($P$5=Master!$D$4,SUM(E270:P270),0)))))))))))) -> 995056.06
C271: 11 048 001 | D271: Zakonodavna, kontrolna i predstavnička funkcija Skupštine Crne Gore | E271: 410560.75 | F271: 489705.53 | G271: 503250.77 | H271: 588013.71 | I271: 442557.44 | J271: 519121.71 | K271: 498716.47 | L271: 504378.2 | M271: 358654.88 | N271: 372531.77 | O271: 363932.63 | P271: 427120.58 | Q271: =SUM(E271:P271) -> 5478544.4 | U271: =IF($E$5=Master!$D$4,E271, IF($F$5=Master!$D$4,SUM(E271:F271), IF($G$5=Master!$D$4,SUM(E271:G271), IF($H$5=Master!$D$4,SUM(E271:H271), IF($I$5=Master!$D$4,SUM(E271:I271), IF($J$5=Master!$D$4,SUM(E271:J271), IF($K$5=Master!$D$4,SUM(E271:K271), IF($L$5=Master!$D$4,SUM(E271:L271), IF($M$5=Master!$D$4,SUM(E271:M271), IF($N$5=Master!$D$4,SUM(E271:N271), IF($O$5=Master!$D$4,SUM(E271:O271), IF($P$5=Master!$D$4,SUM(E271:P271),0)))))))))))) -> 3956304.6
C272: 11 048 002 | D272: Stručni i operativni poslovi Skupštine Crne Gore | E272: 396629.58 | F272: 741794.69 | G272: 536550.08 | H272: 437329.91 | I272: 469969.73 | J272: 478165.43 | K272: 452464.08 | L272: 521577.31 | M272: 494329.36 | N272: 464036.25 | O272: 430318.54 | P272: 488933.62 | Q272: =SUM(E272:P272) -> 5912098.6 | U272: =IF($E$5=Master!$D$4,E272, IF($F$5=Master!$D$4,SUM(E272:F272), IF($G$5=Master!$D$4,SUM(E272:G272), IF($H$5=Master!$D$4,SUM(E272:H272), IF($I$5=Master!$D$4,SUM(E272:I272), IF($J$5=Master!$D$4,SUM(E272:J272), IF($K$5=Master!$D$4,SUM(E272:K272), IF($L$5=Master!$D$4,SUM(E272:L272), IF($M$5=Master!$D$4,SUM(E272:M272), IF($N$5=Master!$D$4,SUM(E272:N272), IF($O$5=Master!$D$4,SUM(E272:O272), IF($P$5=Master!$D$4,SUM(E272:P272),0)))))))))))) -> 4034480.8
... C504: 22 026 001 | D504: Stručni i operativni poslovi Ministarstva rada i socijalnog staranja | E504: 207424.87 | F504: 220881.15 | G504: 196691.04 | H504: 186928.43 | I504: 251733.22 | J504: 187690.58 | K504: 194474.86 | L504: 197817 | M504: 201502.23 | N504: 217935.84 | O504: 210266.44 | P504: 241210.52 | Q504: =SUM(E504:P504) -> 2514556.2 | U504: =IF($E$5=Master!$D$4,E504, IF($F$5=Master!$D$4,SUM(E504:F504), IF($G$5=Master!$D$4,SUM(E504:G504), IF($H$5=Master!$D$4,SUM(E504:H504), IF($I$5=Master!$D$4,SUM(E504:I504), IF($J$5=Master!$D$4,SUM(E504:J504), IF($K$5=Master!$D$4,SUM(E504:K504), IF($L$5=Master!$D$4,SUM(E504:L504), IF($M$5=Master!$D$4,SUM(E504:M504), IF($N$5=Master!$D$4,SUM(E504:N504), IF($O$5=Master!$D$4,SUM(E504:O504), IF($P$5=Master!$D$4,SUM(E504:P504),0)))))))))))) -> 1643641.2
